BEGIN:VCALENDAR
VERSION:2.0
PRODID:-//The Town of Rutland, Vermont - ECPv6.15.20//NONSGML v1.0//EN
CALSCALE:GREGORIAN
METHOD:PUBLISH
X-ORIGINAL-URL:https://www.rutlandtown.com
X-WR-CALDESC:Events for The Town of Rutland, Vermont
REFRESH-INTERVAL;VALUE=DURATION:PT1H
X-Robots-Tag:noindex
X-PUBLISHED-TTL:PT1H
BEGIN:VTIMEZONE
TZID:UTC
BEGIN:STANDARD
TZOFFSETFROM:+0000
TZOFFSETTO:+0000
TZNAME:UTC
DTSTART:20200101T000000
END:STANDARD
END:VTIMEZONE
BEGIN:VEVENT
DTSTART;TZID=UTC:20210811T090000
DTEND;TZID=UTC:20210811T100000
DTSTAMP:20260426T033759
CREATED:20210723T171251Z
LAST-MODIFIED:20210723T171251Z
UID:10000603-1628672400-1628676000@www.rutlandtown.com
SUMMARY:Building Committee Meeting
DESCRIPTION:Building Committee Agenda 8-11-2021 \nTOWN OF RUTLAND \nBUILDING / TECHNOLOGY COMMITTEE MEETING \nWednesday August 11th\, 2021 9:00 AM \nTo participate via zoom please call (646) 558-8656 or visit zoom.us/join and enter meeting ID 939 1518 8696.  Any member of the public is welcome to join.  \n  \nLocation – Town Hall or zoom conferencing \nAgenda: \n\nWar memorial project\nReview / Update 5-year plan\nCapital improvement project list\nMaking land records accessible online\nTown Hall cleaning services\nPurchase of Air Purifiers\nEV Charging Station offer\nRemodel of the downstairs\nAny other business\n\n 
URL:https://www.rutlandtown.com/event/building-committee-meeting/
LOCATION:Town of Rutland Municipal Building\, 181Business Route 4\, Center Rutland\, VT\, 05736\, United States
CATEGORIES:Committee Meeting
END:VEVENT
BEGIN:VEVENT
DTSTART;TZID=UTC:20210811T123000
DTEND;TZID=UTC:20210811T130000
DTSTAMP:20260426T033759
CREATED:20210806T174413Z
LAST-MODIFIED:20210810T173327Z
UID:10000586-1628685000-1628686800@www.rutlandtown.com
SUMMARY:Transfer Station Committee Meeting
DESCRIPTION:Transfer Station Committee Agenda 8-11-2021 \nTOWN OF RUTLAND \nTRANSFER STATION COMMITTEE MEETING \nWednesday August 11th\,2021 12:30 PM \nLocation: Rutland Town Municipal Building\, or Zoom Conference Call Line \nTo participate via zoom call (646) 558-8656 or \nvisit Zoom.us/join and enter meeting ID 939 1518 8696. \n  \nAgenda: \n\nResearch recycling alternatives\, such as organic recycling\nTransfer station bathroom\nUpdate the station management plan\nAny other business
URL:https://www.rutlandtown.com/event/transfer-station-committee-meeting/
LOCATION:Town of Rutland Municipal Building\, 181Business Route 4\, Center Rutland\, VT\, 05736\, United States
CATEGORIES:Committee Meeting
END:VEVENT
BEGIN:VEVENT
DTSTART;TZID=UTC:20210811T130000
DTEND;TZID=UTC:20210811T140000
DTSTAMP:20260426T033759
CREATED:20210806T174043Z
LAST-MODIFIED:20210806T174043Z
UID:10000588-1628686800-1628690400@www.rutlandtown.com
SUMMARY:Personnel Committee Meeting
DESCRIPTION:Personnel Committee Agenda 8-11-2021 \nTOWN OF RUTLAND \nPERSONNEL / FINANCE COMMITTEE MEETING \nWednesday August 11th\,2021 1:00 PM \nLocation: Rutland Town Municipal Building\, or Zoom Conference Call Line \nTo participate via zoom call (646) 558-8656 or \nvisit Zoom.us/join and enter meeting ID 939 1518 8696. \nAgenda: \n\nEmployee Reimbursement\nSuccession Planning\nReview List of Holidays the Office is Closed\nReview the Personnel Policy\nDiscusses Any New Policies or Ordinances Needed\nAny other business
URL:https://www.rutlandtown.com/event/personnel-committee-meeting/
LOCATION:Town of Rutland Municipal Building\, 181Business Route 4\, Center Rutland\, VT\, 05736\, United States
CATEGORIES:Committee Meeting
END:VEVENT
END:VCALENDAR