BEGIN:VCALENDAR
VERSION:2.0
PRODID:-//The Town of Rutland, Vermont - ECPv6.15.20//NONSGML v1.0//EN
CALSCALE:GREGORIAN
METHOD:PUBLISH
X-ORIGINAL-URL:https://www.rutlandtown.com
X-WR-CALDESC:Events for The Town of Rutland, Vermont
REFRESH-INTERVAL;VALUE=DURATION:PT1H
X-Robots-Tag:noindex
X-PUBLISHED-TTL:PT1H
BEGIN:VTIMEZONE
TZID:UTC
BEGIN:STANDARD
TZOFFSETFROM:+0000
TZOFFSETTO:+0000
TZNAME:UTC
DTSTART:20200101T000000
END:STANDARD
END:VTIMEZONE
BEGIN:VEVENT
DTSTART;TZID=UTC:20211115T090000
DTEND;TZID=UTC:20211115T100000
DTSTAMP:20260424T154959
CREATED:20211110T160308Z
LAST-MODIFIED:20211110T160308Z
UID:10000580-1636966800-1636970400@www.rutlandtown.com
SUMMARY:Police Committee Meeting
DESCRIPTION:Police Committee Agenda 11-15-2021 \nRUTLAND TOWN SELECTBOARD COMMITTEE MEETING \nPOLICE COMMITTEE  \nMonday November 15th \,2021 9:00 AM \nLocation: Rutland Town Municipal Town Hall and Zoom Conferencing \n  \nTo attend in person\, masks are required\, and you must be considered fully vaccinated against the covid-19 virus. \nIf you are not\, please use our zoom option to attend remotely. \nTo participate via zoom please call (646) 558-8656 or visit zoom.us/join and enter meeting ID 939 1518 8696. \n  \nAgenda: \n\nDiscuss budget planning for the next fiscal year\nAny other business
URL:https://www.rutlandtown.com/event/police-committee-meeting-2/
LOCATION:Town of Rutland Municipal Building\, 181Business Route 4\, Center Rutland\, VT\, 05736\, United States
CATEGORIES:Committee Meeting
END:VEVENT
END:VCALENDAR