BEGIN:VCALENDAR
VERSION:2.0
PRODID:-//The Town of Rutland, Vermont - ECPv6.15.20//NONSGML v1.0//EN
CALSCALE:GREGORIAN
METHOD:PUBLISH
X-WR-CALNAME:The Town of Rutland, Vermont
X-ORIGINAL-URL:https://www.rutlandtown.com
X-WR-CALDESC:Events for The Town of Rutland, Vermont
REFRESH-INTERVAL;VALUE=DURATION:PT1H
X-Robots-Tag:noindex
X-PUBLISHED-TTL:PT1H
BEGIN:VTIMEZONE
TZID:UTC
BEGIN:STANDARD
TZOFFSETFROM:+0000
TZOFFSETTO:+0000
TZNAME:UTC
DTSTART:20200101T000000
END:STANDARD
END:VTIMEZONE
BEGIN:VEVENT
DTSTART;TZID=UTC:20211116T090000
DTEND;TZID=UTC:20211116T100000
DTSTAMP:20260424T204718
CREATED:20211026T143110Z
LAST-MODIFIED:20211101T130501Z
UID:10000445-1637053200-1637056800@www.rutlandtown.com
SUMMARY:Board of Civil Authority Meeting
DESCRIPTION:BCA Agenda 11.16.2021 \nBoard of Civil Authority Meeting \n Town Hall Select Board Room \n or via ZOOM Conferencing    \nTuesday November 16\, 2021 at 9:00 am \n To participate via zoom please call (646) 558-8656 or visit zoom.us/join and enter meeting ID 939 1518 8696 \n  \n  \nAgenda: \n  \n  \n\nAbatement request of parcel 00143-1326\, Willis\n\n  \n\nAbatement request of Turner Property on Business Rt 4\, Ruggerio\n\n  \n\nBusiness Personal Property – Listers\n\n  \n\nAny other business to come before the board\n\n 
URL:https://www.rutlandtown.com/event/bca-meeting/
LOCATION:Town of Rutland Municipal Building\, 181Business Route 4\, Center Rutland\, VT\, 05736\, United States
CATEGORIES:Committee Meeting
END:VEVENT
BEGIN:VEVENT
DTSTART;TZID=UTC:20211116T113000
DTEND;TZID=UTC:20211116T123000
DTSTAMP:20260424T204718
CREATED:20211103T160007Z
LAST-MODIFIED:20211103T160236Z
UID:10000573-1637062200-1637065800@www.rutlandtown.com
SUMMARY:Rutland Town Senior Luncheon
DESCRIPTION:All Rutland Town seniors are welcome to join. \nLunch is paid for by the Town of Rutland.
URL:https://www.rutlandtown.com/event/rutland-town-senior-luncheon/
LOCATION:Dennys\, 361 US Route 7 South\, Rutland\, 05701
CATEGORIES:Community
END:VEVENT
BEGIN:VEVENT
DTSTART;TZID=UTC:20211116T180000
DTEND;TZID=UTC:20211116T200000
DTSTAMP:20260424T204718
CREATED:20211110T155233Z
LAST-MODIFIED:20211110T155233Z
UID:10000578-1637085600-1637092800@www.rutlandtown.com
SUMMARY:Special Selectboard Meeting
DESCRIPTION:Special Selectboard Agenda 11-16-2021 \nTOWN OF RUTLAND SELECTBOARD  \nSPECIAL MEETING AGENDA FOR TUESDAY NOVEMBER 16th  \nLocation: Rutland Town Municipal Town Hall \nMeeting Time – 6:00 PM \nTo attend in person\, masks are required\, and you must be considered fully vaccinated against the covid-19 virus. \nIf you are not\, please use our zoom option to attend remotely. \nTo participate via zoom please call (646) 558-8656 or visit zoom.us/join and enter meeting ID 939 1518 8696. \nNew Business \n\nBoard to meet in executive session with individuals who submitted letters of interest for the 1st constable position\nAny other new business\n\nOld Business \n\nAny old business
URL:https://www.rutlandtown.com/event/special-selectboard-meeting-2/
LOCATION:Town of Rutland Municipal Building\, 181Business Route 4\, Center Rutland\, VT\, 05736\, United States
CATEGORIES:Select Board
END:VEVENT
END:VCALENDAR