BEGIN:VCALENDAR
VERSION:2.0
PRODID:-//The Town of Rutland, Vermont - ECPv6.15.20//NONSGML v1.0//EN
CALSCALE:GREGORIAN
METHOD:PUBLISH
X-ORIGINAL-URL:https://www.rutlandtown.com
X-WR-CALDESC:Events for The Town of Rutland, Vermont
REFRESH-INTERVAL;VALUE=DURATION:PT1H
X-Robots-Tag:noindex
X-PUBLISHED-TTL:PT1H
BEGIN:VTIMEZONE
TZID:UTC
BEGIN:STANDARD
TZOFFSETFROM:+0000
TZOFFSETTO:+0000
TZNAME:UTC
DTSTART:20200101T000000
END:STANDARD
END:VTIMEZONE
BEGIN:VEVENT
DTSTART;TZID=UTC:20211118T090000
DTEND;TZID=UTC:20211118T100000
DTSTAMP:20260424T181026
CREATED:20211115T202337Z
LAST-MODIFIED:20211116T141339Z
UID:10000584-1637226000-1637229600@www.rutlandtown.com
SUMMARY:Highway Committee Meeting
DESCRIPTION:Highway Committee Agenda 11-18-2021 \nRUTLAND TOWN SELECTBOARD COMMITTEE MEETING \nHIGHWAY COMMITTEE  \nThursday November 18th \,2021 9:00 AM \nLocation: Rutland Town Municipal Town Hall and Zoom Conferencing \n  \nTo attend in person\, masks are required\, and you must be considered fully vaccinated against the covid-19 virus. \nIf you are not\, please use our zoom option to attend remotely. \nTo participate via zoom please call (646) 558-8656 or visit zoom.us/join and enter meeting ID 939 1518 8696. \n  \nAgenda: \n\nDiscuss budget planning for the next fiscal year\nAny other business
URL:https://www.rutlandtown.com/event/highway-committee-agenda-11-18-2021/
LOCATION:Town of Rutland Municipal Building\, 181Business Route 4\, Center Rutland\, VT\, 05736\, United States
CATEGORIES:Committee Meeting
END:VEVENT
BEGIN:VEVENT
DTSTART;TZID=UTC:20211118T154500
DTEND;TZID=UTC:20211118T164500
DTSTAMP:20260424T181026
CREATED:20211116T134726Z
LAST-MODIFIED:20211116T134726Z
UID:10000606-1637250300-1637253900@www.rutlandtown.com
SUMMARY:Fire Committee Meeting
DESCRIPTION:Fire Committee Agenda 11-18-2021 \nRUTLAND TOWN SELECTBOARD COMMITTEE MEETING \nFIRE COMMITTEE  \nThursday November 18th \,2021 3:45 PM \nLocation: Rutland Town Municipal Town Hall and Zoom Conferencing \n  \nTo attend in person\, masks are required\, and you must be considered fully vaccinated against the covid-19 virus. \nIf you are not\, please use our zoom option to attend remotely. \nTo participate via zoom please call (646) 558-8656 or visit zoom.us/join and enter meeting ID 939 1518 8696. \n  \nAgenda: \n\nDiscuss budget planning for the next fiscal year\nDiscuss list of Ordinances needing review\n\nAbatement of Fire Hazards\nFire Alarm\nOpen Burning\nPrivate Fire Hydrant\n\n\nAny other business
URL:https://www.rutlandtown.com/event/fire-committee-meeting/
LOCATION:Town of Rutland Municipal Building\, 181Business Route 4\, Center Rutland\, VT\, 05736\, United States
CATEGORIES:Committee Meeting
END:VEVENT
BEGIN:VEVENT
DTSTART;TZID=UTC:20211118T183000
DTEND;TZID=UTC:20211118T200000
DTSTAMP:20260424T181026
CREATED:20210715T124556Z
LAST-MODIFIED:20211115T154412Z
UID:10000368-1637260200-1637265600@www.rutlandtown.com
SUMMARY:Town of Rutland Planning Commission Meeting
DESCRIPTION:Planning Commission Agenda 11-18-2021 \nClick HERE to join the meeting remotely. \nTOWN OF RUTLAND PLANNING COMMISSION AGENDA \nTHURSDAY\, November 18\, 2021  \nLocation: Rutland Town Municipal Town Hall and Zoom Conferencing  \nOpen Meeting – 6:30 PM  \n  \nTo attend in person\, you must wear a mask and be fully vaccinated.  \nIf you are not\, please use our zoom option to attend remotely.  \nTo participate via zoom please call (646) 558-8656 or visit zoom.us/join and enter meeting ID 985 4127 6671.  \n Call to Order/ Pledge of Allegiance \n  \nApproval of Agenda \n  \nPublic Comment \n  \nNew Business \n\nFY23 Budget\n\nOld Business \n\nReport from Select Board meeting\nReview Snowstone ruling on one-acre development and Kevin Brown’s advice\nWork on new ordinances\nPocket Park update\n\nAnnouncements/News \n  \nApproval of Minutes \n\nOctober 28\, 2021\n\nAdjournment
URL:https://www.rutlandtown.com/event/town-of-rutland-planning-commission-meeting-2-2021-11-18/
LOCATION:Town of Rutland Municipal Building\, 181Business Route 4\, Center Rutland\, VT\, 05736\, United States
CATEGORIES:Planning Commission
END:VEVENT
END:VCALENDAR