BEGIN:VCALENDAR
VERSION:2.0
PRODID:-//The Town of Rutland, Vermont - ECPv6.15.20//NONSGML v1.0//EN
CALSCALE:GREGORIAN
METHOD:PUBLISH
X-ORIGINAL-URL:https://www.rutlandtown.com
X-WR-CALDESC:Events for The Town of Rutland, Vermont
REFRESH-INTERVAL;VALUE=DURATION:PT1H
X-Robots-Tag:noindex
X-PUBLISHED-TTL:PT1H
BEGIN:VTIMEZONE
TZID:UTC
BEGIN:STANDARD
TZOFFSETFROM:+0000
TZOFFSETTO:+0000
TZNAME:UTC
DTSTART:20200101T000000
END:STANDARD
END:VTIMEZONE
BEGIN:VTIMEZONE
TZID:America/New_York
BEGIN:DAYLIGHT
TZOFFSETFROM:-0500
TZOFFSETTO:-0400
TZNAME:EDT
DTSTART:20200308T070000
END:DAYLIGHT
BEGIN:STANDARD
TZOFFSETFROM:-0400
TZOFFSETTO:-0500
TZNAME:EST
DTSTART:20201101T060000
END:STANDARD
BEGIN:DAYLIGHT
TZOFFSETFROM:-0500
TZOFFSETTO:-0400
TZNAME:EDT
DTSTART:20210314T070000
END:DAYLIGHT
BEGIN:STANDARD
TZOFFSETFROM:-0400
TZOFFSETTO:-0500
TZNAME:EST
DTSTART:20211107T060000
END:STANDARD
BEGIN:DAYLIGHT
TZOFFSETFROM:-0500
TZOFFSETTO:-0400
TZNAME:EDT
DTSTART:20220313T070000
END:DAYLIGHT
BEGIN:STANDARD
TZOFFSETFROM:-0400
TZOFFSETTO:-0500
TZNAME:EST
DTSTART:20221106T060000
END:STANDARD
END:VTIMEZONE
BEGIN:VEVENT
DTSTART;VALUE=DATE:20211207
DTEND;VALUE=DATE:20211208
DTSTAMP:20260424T142432
CREATED:20211103T160139Z
LAST-MODIFIED:20211103T160139Z
UID:10000574-1638835200-1638921599@www.rutlandtown.com
SUMMARY:Rutland Town Senior Luncheon
DESCRIPTION:Details are to be determined.
URL:https://www.rutlandtown.com/event/rutland-town-senior-luncheon-2/
LOCATION:VT\, United States
CATEGORIES:Community
END:VEVENT
BEGIN:VEVENT
DTSTART;TZID=UTC:20211207T113000
DTEND;TZID=UTC:20211207T130000
DTSTAMP:20260424T142432
CREATED:20211110T162513Z
LAST-MODIFIED:20211110T162513Z
UID:10000582-1638876600-1638882000@www.rutlandtown.com
SUMMARY:Senior Luncheon
DESCRIPTION:The December Senior Luncheon will be held at Grace Church\, on West Street\, on Tuesday December 7th starting at 11:30AM. \nThe Rutland Town School band is providing music for the lunch. \nAll Rutland Town seniors are welcome to attend!
URL:https://www.rutlandtown.com/event/senior-luncheon/
LOCATION:VT\, United States
CATEGORIES:Community
END:VEVENT
BEGIN:VEVENT
DTSTART;TZID=America/New_York:20211207T180000
DTEND;TZID=America/New_York:20211207T200000
DTSTAMP:20260424T142432
CREATED:20210628T161919Z
LAST-MODIFIED:20211202T150738Z
UID:10000426-1638900000-1638907200@www.rutlandtown.com
SUMMARY:Town of Rutland Selectboard Meeting
DESCRIPTION:Selectboard Agenda 12-7-2021 \nClick HERE to join the meeting remotely. \nTOWN OF RUTLAND SELECTBOARD \nPUBLIC MEETING AGENDA FOR TUESDAY DECEMBER 7th\, 2021 \n  \nLocation: Rutland Town Municipal Town Hall and Zoom Conferencing \nOpen Meeting – 6:00 PM \n  \nTo attend in person\, masks are required\, and you must be considered fully vaccinated against the covid-19 virus. \nIf you are not\, please use our zoom option to attend remotely. \nTo participate via zoom please call (646) 558-8656 or visit zoom.us/join and enter meeting ID 939 1518 8696. \nMeeting Opening \n\nPledge of Allegiance\nApproval of Orders\nApproval of Selectboard Minutes: November 23rd and 24th\n\nQuestions from the floor: Public Comment \n\nAny member of the public who is not already included on the agenda.\n\nDepartment Head Reports \n\nKari Clark – Town Clerk & Treasurer\nEd Dumas – Town Police Chief\nChris Clark – Town Fire Chief\nMike Rowe – Town Recreation Director\nBarbara Pulling – Town Planning Commission Chair\nBill Sweet – Town Administrative Assistant\nJohn Paul Faignant – Town Health Officer\nCommittee Meeting Updates / Schedule Committee Meetings\n\nPolice Committee\n\n\nUpdate on Project List\n\nNew Business \n\nBoard to ratify the mask rule passed on November 24th\nBoard to discuss supplemental pay for the highway crew\nBoard to discuss setting January 10th as the pre-town meeting date\nBoard to review and discuss bids received for Town Highway truck\nBoard to discuss tentative settlement of pending litigation in executive session\nAny other new business\n\nOld Business \n\nBoard to discuss succession planning and storage of department records\nAny old business
URL:https://www.rutlandtown.com/event/select-board-meeting-2021-07-20-2021-08-31-2021-12-07/
LOCATION:Town of Rutland Municipal Building\, 181Business Route 4\, Center Rutland\, VT\, 05736\, United States
CATEGORIES:Select Board
END:VEVENT
END:VCALENDAR