BEGIN:VCALENDAR
VERSION:2.0
PRODID:-//The Town of Rutland, Vermont - ECPv6.15.20//NONSGML v1.0//EN
CALSCALE:GREGORIAN
METHOD:PUBLISH
X-WR-CALNAME:The Town of Rutland, Vermont
X-ORIGINAL-URL:https://www.rutlandtown.com
X-WR-CALDESC:Events for The Town of Rutland, Vermont
REFRESH-INTERVAL;VALUE=DURATION:PT1H
X-Robots-Tag:noindex
X-PUBLISHED-TTL:PT1H
BEGIN:VTIMEZONE
TZID:UTC
BEGIN:STANDARD
TZOFFSETFROM:+0000
TZOFFSETTO:+0000
TZNAME:UTC
DTSTART:20200101T000000
END:STANDARD
END:VTIMEZONE
BEGIN:VEVENT
DTSTART;VALUE=DATE:20211223
DTEND;VALUE=DATE:20211225
DTSTAMP:20260424T142321
CREATED:20210630T184433Z
LAST-MODIFIED:20211220T132501Z
UID:10000561-1640217600-1640390399@www.rutlandtown.com
SUMMARY:Town Hall Closed
DESCRIPTION:Town Hall will be closed for the Christmas Holiday
URL:https://www.rutlandtown.com/event/town-hall-closed-6/
LOCATION:VT\, United States
END:VEVENT
END:VCALENDAR