BEGIN:VCALENDAR
VERSION:2.0
PRODID:-//The Town of Rutland, Vermont - ECPv6.15.20//NONSGML v1.0//EN
CALSCALE:GREGORIAN
METHOD:PUBLISH
X-ORIGINAL-URL:https://www.rutlandtown.com
X-WR-CALDESC:Events for The Town of Rutland, Vermont
REFRESH-INTERVAL;VALUE=DURATION:PT1H
X-Robots-Tag:noindex
X-PUBLISHED-TTL:PT1H
BEGIN:VTIMEZONE
TZID:UTC
BEGIN:STANDARD
TZOFFSETFROM:+0000
TZOFFSETTO:+0000
TZNAME:UTC
DTSTART:20210101T000000
END:STANDARD
END:VTIMEZONE
BEGIN:VTIMEZONE
TZID:America/New_York
BEGIN:DAYLIGHT
TZOFFSETFROM:-0500
TZOFFSETTO:-0400
TZNAME:EDT
DTSTART:20210314T070000
END:DAYLIGHT
BEGIN:STANDARD
TZOFFSETFROM:-0400
TZOFFSETTO:-0500
TZNAME:EST
DTSTART:20211107T060000
END:STANDARD
BEGIN:DAYLIGHT
TZOFFSETFROM:-0500
TZOFFSETTO:-0400
TZNAME:EDT
DTSTART:20220313T070000
END:DAYLIGHT
BEGIN:STANDARD
TZOFFSETFROM:-0400
TZOFFSETTO:-0500
TZNAME:EST
DTSTART:20221106T060000
END:STANDARD
BEGIN:DAYLIGHT
TZOFFSETFROM:-0500
TZOFFSETTO:-0400
TZNAME:EDT
DTSTART:20230312T070000
END:DAYLIGHT
BEGIN:STANDARD
TZOFFSETFROM:-0400
TZOFFSETTO:-0500
TZNAME:EST
DTSTART:20231105T060000
END:STANDARD
END:VTIMEZONE
BEGIN:VEVENT
DTSTART;TZID=UTC:20220104T170000
DTEND;TZID=UTC:20220104T180000
DTSTAMP:20260424T130557
CREATED:20211227T152706Z
LAST-MODIFIED:20211227T152706Z
UID:10000628-1641315600-1641319200@www.rutlandtown.com
SUMMARY:Rec Commitee Meeting
DESCRIPTION:Rec Commitee Agenda 1-4-2022 \nRUTLAND TOWN SELECTBOARD COMMITTEE MEETING \nRECREATION COMMITTEE  \nTuesday January 4th\,2022 5:00 PM \nLocation: Rutland Town Municipal Town Hall and Zoom Conferencing \n  \nTo attend in person\, masks are required\, and you must be considered fully vaccinated against the covid-19 virus. \nIf you are not\, please use our zoom option to attend remotely. \nTo participate via zoom please call (646) 558-8656 or visit zoom.us/join and enter meeting ID 939 1518 8696. \n  \nAgenda: \n  \n\nAct 250 permit application\nRecreation depreciation account\nAny other business
URL:https://www.rutlandtown.com/event/rec-commitee-meeting/
LOCATION:Town of Rutland Municipal Building\, 181Business Route 4\, Center Rutland\, VT\, 05736\, United States
CATEGORIES:Committee Meeting
END:VEVENT
BEGIN:VEVENT
DTSTART;TZID=America/New_York:20220104T180000
DTEND;TZID=America/New_York:20220104T200000
DTSTAMP:20260424T130557
CREATED:20210628T161919Z
LAST-MODIFIED:20211230T160758Z
UID:10000428-1641319200-1641326400@www.rutlandtown.com
SUMMARY:Town of Rutland Selectboard Meeting
DESCRIPTION:Selectboard Agenda 1-4-2022 \nClick HERE to join the meeting remotely. \nTOWN OF RUTLAND SELECTBOARD \nPUBLIC MEETING AGENDA FOR TUESDAY JANUARY 4th\, 2022 \n  \nLocation: Rutland Town Municipal Town Hall and Zoom Conferencing \nOpen Meeting – 6:00 PM \n  \nTo attend in person\, masks are required\, and you must be considered fully vaccinated against the covid-19 virus. \nIf you are not\, please use our zoom option to attend remotely. \nTo participate via zoom please call (646) 558-8656 or visit zoom.us/join and enter meeting ID 939 1518 8696. \nMeeting Opening \n\nPledge of Allegiance\nApproval of Orders\nApproval of Selectboard Minutes: December 21st\n\nQuestions from the floor: Public Comment \n\nAny member of the public who is not already included on the agenda.\n\nDepartment Head Reports \n\nWalt Tripp and Jason Bathalon – Town Highway\nBarbara Pulling – Town Planning Commission Chair\nEd Dumas – Town Police Chief\nChris Clark – Town Fire Chief\nMike Rowe – Town Recreation Director\nKari Clark – Town Clerk & Treasurer\nBill Sweet – Town Administrative Assistant\nJohn Paul Faignant – Town Health Officer\nCommittee Meeting Updates / Schedule Committee Meetings\n\nPersonnel / Highway\nRecreation\n\n\nUpdate on Project List\n\nNew Business \n\nBoard to meet with Andrew from A.M. Peisch to discuss the audit\nBoard to meet with Town Counsel Kevin Brown\nBoard to ratify mask order\nBoard to discuss appointing point person for Public Safety Building project\nBoard to discuss pre-town meeting budget presentation assignments\nAny other new business\n\nOld Business \n\nBoard to discuss succession planning and storage of department records\nAny old business
URL:https://www.rutlandtown.com/event/select-board-meeting-2021-07-20-2021-08-31-2022-01-04/
LOCATION:Town of Rutland Municipal Building\, 181Business Route 4\, Center Rutland\, VT\, 05736\, United States
CATEGORIES:Select Board
END:VEVENT
END:VCALENDAR