BEGIN:VCALENDAR
VERSION:2.0
PRODID:-//The Town of Rutland, Vermont - ECPv6.15.20//NONSGML v1.0//EN
CALSCALE:GREGORIAN
METHOD:PUBLISH
X-WR-CALNAME:The Town of Rutland, Vermont
X-ORIGINAL-URL:https://www.rutlandtown.com
X-WR-CALDESC:Events for The Town of Rutland, Vermont
REFRESH-INTERVAL;VALUE=DURATION:PT1H
X-Robots-Tag:noindex
X-PUBLISHED-TTL:PT1H
BEGIN:VTIMEZONE
TZID:UTC
BEGIN:STANDARD
TZOFFSETFROM:+0000
TZOFFSETTO:+0000
TZNAME:UTC
DTSTART:20210101T000000
END:STANDARD
END:VTIMEZONE
BEGIN:VEVENT
DTSTART;TZID=UTC:20220106T183000
DTEND;TZID=UTC:20220106T200000
DTSTAMP:20260424T130350
CREATED:20210715T124556Z
LAST-MODIFIED:20220103T192123Z
UID:10000370-1641493800-1641499200@www.rutlandtown.com
SUMMARY:Planning Commission Meeting
DESCRIPTION:Planning Commission Agenda 1-6-2022 \nClick HERE to join the meeting remotely. \nTOWN OF RUTLAND PLANNING COMMISSION AGENDA \nTHURSDAY\, January 6\, 2022  \n  \nLocation: Rutland Town Municipal Town Hall and Zoom Conferencing  \nOpen Meeting – 6:30 PM  \n  \nTo attend in person\, you must wear a mask and be fully vaccinated.  \nIf you are not\, please use our zoom option to attend remotely.  \nTo participate via zoom please call (646) 558-8656 or visit zoom.us/join and enter meeting ID 985 4127 6671.  \n  \nCall to Order/ Pledge of Allegiance \n  \nApproval of Agenda \n  \nPublic Comment \n  \nNew Business \n\nElection for Chair and Vice-Chair\n\nOld Business \n\nGrandpa’s Knob Community Wind\nSubcommittee report on Building Notification ordinance\nReport from Select Board meeting\nPocket Park update\n\nAnnouncements/News \n\nAct 250 notice for Orin Thomas and Sons\nWaste water permit for 349 Killington Avenue\n\nApproval of Minutes \n\nDecember 16\, 2021\n\nAdjournment \n 
URL:https://www.rutlandtown.com/event/town-of-rutland-planning-commission-meeting-2-2021-12-09-2022-01-06/
LOCATION:Town of Rutland Municipal Building\, 181Business Route 4\, Center Rutland\, VT\, 05736\, United States
CATEGORIES:Planning Commission
END:VEVENT
END:VCALENDAR