BEGIN:VCALENDAR
VERSION:2.0
PRODID:-//The Town of Rutland, Vermont - ECPv6.15.20//NONSGML v1.0//EN
CALSCALE:GREGORIAN
METHOD:PUBLISH
X-ORIGINAL-URL:https://www.rutlandtown.com
X-WR-CALDESC:Events for The Town of Rutland, Vermont
REFRESH-INTERVAL;VALUE=DURATION:PT1H
X-Robots-Tag:noindex
X-PUBLISHED-TTL:PT1H
BEGIN:VTIMEZONE
TZID:UTC
BEGIN:STANDARD
TZOFFSETFROM:+0000
TZOFFSETTO:+0000
TZNAME:UTC
DTSTART:20210101T000000
END:STANDARD
END:VTIMEZONE
BEGIN:VEVENT
DTSTART;TZID=UTC:20220214T093000
DTEND;TZID=UTC:20220214T103000
DTSTAMP:20260424T164323
CREATED:20220211T132927Z
LAST-MODIFIED:20220211T132927Z
UID:10000608-1644831000-1644834600@www.rutlandtown.com
SUMMARY:Board of Civil Authority Meeting
DESCRIPTION:BCA Meeting Agenda 2-14-2022 \nBoard of Civil Authority Meeting\nvia ZOOM Conferencing\nMonday February 14\, 2022 at 9:30 am\nTo participate via zoom please call (646) 558-8656 or visit\nzoom.us/join and enter meeting ID 939 1518 8696\nAgenda:\n1) Reconvene to discuss Apportionment Letter\n2) Any other business
URL:https://www.rutlandtown.com/event/board-of-civil-authority-meeting-5/
LOCATION:VT\, United States
CATEGORIES:Committee Meeting,Community
END:VEVENT
END:VCALENDAR