BEGIN:VCALENDAR
VERSION:2.0
PRODID:-//The Town of Rutland, Vermont - ECPv6.15.20//NONSGML v1.0//EN
CALSCALE:GREGORIAN
METHOD:PUBLISH
X-ORIGINAL-URL:https://www.rutlandtown.com
X-WR-CALDESC:Events for The Town of Rutland, Vermont
REFRESH-INTERVAL;VALUE=DURATION:PT1H
X-Robots-Tag:noindex
X-PUBLISHED-TTL:PT1H
BEGIN:VTIMEZONE
TZID:UTC
BEGIN:STANDARD
TZOFFSETFROM:+0000
TZOFFSETTO:+0000
TZNAME:UTC
DTSTART:20210101T000000
END:STANDARD
END:VTIMEZONE
BEGIN:VEVENT
DTSTART;TZID=UTC:20220303T090000
DTEND;TZID=UTC:20220303T100000
DTSTAMP:20260424T101434
CREATED:20220225T140727Z
LAST-MODIFIED:20220225T140727Z
UID:10000610-1646298000-1646301600@www.rutlandtown.com
SUMMARY:Highway Commitee Meeting
DESCRIPTION:Highway Commitee Agenda 3-3-2022 \nRUTLAND TOWN SELECTBOARD COMMITTEE MEETING \nHIGHWAY COMMITTEE  \nThursday March 3rd\, 2022\, 9:00 AM \nLocation: Rutland Town Municipal Town Hall and Zoom Conferencing \n  \nTo attend in person\, masks are required\, and you must be considered fully vaccinated against the covid-19 virus. If you are not\, please use our zoom option to attend remotely. \nTo participate via zoom please call (646) 558-8656 or visit zoom.us/join and enter meeting ID 939 1518 8696. \n  \nAgenda: \n\n 2022 Paving Plan\n Any other business
URL:https://www.rutlandtown.com/event/highway-commitee-meeting-3/
LOCATION:Town of Rutland Municipal Building\, 181Business Route 4\, Center Rutland\, VT\, 05736\, United States
CATEGORIES:Committee Meeting
END:VEVENT
BEGIN:VEVENT
DTSTART;TZID=UTC:20220303T180000
DTEND;TZID=UTC:20220303T200000
DTSTAMP:20260424T101434
CREATED:20220126T212007Z
LAST-MODIFIED:20220302T193627Z
UID:10000630-1646330400-1646337600@www.rutlandtown.com
SUMMARY:Center Rutland Pocket Park Public Meeting
DESCRIPTION:Rutland Town has a grant to design a pocket park at the falls and along Otter Creek. A group with recreational interests and one of historians have come up with a list of suggested features for the park. Now it’s your turn! The public meeting is March 3 at 6:00 pm via Zoom. Please save the date and stay tuned for more details. \nFollow our event on Facebook! \nhttps://www.facebook.com/events/478539653858688/ \nTo join the meeting click HERE. \nPhoto Credit: Rutland Historical Society \n 
URL:https://www.rutlandtown.com/event/center-rutland-pocket-park-public-meeting/
LOCATION:Town of Rutland Municipal Building\, 181Business Route 4\, Center Rutland\, VT\, 05736\, United States
CATEGORIES:Community
END:VEVENT
END:VCALENDAR