BEGIN:VCALENDAR
VERSION:2.0
PRODID:-//The Town of Rutland, Vermont - ECPv6.15.20//NONSGML v1.0//EN
CALSCALE:GREGORIAN
METHOD:PUBLISH
X-ORIGINAL-URL:https://www.rutlandtown.com
X-WR-CALDESC:Events for The Town of Rutland, Vermont
REFRESH-INTERVAL;VALUE=DURATION:PT1H
X-Robots-Tag:noindex
X-PUBLISHED-TTL:PT1H
BEGIN:VTIMEZONE
TZID:UTC
BEGIN:STANDARD
TZOFFSETFROM:+0000
TZOFFSETTO:+0000
TZNAME:UTC
DTSTART:20210101T000000
END:STANDARD
END:VTIMEZONE
BEGIN:VEVENT
DTSTART;TZID=UTC:20220331T183000
DTEND;TZID=UTC:20220331T200000
DTSTAMP:20260424T113053
CREATED:20210715T124556Z
LAST-MODIFIED:20220325T145447Z
UID:10000556-1648751400-1648756800@www.rutlandtown.com
SUMMARY:Planning Commission Meeting
DESCRIPTION:Planning Commission Agenda 3-31-2022 \nClick HERE to join the meeting remotely. \n  \nTOWN OF RUTLAND PLANNING COMMISSION AGENDA \nThursday\, March 31st\, 2022  \n  \nLocation: Rutland Town Municipal Town Hall and Zoom Conferencing  \nOpen Meeting – 6:30 PM  \n  \nTo participate via zoom please call (646) 558-8656 or visit zoom.us/join and enter meeting ID 985 4127 6671.  \n  \n  \nCall to Order/ Pledge of Allegiance \n  \nApproval of Agenda \n  \nPublic Comment \n  \nNew Business \n  \nOld Business \n\nSubcommittee report on Building Notification ordinance\nReview of Town of Bennington Construction Ordinance for applicability to ordinance above\nSubcommittee on Enhanced Energy Plan\nReport from Select Board meeting\nUpdate on Pocket Park at Center Rutland Falls\n\n  \nAnnouncements/News \n  \nApproval of Minutes \n\nMarch 10\, 2021\n\n  \nAdjournment
URL:https://www.rutlandtown.com/event/town-of-rutland-planning-commission-meeting-2-2021-12-09-2022-01-27-2022-03-31/
LOCATION:Town of Rutland Municipal Building\, 181Business Route 4\, Center Rutland\, VT\, 05736\, United States
CATEGORIES:Planning Commission
END:VEVENT
END:VCALENDAR