BEGIN:VCALENDAR
VERSION:2.0
PRODID:-//The Town of Rutland, Vermont - ECPv6.15.20//NONSGML v1.0//EN
CALSCALE:GREGORIAN
METHOD:PUBLISH
X-WR-CALNAME:The Town of Rutland, Vermont
X-ORIGINAL-URL:https://www.rutlandtown.com
X-WR-CALDESC:Events for The Town of Rutland, Vermont
REFRESH-INTERVAL;VALUE=DURATION:PT1H
X-Robots-Tag:noindex
X-PUBLISHED-TTL:PT1H
BEGIN:VTIMEZONE
TZID:UTC
BEGIN:STANDARD
TZOFFSETFROM:+0000
TZOFFSETTO:+0000
TZNAME:UTC
DTSTART:20210101T000000
END:STANDARD
END:VTIMEZONE
BEGIN:VEVENT
DTSTART;TZID=UTC:20220509T120000
DTEND;TZID=UTC:20220509T130000
DTSTAMP:20260423T180713
CREATED:20220504T150032Z
LAST-MODIFIED:20220504T150032Z
UID:10000527-1652097600-1652101200@www.rutlandtown.com
SUMMARY:Town Wide Celebration Committee Meeting
DESCRIPTION:RUTLAND TOWN SELECTBOARD COMMITTEE MEETING \nTOWN WIDE CELEBRATION COMMITTEE  \nMonday May 9th\, 2022\, 12:00 PM \nLocation: Rutland Town Municipal Town Hall and Zoom Conferencing \n  \nTo participate via zoom please call (646) 558-8656 or visit zoom.us/join and enter meeting ID 851 9094 1198. \nAgenda: \n\nPlanning the Town Wide Celebration\n\nEvents\nLining up vendors\nOther tasks\nAssigning tasks\n\n\n Any other business\n\n 
URL:https://www.rutlandtown.com/event/town-wide-celebration-committee-meeting/
LOCATION:Town of Rutland Municipal Building\, 181Business Route 4\, Center Rutland\, VT\, 05736\, United States
CATEGORIES:Committee Meeting
END:VEVENT
END:VCALENDAR