BEGIN:VCALENDAR
VERSION:2.0
PRODID:-//The Town of Rutland, Vermont - ECPv6.15.20//NONSGML v1.0//EN
CALSCALE:GREGORIAN
METHOD:PUBLISH
X-ORIGINAL-URL:https://www.rutlandtown.com
X-WR-CALDESC:Events for The Town of Rutland, Vermont
REFRESH-INTERVAL;VALUE=DURATION:PT1H
X-Robots-Tag:noindex
X-PUBLISHED-TTL:PT1H
BEGIN:VTIMEZONE
TZID:UTC
BEGIN:STANDARD
TZOFFSETFROM:+0000
TZOFFSETTO:+0000
TZNAME:UTC
DTSTART:20210101T000000
END:STANDARD
END:VTIMEZONE
BEGIN:VTIMEZONE
TZID:America/New_York
BEGIN:DAYLIGHT
TZOFFSETFROM:-0500
TZOFFSETTO:-0400
TZNAME:EDT
DTSTART:20210314T070000
END:DAYLIGHT
BEGIN:STANDARD
TZOFFSETFROM:-0400
TZOFFSETTO:-0500
TZNAME:EST
DTSTART:20211107T060000
END:STANDARD
BEGIN:DAYLIGHT
TZOFFSETFROM:-0500
TZOFFSETTO:-0400
TZNAME:EDT
DTSTART:20220313T070000
END:DAYLIGHT
BEGIN:STANDARD
TZOFFSETFROM:-0400
TZOFFSETTO:-0500
TZNAME:EST
DTSTART:20221106T060000
END:STANDARD
BEGIN:DAYLIGHT
TZOFFSETFROM:-0500
TZOFFSETTO:-0400
TZNAME:EDT
DTSTART:20230312T070000
END:DAYLIGHT
BEGIN:STANDARD
TZOFFSETFROM:-0400
TZOFFSETTO:-0500
TZNAME:EST
DTSTART:20231105T060000
END:STANDARD
END:VTIMEZONE
BEGIN:VEVENT
DTSTART;VALUE=DATE:20220510
DTEND;VALUE=DATE:20220511
DTSTAMP:20260423T180802
CREATED:20210716T172210Z
LAST-MODIFIED:20220729T150816Z
UID:10000594-1652140800-1652227199@www.rutlandtown.com
SUMMARY:3rd Tax Installment Due
DESCRIPTION:The third installment of taxes are due by close of business on May 10th. \nPayments may be mailed\, delivered to our office\, placed in the drop box next to our front door or made online by going HERE. \nThe drop box is checked at the end of the business day. \nWe do accept postmarks with official USPS postmarks only. We are not responsible for late\, misdirected or incorrectly addressed mail. \nIf you have a question on any previous balance due please contact the office. Notices of prior balances due ARE NOT sent out. \nIf the due date falls on a weekend taxes shall be due by close of business on the next business day.
URL:https://www.rutlandtown.com/event/3rd-tax-installment-due-date/2022-05-10/
LOCATION:Town of Rutland Municipal Building\, 181Business Route 4\, Center Rutland\, VT\, 05736\, United States
CATEGORIES:Municipal Date
END:VEVENT
BEGIN:VEVENT
DTSTART;VALUE=DATE:20220510
DTEND;VALUE=DATE:20220511
DTSTAMP:20260423T180802
CREATED:20210716T172210Z
LAST-MODIFIED:20220216T151900Z
UID:10000598-1652140800-1652227199@www.rutlandtown.com
SUMMARY:3rd Tax Installment Due Date
DESCRIPTION:The third installment of taxes are due by close of business on May 10th\, 2022. \nPayments may be mailed\, delivered to our office\, placed in the drop box next to our front door or made online by going HERE. \nThe drop box is checked at the end of the business day. \nWe do accept postmarks with official USPS postmarks only. We are not responsible for late\, misdirected or incorrectly addressed mail. \nIf you have a question on any previous balance due please contact the office. Notices of prior balances due ARE NOT sent out.
URL:https://www.rutlandtown.com/event/3rd-tax-installment-due-date-2022-07-10/
LOCATION:Town of Rutland Municipal Building\, 181Business Route 4\, Center Rutland\, VT\, 05736\, United States
CATEGORIES:Municipal Date
END:VEVENT
BEGIN:VEVENT
DTSTART;TZID=America/New_York:20220510T180000
DTEND;TZID=America/New_York:20220510T200000
DTSTAMP:20260423T180802
CREATED:20210628T161919Z
LAST-MODIFIED:20220505T160741Z
UID:10000473-1652205600-1652212800@www.rutlandtown.com
SUMMARY:Selectboard Meeting
DESCRIPTION:Selectboard Agenda 5-10-2022 \nClick HERE to join the meeting remotely. \nTOWN OF RUTLAND SELECTBOARD \nPUBLIC MEETING AGENDA FOR TUESDAY MAY 10th\, 2022 \n  \nLocation: Rutland Town Municipal Town Hall and Zoom Conferencing \nOpen Meeting – 6:00 PM \n  \nTo participate via zoom please call (646) 558-8656 or visit zoom.us/join and enter meeting ID 939 1518 8696. \nMeeting Opening \n\nPledge of Allegiance\nApproval of Orders\nApproval of Selectboard Minutes: April 26th \nAnnouncements / Community Service Award Presentations\n\nQuestions from the floor: Public Comment \n\nAny member of the public who is not already included on the agenda.\n\nDepartment Head Reports \n\nWalt Tripp – Acting Town Road Commissioner\nJason Bathalon – Acting Town Water & Sewer Commissioner\nKari Clark – Town Clerk & Treasurer\nChris Clark – Town Fire Chief\nBarbara Pulling – Town Planning Commission Chair\nEd Dumas – Town Police Chief\nMike Rowe – Town Recreation Director\nJohn Paul Faignant – Town Health Officer / Public Safety Building Clerk / 2nd Constable\nBill Sweet – Town Administrative Assistant\nCommittee Meeting Updates / Schedule Committee Meetings\nUpdate on Project List\n\nNew Business \n\nBoard to review meeting room requests\nBoard to review sewer allocation request\nAny other New Business\n\nOld Business \n\nAny Old Business
URL:https://www.rutlandtown.com/event/select-board-meeting-2021-07-20-2021-08-31-2022-01-18-2022-05-10/
LOCATION:Town of Rutland Municipal Building\, 181Business Route 4\, Center Rutland\, VT\, 05736\, United States
CATEGORIES:Select Board
END:VEVENT
END:VCALENDAR