BEGIN:VCALENDAR
VERSION:2.0
PRODID:-//The Town of Rutland, Vermont - ECPv6.15.20//NONSGML v1.0//EN
CALSCALE:GREGORIAN
METHOD:PUBLISH
X-ORIGINAL-URL:https://www.rutlandtown.com
X-WR-CALDESC:Events for The Town of Rutland, Vermont
REFRESH-INTERVAL;VALUE=DURATION:PT1H
X-Robots-Tag:noindex
X-PUBLISHED-TTL:PT1H
BEGIN:VTIMEZONE
TZID:UTC
BEGIN:STANDARD
TZOFFSETFROM:+0000
TZOFFSETTO:+0000
TZNAME:UTC
DTSTART:20210101T000000
END:STANDARD
END:VTIMEZONE
BEGIN:VEVENT
DTSTART;TZID=UTC:20220527T080000
DTEND;TZID=UTC:20220527T100000
DTSTAMP:20260423T152237
CREATED:20220524T160009Z
LAST-MODIFIED:20220525T184810Z
UID:10000535-1653638400-1653645600@www.rutlandtown.com
SUMMARY:Personnel Committee Meeting
DESCRIPTION:Personnel Committee Agenda 5-27-2022 \nRUTLAND TOWN SELECTBOARD COMMITTEE MEETING \nPERSONNEL COMMITTEE  \nFriday May 27th\, 2022\, 8:00 AM \nLocation: Rutland Town Municipal Town Hall and Zoom Conferencing \n  \nTo participate via zoom please call (646) 558-8656 or visit zoom.us/join and enter meeting ID 851 9094 1198. \n  \nAgenda: \n\nDiscuss revising the current personnel policy\nEstablish a personnel performance review system\, and create job descriptions\nAny other business\n\n 
URL:https://www.rutlandtown.com/event/personnel-committee-meeting-2/
LOCATION:Town of Rutland Municipal Building\, 181Business Route 4\, Center Rutland\, VT\, 05736\, United States
CATEGORIES:Committee Meeting
END:VEVENT
END:VCALENDAR