BEGIN:VCALENDAR
VERSION:2.0
PRODID:-//The Town of Rutland, Vermont - ECPv6.15.20//NONSGML v1.0//EN
CALSCALE:GREGORIAN
METHOD:PUBLISH
X-ORIGINAL-URL:https://www.rutlandtown.com
X-WR-CALDESC:Events for The Town of Rutland, Vermont
REFRESH-INTERVAL;VALUE=DURATION:PT1H
X-Robots-Tag:noindex
X-PUBLISHED-TTL:PT1H
BEGIN:VTIMEZONE
TZID:UTC
BEGIN:STANDARD
TZOFFSETFROM:+0000
TZOFFSETTO:+0000
TZNAME:UTC
DTSTART:20210101T000000
END:STANDARD
END:VTIMEZONE
BEGIN:VEVENT
DTSTART;TZID=UTC:20220602T170000
DTEND;TZID=UTC:20220602T190000
DTSTAMP:20260424T101320
CREATED:20220407T171218Z
LAST-MODIFIED:20220407T171218Z
UID:10000616-1654189200-1654196400@www.rutlandtown.com
SUMMARY:Pool Pass and Swim Lesson Sign-ups
DESCRIPTION:POOL PASS AND SWIMMING LESSON SIGN-UPS WILL TAKE PLACE ON JUNE 1ST AND 2ND FROM 5:00-7:00 AT THE POOL
URL:https://www.rutlandtown.com/event/pool-pass-and-swim-lesson-sign-ups/2022-06-02/
LOCATION:Northwood Park\, 185 Northwood Park Road\, Rutland\, 05701
CATEGORIES:Community
END:VEVENT
BEGIN:VEVENT
DTSTART;TZID=UTC:20220602T183000
DTEND;TZID=UTC:20220602T200000
DTSTAMP:20260424T101320
CREATED:20210715T124556Z
LAST-MODIFIED:20220531T134556Z
UID:10000538-1654194600-1654200000@www.rutlandtown.com
SUMMARY:Planning Commission Meeting
DESCRIPTION:Planning Commission Agenda 6-2-2022 \nClick HERE to join the meeting remotely.
URL:https://www.rutlandtown.com/event/town-of-rutland-planning-commission-meeting-2-2021-12-09-2022-01-27-2022-06-02/
LOCATION:Town of Rutland Municipal Building\, 181Business Route 4\, Center Rutland\, VT\, 05736\, United States
CATEGORIES:Planning Commission
END:VEVENT
END:VCALENDAR