BEGIN:VCALENDAR
VERSION:2.0
PRODID:-//The Town of Rutland, Vermont - ECPv6.15.20//NONSGML v1.0//EN
CALSCALE:GREGORIAN
METHOD:PUBLISH
X-ORIGINAL-URL:https://www.rutlandtown.com
X-WR-CALDESC:Events for The Town of Rutland, Vermont
REFRESH-INTERVAL;VALUE=DURATION:PT1H
X-Robots-Tag:noindex
X-PUBLISHED-TTL:PT1H
BEGIN:VTIMEZONE
TZID:UTC
BEGIN:STANDARD
TZOFFSETFROM:+0000
TZOFFSETTO:+0000
TZNAME:UTC
DTSTART:20210101T000000
END:STANDARD
END:VTIMEZONE
BEGIN:VEVENT
DTSTART;TZID=UTC:20220630T110000
DTEND;TZID=UTC:20220630T120000
DTSTAMP:20260423T111834
CREATED:20220627T150826Z
LAST-MODIFIED:20220627T150826Z
UID:10000634-1656586800-1656590400@www.rutlandtown.com
SUMMARY:Special Selectboard Meeting
DESCRIPTION:Special Selectboard Agenda 6-30-2022 \nTOWN OF RUTLAND SELECTBOARD \nSPECIAL MEETING AGENDA FOR THURSDAY JUNE 30th\, 2022 \nLocation: Rutland Town Municipal Town Hall \nMeeting – 11:00 AM \n  \nNew Business \n\nBoard to meet with the Town Attorney in Executive Session\nAny other New Business
URL:https://www.rutlandtown.com/event/special-selectboard-meeting-4/
LOCATION:Town of Rutland Municipal Building\, 181Business Route 4\, Center Rutland\, VT\, 05736\, United States
CATEGORIES:Select Board
END:VEVENT
END:VCALENDAR