BEGIN:VCALENDAR
VERSION:2.0
PRODID:-//The Town of Rutland, Vermont - ECPv6.15.20//NONSGML v1.0//EN
CALSCALE:GREGORIAN
METHOD:PUBLISH
X-WR-CALNAME:The Town of Rutland, Vermont
X-ORIGINAL-URL:https://www.rutlandtown.com
X-WR-CALDESC:Events for The Town of Rutland, Vermont
REFRESH-INTERVAL;VALUE=DURATION:PT1H
X-Robots-Tag:noindex
X-PUBLISHED-TTL:PT1H
BEGIN:VTIMEZONE
TZID:UTC
BEGIN:STANDARD
TZOFFSETFROM:+0000
TZOFFSETTO:+0000
TZNAME:UTC
DTSTART:20210101T000000
END:STANDARD
END:VTIMEZONE
BEGIN:VTIMEZONE
TZID:America/New_York
BEGIN:DAYLIGHT
TZOFFSETFROM:-0500
TZOFFSETTO:-0400
TZNAME:EDT
DTSTART:20210314T070000
END:DAYLIGHT
BEGIN:STANDARD
TZOFFSETFROM:-0400
TZOFFSETTO:-0500
TZNAME:EST
DTSTART:20211107T060000
END:STANDARD
BEGIN:DAYLIGHT
TZOFFSETFROM:-0500
TZOFFSETTO:-0400
TZNAME:EDT
DTSTART:20220313T070000
END:DAYLIGHT
BEGIN:STANDARD
TZOFFSETFROM:-0400
TZOFFSETTO:-0500
TZNAME:EST
DTSTART:20221106T060000
END:STANDARD
BEGIN:DAYLIGHT
TZOFFSETFROM:-0500
TZOFFSETTO:-0400
TZNAME:EDT
DTSTART:20230312T070000
END:DAYLIGHT
BEGIN:STANDARD
TZOFFSETFROM:-0400
TZOFFSETTO:-0500
TZNAME:EST
DTSTART:20231105T060000
END:STANDARD
END:VTIMEZONE
BEGIN:VEVENT
DTSTART;TZID=UTC:20220719T090000
DTEND;TZID=UTC:20220719T100000
DTSTAMP:20260423T111839
CREATED:20220712T182451Z
LAST-MODIFIED:20220712T182451Z
UID:10000655-1658221200-1658224800@www.rutlandtown.com
SUMMARY:Highway Committee Meeting
DESCRIPTION:Highway Committee Meeting Agenda 7-19-2022 \nRUTLAND TOWN SELECTBOARD COMMITTEE MEETING \nHIGHWAY COMMITTEE  \nTuesday July 19th\, 2022\, 9:00 AM \nLocation: Rutland Town Municipal Town Hall and Zoom Conferencing \nTo participate via zoom please call (646) 558-8656 or visit zoom.us/join and enter meeting ID 851 9094 1198. \nAgenda: \n\nReview draft winter maintenance contracts\nDiscuss winter maintenance plans for 2022 – 2023 season\nAny other business
URL:https://www.rutlandtown.com/event/highway-committee-meeting-3/
LOCATION:Town of Rutland Municipal Building\, 181Business Route 4\, Center Rutland\, VT\, 05736\, United States
CATEGORIES:Committee Meeting
END:VEVENT
BEGIN:VEVENT
DTSTART;TZID=UTC:20220719T173000
DTEND;TZID=UTC:20220719T180000
DTSTAMP:20260423T111839
CREATED:20220701T172153Z
LAST-MODIFIED:20220701T172153Z
UID:10000646-1658251800-1658253600@www.rutlandtown.com
SUMMARY:Special Selectboard Meeting
DESCRIPTION:Special Selectboard Meeting 7-19-2022 \nTOWN OF RUTLAND SELECTBOARD \nSPECIAL MEETING AGENDA FOR TUESDAY JULY 19th\, 2022 \n Location: Rutland Town Municipal Town Hall and Zoom Conferencing \nOpen Meeting – 5:30 PM \n  \nTo participate via zoom please call (646) 558-8656 or visit zoom.us/join and enter meeting ID 939 1518 8696 \nNew Business \n\nBoard to hold a hearing with the property owner of 282 Perkins Road\nAny other new business
URL:https://www.rutlandtown.com/event/special-selectboard-meeting-5/
LOCATION:Town of Rutland Municipal Building\, 181Business Route 4\, Center Rutland\, VT\, 05736\, United States
CATEGORIES:Select Board
END:VEVENT
BEGIN:VEVENT
DTSTART;TZID=America/New_York:20220719T180000
DTEND;TZID=America/New_York:20220719T200000
DTSTAMP:20260423T111839
CREATED:20210628T161919Z
LAST-MODIFIED:20220712T172516Z
UID:10000462-1658253600-1658260800@www.rutlandtown.com
SUMMARY:Selectboard Meeting
DESCRIPTION:Selectboard Agenda 7-19-2022 \nClick HERE to join the meeting remotely. \nTOWN OF RUTLAND SELECTBOARD \nPUBLIC MEETING AGENDA FOR TUESDAY JULY 19th\, 2022 \n Location: Rutland Town Municipal Town Hall and Zoom Conferencing \nOpen Meeting – 6:00 PM \n  \nTo participate via zoom please call (646) 558-8656 or visit zoom.us/join and enter meeting ID 939 1518 8696. \nMeeting Opening \n\nPledge of Allegiance\nApproval of Orders\nApproval of Selectboard Minutes: July 5th \nAnnouncements\n\nQuestions from the floor: Public Comment \n\nAny member of the public who is not already included on the agenda.\n\nDepartment Head Reports \n\nChris Clark – Fire Chief\nBarbara Pulling – Planning Commission Chair\nKari Clark – Clerk & Treasurer\nMike Rowe – Recreation Director\nDave Sears – Road Commissioner\nEd Dumas – Police Chief\nJohn Paul Faignant – Health Officer / Public Safety Building Clerk / 2nd Constable\nBill Sweet – Administrator\nCommittee Meeting Updates / Schedule Committee Meetings\nUpdate on Project List\n\nOld Business \n\nReview of the new Personnel Policy draft\nTabled motion on the Highway Garage heating system bid\nTabled motion on the concrete work at Town Hall\nAny Other Old Business\n\nNew Business \n\nAny New Business\nAny necessary executive sessions
URL:https://www.rutlandtown.com/event/select-board-meeting-2021-07-20-2021-08-31-2022-01-18-2022-07-19/
LOCATION:Town of Rutland Municipal Building\, 181Business Route 4\, Center Rutland\, VT\, 05736\, United States
CATEGORIES:Select Board
END:VEVENT
END:VCALENDAR