BEGIN:VCALENDAR
VERSION:2.0
PRODID:-//The Town of Rutland, Vermont - ECPv6.15.20//NONSGML v1.0//EN
CALSCALE:GREGORIAN
METHOD:PUBLISH
X-ORIGINAL-URL:https://www.rutlandtown.com
X-WR-CALDESC:Events for The Town of Rutland, Vermont
REFRESH-INTERVAL;VALUE=DURATION:PT1H
X-Robots-Tag:noindex
X-PUBLISHED-TTL:PT1H
BEGIN:VTIMEZONE
TZID:UTC
BEGIN:STANDARD
TZOFFSETFROM:+0000
TZOFFSETTO:+0000
TZNAME:UTC
DTSTART:20210101T000000
END:STANDARD
END:VTIMEZONE
BEGIN:VEVENT
DTSTART;TZID=UTC:20220725T170000
DTEND;TZID=UTC:20220725T180000
DTSTAMP:20260423T111833
CREATED:20220720T175823Z
LAST-MODIFIED:20220720T180421Z
UID:10000652-1658768400-1658772000@www.rutlandtown.com
SUMMARY:Special Selectboard Meeting
DESCRIPTION:Special Selectboard Meeting 7-25-2022 \nClick HERE to join the meeting remotely. \nTOWN OF RUTLAND SELECTBOARDVisit Site \nSPECIAL MEETING AGENDA FOR MONDAY JULY 25th\, 2022 \nLocation: Rutland Town Municipal Town Hall and Zoom Conferencing \nOpen Meeting – 5:00 PM \n  \nTo participate via zoom please call (646) 558-8656 or visit zoom.us/join and enter meeting ID 939 1518 8696 \nNew Business \n\nBoard to vote on setting the tax rate\nBoard to discuss findings from the deliberative session on Perkins Road Hearing\nAny other new business
URL:https://www.rutlandtown.com/event/special-selectboard-meeting-6/
LOCATION:Town of Rutland Municipal Building\, 181Business Route 4\, Center Rutland\, VT\, 05736\, United States
CATEGORIES:Select Board
END:VEVENT
END:VCALENDAR