BEGIN:VCALENDAR
VERSION:2.0
PRODID:-//The Town of Rutland, Vermont - ECPv6.15.20//NONSGML v1.0//EN
CALSCALE:GREGORIAN
METHOD:PUBLISH
X-WR-CALNAME:The Town of Rutland, Vermont
X-ORIGINAL-URL:https://www.rutlandtown.com
X-WR-CALDESC:Events for The Town of Rutland, Vermont
REFRESH-INTERVAL;VALUE=DURATION:PT1H
X-Robots-Tag:noindex
X-PUBLISHED-TTL:PT1H
BEGIN:VTIMEZONE
TZID:UTC
BEGIN:STANDARD
TZOFFSETFROM:+0000
TZOFFSETTO:+0000
TZNAME:UTC
DTSTART:20210101T000000
END:STANDARD
END:VTIMEZONE
BEGIN:VEVENT
DTSTART;TZID=UTC:20220827T100000
DTEND;TZID=UTC:20220827T140000
DTSTAMP:20260423T163447
CREATED:20220502T165919Z
LAST-MODIFIED:20220819T163344Z
UID:10000644-1661594400-1661608800@www.rutlandtown.com
SUMMARY:Town Wide Celebration Event!
DESCRIPTION:End summer with some fun at our Town Wide Celebration on Saturday\, August 27th at Northwood.\nAll day free swimming with a dive-in movie at dusk. \nFree hotdogs\, sausages and hamburgers for lunch. \nRaffle with prizes. \nRides\, contests\, displays\, sports\, helicopter visit\, bouncy house\, speed cart challenge\, pickle ball and much more. \nFollow our event on Facebook here.
URL:https://www.rutlandtown.com/event/town-wide-celebration-event/
LOCATION:Northwood Park\, 185 Northwood Park Road\, Rutland\, 05701
CATEGORIES:Community,Municipal Date
END:VEVENT
END:VCALENDAR