BEGIN:VCALENDAR
VERSION:2.0
PRODID:-//The Town of Rutland, Vermont - ECPv6.15.20//NONSGML v1.0//EN
CALSCALE:GREGORIAN
METHOD:PUBLISH
X-ORIGINAL-URL:https://www.rutlandtown.com
X-WR-CALDESC:Events for The Town of Rutland, Vermont
REFRESH-INTERVAL;VALUE=DURATION:PT1H
X-Robots-Tag:noindex
X-PUBLISHED-TTL:PT1H
BEGIN:VTIMEZONE
TZID:UTC
BEGIN:STANDARD
TZOFFSETFROM:+0000
TZOFFSETTO:+0000
TZNAME:UTC
DTSTART:20220101T000000
END:STANDARD
END:VTIMEZONE
BEGIN:VEVENT
DTSTART;VALUE=DATE:20230307
DTEND;VALUE=DATE:20230308
DTSTAMP:20260425T160809
CREATED:20230303T144153Z
LAST-MODIFIED:20230303T171034Z
UID:10000687-1678147200-1678233599@www.rutlandtown.com
SUMMARY:Town Hall Closed
DESCRIPTION:Municipal Office are closed for election day. \nDownstairs at Town Hall and the Town School are open from 7AM to 7PM for voting.
URL:https://www.rutlandtown.com/event/town-hall-closed-11/
LOCATION:Town of Rutland Municipal Building\, 181Business Route 4\, Center Rutland\, VT\, 05736\, United States
CATEGORIES:Community,Municipal Date
END:VEVENT
BEGIN:VEVENT
DTSTART;TZID=UTC:20230307T070000
DTEND;TZID=UTC:20230307T190000
DTSTAMP:20260425T160809
CREATED:20230221T190027Z
LAST-MODIFIED:20230221T190027Z
UID:10000689-1678172400-1678215600@www.rutlandtown.com
SUMMARY:Election Day
DESCRIPTION:Polls are open 7AM to 7PM. \nLocations Information: \nTown School on Post Road: For voters on the East side of Grove Street \nTown Hall in Center Rutland: For voters on the West side of Grove Street
URL:https://www.rutlandtown.com/event/election-day/
LOCATION:VT\, United States
CATEGORIES:Community,Municipal Date
END:VEVENT
END:VCALENDAR