BEGIN:VCALENDAR
VERSION:2.0
PRODID:-//The Town of Rutland, Vermont - ECPv6.15.20//NONSGML v1.0//EN
CALSCALE:GREGORIAN
METHOD:PUBLISH
X-ORIGINAL-URL:https://www.rutlandtown.com
X-WR-CALDESC:Events for The Town of Rutland, Vermont
REFRESH-INTERVAL;VALUE=DURATION:PT1H
X-Robots-Tag:noindex
X-PUBLISHED-TTL:PT1H
BEGIN:VTIMEZONE
TZID:America/New_York
BEGIN:DAYLIGHT
TZOFFSETFROM:-0500
TZOFFSETTO:-0400
TZNAME:EDT
DTSTART:20220313T070000
END:DAYLIGHT
BEGIN:STANDARD
TZOFFSETFROM:-0400
TZOFFSETTO:-0500
TZNAME:EST
DTSTART:20221106T060000
END:STANDARD
BEGIN:DAYLIGHT
TZOFFSETFROM:-0500
TZOFFSETTO:-0400
TZNAME:EDT
DTSTART:20230312T070000
END:DAYLIGHT
BEGIN:STANDARD
TZOFFSETFROM:-0400
TZOFFSETTO:-0500
TZNAME:EST
DTSTART:20231105T060000
END:STANDARD
BEGIN:DAYLIGHT
TZOFFSETFROM:-0500
TZOFFSETTO:-0400
TZNAME:EDT
DTSTART:20240310T070000
END:DAYLIGHT
BEGIN:STANDARD
TZOFFSETFROM:-0400
TZOFFSETTO:-0500
TZNAME:EST
DTSTART:20241103T060000
END:STANDARD
END:VTIMEZONE
BEGIN:VEVENT
DTSTART;TZID=America/New_York:20230328T180000
DTEND;TZID=America/New_York:20230328T200000
DTSTAMP:20260425T131950
CREATED:20210628T161919Z
LAST-MODIFIED:20230323T184639Z
UID:10000467-1680026400-1680033600@www.rutlandtown.com
SUMMARY:Select Board Meeting
DESCRIPTION:Select Board Agenda 3-28-2023 \nClick HERE to join the meeting remotely. \nTOWN OF RUTLAND SELECT BOARD \nPUBLIC MEETING AGENDA FOR TUESDAY MARCH 28th\, 2023 \nLocation: Rutland Town Municipal Town Hall and Zoom Conferencing \nSpecial Meeting – 5:00 PM \nOpen Meeting – 6:00 PM \n To participate via zoom please visit zoom.us/join or call (646) 558-8656 and enter meeting ID 939 1518 8696. \n\nThe Board will meet in executive session at 5:00 PM to interview candidates for the pending Select Board vacancy.\n\nMeeting Opening \n\nPledge of Allegiance\nApproval of Select Board Minutes:\n\nMarch 14th\n\n\nBoard Member Announcements\nUpdate from the Select Board Chair\nQuestions from the floor; public comments\n\nDepartment Head Reports \n\nChris Clark – Town Fire Chief\nMarcia Chioffi – Town Lister\nKari Clark – Town Clerk & Treasurer\nBarbara Pulling – Town Planning Commission Chair\nDave Sears – Town Road Commissioner\nEd Dumas – Town Police Chief\nMike Rowe – Town Recreation Director\nMike Delehanty – Town 1st Constable\nJohn Paul Faignant – Town Health Officer / Public Safety Building Clerk / 2nd Constable\nBill Sweet – Town Administrator\n\nCommittee / Project List Updates \n\nEnergy Committee\nHighway Committee\nUpdate on Select Board Project List\n\nAction Needed \n\nBoard to review 2023 paving bids for award\nBoard to review for adoption\, the updated Permit Tracking Ordinance\nBoard to review request to join the Rutland Region Public Works Mutual Aid for 2023\nBoard to review for approval\, Town MS4 Annual Report\nBoard to meet with Solli Engineering regarding 167 US Route 7 South redevelopment\nPublic Safety Building Update\nAny Other New Business\nAny necessary Executive Session
URL:https://www.rutlandtown.com/event/select-board-meeting-2021-07-20-2021-08-31-2022-01-18-2022-05-24-2023-03-28/
LOCATION:Town of Rutland Municipal Building\, 181Business Route 4\, Center Rutland\, VT\, 05736\, United States
CATEGORIES:Select Board
END:VEVENT
END:VCALENDAR