BEGIN:VCALENDAR
VERSION:2.0
PRODID:-//The Town of Rutland, Vermont - ECPv6.15.20//NONSGML v1.0//EN
CALSCALE:GREGORIAN
METHOD:PUBLISH
X-ORIGINAL-URL:https://www.rutlandtown.com
X-WR-CALDESC:Events for The Town of Rutland, Vermont
REFRESH-INTERVAL;VALUE=DURATION:PT1H
X-Robots-Tag:noindex
X-PUBLISHED-TTL:PT1H
BEGIN:VTIMEZONE
TZID:UTC
BEGIN:STANDARD
TZOFFSETFROM:+0000
TZOFFSETTO:+0000
TZNAME:UTC
DTSTART:20220101T000000
END:STANDARD
END:VTIMEZONE
BEGIN:VEVENT
DTSTART;TZID=UTC:20230511T183000
DTEND;TZID=UTC:20230511T193000
DTSTAMP:20260425T215736
CREATED:20230315T180347Z
LAST-MODIFIED:20230505T165046Z
UID:10000679-1683829800-1683833400@www.rutlandtown.com
SUMMARY:Public Meeting for the Proposed Short-Term Rental Ordinance
DESCRIPTION:DRAFT Short Term Rental Ordinance \nDRAFT Short Term Rental Permit \nShort-Term Rental Frequently Asked Questions – Updated 5/1/2023 \nThe Planning Commission is holding this public meeting to get feedback on the proposed ordinance. \nThis meeting will be part of the regular Planning Commission meeting. \nClick HERE to join the meeting remotely.
URL:https://www.rutlandtown.com/event/public-meeting-for-the-proposed-short-term-rental-ordinance/
LOCATION:Town of Rutland Municipal Building\, 181Business Route 4\, Center Rutland\, VT\, 05736\, United States
CATEGORIES:Community,Municipal Date,Planning Commission
END:VEVENT
BEGIN:VEVENT
DTSTART;TZID=UTC:20230511T183000
DTEND;TZID=UTC:20230511T200000
DTSTAMP:20260425T215736
CREATED:20210715T124556Z
LAST-MODIFIED:20230510T121206Z
UID:10000418-1683829800-1683835200@www.rutlandtown.com
SUMMARY:Planning Commission Meeting
DESCRIPTION:Planning Commission Agenda 5-11-2023 \nClick HERE to join the meeting remotely. \nTOWN OF RUTLAND PLANNING COMMISSION AGENDA \nThursday\, May 11\, 2023  \nLocation: Rutland Town Municipal Town Hall and Zoom Conferencing  \nOpen Meeting – 6:30 PM  \n  \nTo participate via zoom please call (646) 558-8656 or visit zoom.us/join and enter meeting ID 985 4127 6671.  \nCall to Order/ Pledge of Allegiance \nApproval of Agenda \nPublic Comment on Draft Short Term Rentals Ordinance \nOther Public Comment \nNew Business \nOld Business \n\nReview comments from public on draft Short Term Rentals ordinance\nReview draft Subdivision Ordinance\nUpdate on Energy Committee\n\nAnnouncements/News \nApproval of Minutes \n\nApril 20\, 2023\n\nAdjournment
URL:https://www.rutlandtown.com/event/town-of-rutland-planning-commission-meeting-2-2021-12-09-2022-01-27-2023-01-19-2023-05-11/
LOCATION:Town of Rutland Municipal Building\, 181Business Route 4\, Center Rutland\, VT\, 05736\, United States
CATEGORIES:Planning Commission
END:VEVENT
END:VCALENDAR