BEGIN:VCALENDAR
VERSION:2.0
PRODID:-//The Town of Rutland, Vermont - ECPv6.15.20//NONSGML v1.0//EN
CALSCALE:GREGORIAN
METHOD:PUBLISH
X-WR-CALNAME:The Town of Rutland, Vermont
X-ORIGINAL-URL:https://www.rutlandtown.com
X-WR-CALDESC:Events for The Town of Rutland, Vermont
REFRESH-INTERVAL;VALUE=DURATION:PT1H
X-Robots-Tag:noindex
X-PUBLISHED-TTL:PT1H
BEGIN:VTIMEZONE
TZID:UTC
BEGIN:STANDARD
TZOFFSETFROM:+0000
TZOFFSETTO:+0000
TZNAME:UTC
DTSTART:20220101T000000
END:STANDARD
END:VTIMEZONE
BEGIN:VEVENT
DTSTART;TZID=UTC:20230519T090000
DTEND;TZID=UTC:20230519T170000
DTSTAMP:20260425T225221
CREATED:20230516T164722Z
LAST-MODIFIED:20230516T164722Z
UID:10000700-1684486800-1684515600@www.rutlandtown.com
SUMMARY:Town Wide Celebration Committee Meeting
DESCRIPTION:Town Wide Celebration Committee Agenda 5-19-2023 \nRUTLAND TOWN SELECT BOARD COMMITTEE MEETING \nTOWN WIDE CELEBRATION COMMITTEE  \nFriday May 19th\, 9AM \nLocation: Rutland Town Municipal Town Hall and Zoom Conferencing \nTo participate via zoom please call (646) 558-8656 or visit zoom.us/join and enter meeting ID 851 9094 1198. \nAgenda: \n\nReview plans for the Town Wide Celebration\nAny other business
URL:https://www.rutlandtown.com/event/town-wide-celebration-committee-meeting-3/
LOCATION:VT\, United States
CATEGORIES:Committee Meeting,Community
END:VEVENT
END:VCALENDAR