BEGIN:VCALENDAR
VERSION:2.0
PRODID:-//The Town of Rutland, Vermont - ECPv6.15.20//NONSGML v1.0//EN
CALSCALE:GREGORIAN
METHOD:PUBLISH
X-WR-CALNAME:The Town of Rutland, Vermont
X-ORIGINAL-URL:https://www.rutlandtown.com
X-WR-CALDESC:Events for The Town of Rutland, Vermont
REFRESH-INTERVAL;VALUE=DURATION:PT1H
X-Robots-Tag:noindex
X-PUBLISHED-TTL:PT1H
BEGIN:VTIMEZONE
TZID:UTC
BEGIN:STANDARD
TZOFFSETFROM:+0000
TZOFFSETTO:+0000
TZNAME:UTC
DTSTART:20220101T000000
END:STANDARD
END:VTIMEZONE
BEGIN:VEVENT
DTSTART;TZID=UTC:20230523T070000
DTEND;TZID=UTC:20230523T190000
DTSTAMP:20260425T225220
CREATED:20230420T181842Z
LAST-MODIFIED:20230510T162216Z
UID:10000591-1684825200-1684868400@www.rutlandtown.com
SUMMARY:Special Election
DESCRIPTION:May 23rd\, 2023 Ballot Warning\nPolling locations will be open for this special election. \nBallots will be mailed to each registered Town voter. \nPublic Safety Building Cost Information \nFAQs for Rutland Town Public Safety Building at McKinley Avenue
URL:https://www.rutlandtown.com/event/special-election/
LOCATION:VT\, United States
CATEGORIES:Community,Municipal Date,Select Board
END:VEVENT
END:VCALENDAR