BEGIN:VCALENDAR
VERSION:2.0
PRODID:-//The Town of Rutland, Vermont - ECPv6.15.20//NONSGML v1.0//EN
CALSCALE:GREGORIAN
METHOD:PUBLISH
X-WR-CALNAME:The Town of Rutland, Vermont
X-ORIGINAL-URL:https://www.rutlandtown.com
X-WR-CALDESC:Events for The Town of Rutland, Vermont
REFRESH-INTERVAL;VALUE=DURATION:PT1H
X-Robots-Tag:noindex
X-PUBLISHED-TTL:PT1H
BEGIN:VTIMEZONE
TZID:UTC
BEGIN:STANDARD
TZOFFSETFROM:+0000
TZOFFSETTO:+0000
TZNAME:UTC
DTSTART:20220101T000000
END:STANDARD
END:VTIMEZONE
BEGIN:VEVENT
DTSTART;TZID=UTC:20230531T090000
DTEND;TZID=UTC:20230531T100000
DTSTAMP:20260425T225222
CREATED:20230524T170003Z
LAST-MODIFIED:20230524T170003Z
UID:10000701-1685523600-1685527200@www.rutlandtown.com
SUMMARY:Building / Committee Meeting
DESCRIPTION:RUTLAND TOWN SELECT BOARD COMMITTEE MEETING \nBUILDING / TECHNOLOGY COMMITTEE  \nWednesday May 31st\, 9AM \nLocation: Rutland Town Municipal Town Hall \nAgenda: \n\nMeet with architect to discuss downstairs remodel work at Town Hall\nAny other business
URL:https://www.rutlandtown.com/event/building-committee-meeting-2/
LOCATION:Town of Rutland Municipal Building\, 181Business Route 4\, Center Rutland\, VT\, 05736\, United States
CATEGORIES:Committee Meeting
END:VEVENT
END:VCALENDAR