BEGIN:VCALENDAR
VERSION:2.0
PRODID:-//The Town of Rutland, Vermont - ECPv6.15.20//NONSGML v1.0//EN
CALSCALE:GREGORIAN
METHOD:PUBLISH
X-WR-CALNAME:The Town of Rutland, Vermont
X-ORIGINAL-URL:https://www.rutlandtown.com
X-WR-CALDESC:Events for The Town of Rutland, Vermont
REFRESH-INTERVAL;VALUE=DURATION:PT1H
X-Robots-Tag:noindex
X-PUBLISHED-TTL:PT1H
BEGIN:VTIMEZONE
TZID:UTC
BEGIN:STANDARD
TZOFFSETFROM:+0000
TZOFFSETTO:+0000
TZNAME:UTC
DTSTART:20230101T000000
END:STANDARD
END:VTIMEZONE
BEGIN:VEVENT
DTSTART;TZID=UTC:20240925T153000
DTEND;TZID=UTC:20240925T173000
DTSTAMP:20260425T175633
CREATED:20240913T131313Z
LAST-MODIFIED:20240916T170129Z
UID:10001381-1727278200-1727285400@www.rutlandtown.com
SUMMARY:Finance Committee Meeting
DESCRIPTION:Finance Committee Agenda 9-25-2024 \nRUTLAND TOWN SELECT BOARD COMMITTEE MEETING \nFINANCE COMMITTEE  \nWednesday\, September 25th\, 3:30PM \nLocation: Rutland Town Municipal Town Hall and Zoom Conferencing \nTo join via zoom call (646) 558-8656 or visit zoom.us/join and enter meeting ID 851 9094 1198. \nAgenda: \n\nReview Capital Improvement settlement balances and calculations\nReview Cortina Inn settlement balances and calculations\nDiscuss the need and process for a single audit\nAny other business.
URL:https://www.rutlandtown.com/event/personnel-committee-meeting-16/
LOCATION:Town of Rutland Municipal Building\, 181Business Route 4\, Center Rutland\, VT\, 05736\, United States
CATEGORIES:Committee Meeting
END:VEVENT
END:VCALENDAR