BEGIN:VCALENDAR
VERSION:2.0
PRODID:-//The Town of Rutland, Vermont - ECPv6.15.20//NONSGML v1.0//EN
CALSCALE:GREGORIAN
METHOD:PUBLISH
X-WR-CALNAME:The Town of Rutland, Vermont
X-ORIGINAL-URL:https://www.rutlandtown.com
X-WR-CALDESC:Events for The Town of Rutland, Vermont
REFRESH-INTERVAL;VALUE=DURATION:PT1H
X-Robots-Tag:noindex
X-PUBLISHED-TTL:PT1H
BEGIN:VTIMEZONE
TZID:UTC
BEGIN:STANDARD
TZOFFSETFROM:+0000
TZOFFSETTO:+0000
TZNAME:UTC
DTSTART:20230101T000000
END:STANDARD
END:VTIMEZONE
BEGIN:VEVENT
DTSTART;TZID=UTC:20241125T160000
DTEND;TZID=UTC:20241125T170000
DTSTAMP:20260424T142309
CREATED:20241119T152810Z
LAST-MODIFIED:20241119T152823Z
UID:10001400-1732550400-1732554000@www.rutlandtown.com
SUMMARY:Police Committee Meeting
DESCRIPTION:Police Committee Agenda 11-25-2024 \nRUTLAND TOWN SELECTBOARD COMMITTEE MEETING \nPOLICE COMMITTEE  \nMonday\, November 25th\, 4:00PM \nLocation: Rutland Town Municipal Town Hall and Zoom Conferencing \nTo join via zoom call (646) 558-8656 or visit zoom.us/join and enter meeting ID 851 9094 1198. \nAgenda: \n\nBudget planning for the next fiscal year\n\n\nAny other business.
URL:https://www.rutlandtown.com/event/rec-committee-meeting-9/
CATEGORIES:Committee Meeting
END:VEVENT
END:VCALENDAR