BEGIN:VCALENDAR
VERSION:2.0
PRODID:-//The Town of Rutland, Vermont - ECPv6.15.20//NONSGML v1.0//EN
CALSCALE:GREGORIAN
METHOD:PUBLISH
X-WR-CALNAME:The Town of Rutland, Vermont
X-ORIGINAL-URL:https://www.rutlandtown.com
X-WR-CALDESC:Events for The Town of Rutland, Vermont
REFRESH-INTERVAL;VALUE=DURATION:PT1H
X-Robots-Tag:noindex
X-PUBLISHED-TTL:PT1H
BEGIN:VTIMEZONE
TZID:UTC
BEGIN:STANDARD
TZOFFSETFROM:+0000
TZOFFSETTO:+0000
TZNAME:UTC
DTSTART:20240101T000000
END:STANDARD
END:VTIMEZONE
BEGIN:VEVENT
DTSTART;TZID=UTC:20251024T160000
DTEND;TZID=UTC:20251024T173000
DTSTAMP:20260422T135425
CREATED:20250918T121739Z
LAST-MODIFIED:20250918T121739Z
UID:10001564-1761321600-1761327000@www.rutlandtown.com
SUMMARY:Halloween party at the Town School
DESCRIPTION:
URL:https://www.rutlandtown.com/event/halloween-party-at-the-town-school/
LOCATION:Rutland Town School\, 1612 Post Road\, Rutland\, VT\, 05701\, United States
CATEGORIES:Community
END:VEVENT
END:VCALENDAR