BEGIN:VCALENDAR
VERSION:2.0
PRODID:-//The Town of Rutland, Vermont - ECPv6.15.20//NONSGML v1.0//EN
CALSCALE:GREGORIAN
METHOD:PUBLISH
X-ORIGINAL-URL:https://www.rutlandtown.com
X-WR-CALDESC:Events for The Town of Rutland, Vermont
REFRESH-INTERVAL;VALUE=DURATION:PT1H
X-Robots-Tag:noindex
X-PUBLISHED-TTL:PT1H
BEGIN:VTIMEZONE
TZID:UTC
BEGIN:STANDARD
TZOFFSETFROM:+0000
TZOFFSETTO:+0000
TZNAME:UTC
DTSTART:20240101T000000
END:STANDARD
END:VTIMEZONE
BEGIN:VEVENT
DTSTART;TZID=UTC:20251118T180000
DTEND;TZID=UTC:20251118T210000
DTSTAMP:20260422T122050
CREATED:20251113T180617Z
LAST-MODIFIED:20251113T180618Z
UID:10001281-1763488800-1763499600@www.rutlandtown.com
SUMMARY:Selectboard Meeting
DESCRIPTION:Click HERE to join the meeting remotely. \nSelectboard Agenda 11-18-2025 \nTOWN OF RUTLAND SELECTBOARD MEETING NOTICE AND AGENDA \nMUNICIPAL TOWN HALL AND ZOOM CONFERENCING \n6:00 PM Tuesday November 18th\, 2025 \nTo participate via zoom please visit zoom.us/join or call (646) 558-8656 and enter meeting ID 939 1518 8696. \nhttps://us06web.zoom.us/j/93915188696 \nMeeting Opening \n\nPledge of Allegiance\nApproval of Selectboard Minutes:\n\nNovember 4th Regular Meeting\nNovember 12th Special Meeting\n\n\nApproval of Orders\nBoard Member Announcements\nUpdate from the Selectboard Chair\nQuestions from the floor; public comments\n\nDepartment Head Reports \n\nBarbara Pulling – Town Planning Commission Chair\nDave Sears – Town Road Commissioner\nChris Clark – Town Fire Chief\nEd Dumas – Town Police Chief\nMike Rowe – Town Recreation Director\nMike Delehanty – Town 1st Constable\nJoe Denardo – Public Safety Building Clerk\nJohn Paul Faignant – Town Health Officer / 2nd Constable\nLarry Dell Veneri – Town Transfer Station Manager\nMarcia Chioffi – Town Head Lister\nKari Clark – Town Clerk & Treasurer\nBill Sweet – Town Administrator\n\nAction items \n\nBoard to meet with representatives from the Chamber of Economic Development of the Rutland Region\nBoard to discuss adding questions to residents on the March ballot\nBoard to discuss Post Road Sidewalk grant status\nBoard to review Act 250 progress being made on the Walmart project\nBoard to review monthly budget status reports\nBoard to discuss the process to create and implement a disaster recovery process\nBoard to review new health insurance opt-out documents\, policy addendum and form\nBoard to meet in executive session to discuss a personnel matter pursuant to 1 V.S.A. § 313(a)(3)\nUpdate the Selectboard project list\nCommittee meeting reports – Rec\, Personnel\, Highway
URL:https://www.rutlandtown.com/event/select-board-meeting-2-31/
LOCATION:Town of Rutland Municipal Building\, 181Business Route 4\, Center Rutland\, VT\, 05736\, United States
CATEGORIES:Select Board
END:VEVENT
END:VCALENDAR