BEGIN:VCALENDAR
VERSION:2.0
PRODID:-//The Town of Rutland, Vermont - ECPv6.15.20//NONSGML v1.0//EN
CALSCALE:GREGORIAN
METHOD:PUBLISH
X-ORIGINAL-URL:https://www.rutlandtown.com
X-WR-CALDESC:Events for The Town of Rutland, Vermont
REFRESH-INTERVAL;VALUE=DURATION:PT1H
X-Robots-Tag:noindex
X-PUBLISHED-TTL:PT1H
BEGIN:VTIMEZONE
TZID:UTC
BEGIN:STANDARD
TZOFFSETFROM:+0000
TZOFFSETTO:+0000
TZNAME:UTC
DTSTART:20230101T000000
END:STANDARD
END:VTIMEZONE
BEGIN:VEVENT
DTSTART;TZID=UTC:20241213T100000
DTEND;TZID=UTC:20241213T120000
DTSTAMP:20260425T165127
CREATED:20241211T130028Z
LAST-MODIFIED:20241211T130028Z
UID:10001404-1734084000-1734091200@www.rutlandtown.com
SUMMARY:Highway Committee Meeting
DESCRIPTION:Highway Committee Agenda 12-13-2024 \nRUTLAND TOWN SELECTBOARD COMMITTEE MEETING \nHIGHWAY COMMITTEE  \nFriday\, December 13th\, 1000AM \nLocation: Rutland Town Municipal Town Hall and Zoom Conferencing \nTo join via zoom call (646) 558-8656 or visit zoom.us/join and enter meeting ID 851 9094 1198. \nAgenda: \n\nDiscuss the Route 7 South Sewer\nDiscuss the Simons Avenue intersection change\nAny other business
URL:https://www.rutlandtown.com/event/highway-committee-meeting-23/
LOCATION:Town of Rutland Municipal Building\, 181Business Route 4\, Center Rutland\, VT\, 05736\, United States
CATEGORIES:Committee Meeting
END:VEVENT
BEGIN:VEVENT
DTSTART;TZID=UTC:20241217T160000
DTEND;TZID=UTC:20241217T170000
DTSTAMP:20260425T165127
CREATED:20241212T161205Z
LAST-MODIFIED:20241212T161205Z
UID:10001405-1734451200-1734454800@www.rutlandtown.com
SUMMARY:Finance Committee Meeting
DESCRIPTION:Finance Committee Agenda 12-17-2024 \nRUTLAND TOWN SELECTBOARD COMMITTEE MEETING \nFINANCE COMMITTEE  \nTuesday\, December 17th\, 4:00PM \nLocation: Rutland Town Municipal Town Hall and Zoom Conferencing \nTo join via zoom call (646) 558-8656 or visit zoom.us/join and enter meeting ID 851 9094 1198. \nAgenda: \n\nMeet with the Town Auditor to review the draft audit.\nAny other business.
URL:https://www.rutlandtown.com/event/finance-committee-meeting-3/
LOCATION:Town of Rutland Municipal Building\, 181Business Route 4\, Center Rutland\, VT\, 05736\, United States
CATEGORIES:Committee Meeting
END:VEVENT
END:VCALENDAR