BEGIN:VCALENDAR
VERSION:2.0
PRODID:-//The Town of Rutland, Vermont - ECPv6.15.20//NONSGML v1.0//EN
CALSCALE:GREGORIAN
METHOD:PUBLISH
X-WR-CALNAME:The Town of Rutland, Vermont
X-ORIGINAL-URL:https://www.rutlandtown.com
X-WR-CALDESC:Events for The Town of Rutland, Vermont
REFRESH-INTERVAL;VALUE=DURATION:PT1H
X-Robots-Tag:noindex
X-PUBLISHED-TTL:PT1H
BEGIN:VTIMEZONE
TZID:UTC
BEGIN:STANDARD
TZOFFSETFROM:+0000
TZOFFSETTO:+0000
TZNAME:UTC
DTSTART:20240101T000000
END:STANDARD
END:VTIMEZONE
BEGIN:VEVENT
DTSTART;TZID=UTC:20250603T163000
DTEND;TZID=UTC:20250603T180000
DTSTAMP:20260424T131532
CREATED:20250519T175009Z
LAST-MODIFIED:20250529T153645Z
UID:10001533-1748968200-1748973600@www.rutlandtown.com
SUMMARY:Police Committee Meeting
DESCRIPTION:Police Committee Agenda 6-3-2025 \nRUTLAND TOWN SELECTBOARD COMMITTEE MEETING \nPOLICE COMMITTEE  \nTuesday\, June 3rd\, 2025\, 4:30PM \nLocation: Rutland Town Municipal Town Hall and Zoom Conferencing \nTo join via zoom call (646) 558-8656 or visit zoom.us/join and enter meeting ID 851 9094 1198. \nAgenda: \n\nReview of fiscal year end finances\nOvertime\nMileage and south end patrols\nCoverage and shifts for the coming year\nDraft alarm ordinance\nAny other business
URL:https://www.rutlandtown.com/event/police-committee-meeting-20/
LOCATION:Town of Rutland Municipal Building\, 181Business Route 4\, Center Rutland\, VT\, 05736\, United States
CATEGORIES:Committee Meeting
END:VEVENT
BEGIN:VEVENT
DTSTART;TZID=UTC:20250623T140000
DTEND;TZID=UTC:20250623T143000
DTSTAMP:20260424T131532
CREATED:20250619T131726Z
LAST-MODIFIED:20250619T131726Z
UID:10001539-1750687200-1750689000@www.rutlandtown.com
SUMMARY:Lister Special Meeting
DESCRIPTION:Lister Special Meeting Agenda 6-23-2025 \nNOTICE OF THE LISTERS OF THE TOWN OF RUTLAND FOR A SPECIAL MEETING \nPURSUANT TO 1 V.S.A. S 310(5). \n\n\n\nTO:\nRESIDENTS OF THE TOWN OF RUTLAND\, VERMONT\n\n\nDATED:\nJune 18\, 2025\n\n\n\nYou are hereby notified there will be a meeting of the Town of Rutland Board of \nListers on Monday June 23\, 2025 at 2:00 PM at 181 Business Route 4\, Center Rutland\, VT 05736\, to sign the certificate and notices which accompany the preliminary grand list for filing with the Clerk for the Town of Rutland\, Vermont. \nRutland Town Board of Listers \nMarcia Chioffi \nMarie Faignant \nCathy Kapitanski
URL:https://www.rutlandtown.com/event/lister-special-meeting/
LOCATION:Town of Rutland Municipal Building\, 181Business Route 4\, Center Rutland\, VT\, 05736\, United States
CATEGORIES:Committee Meeting
END:VEVENT
END:VCALENDAR