BEGIN:VCALENDAR
VERSION:2.0
PRODID:-//The Town of Rutland, Vermont - ECPv6.15.20//NONSGML v1.0//EN
CALSCALE:GREGORIAN
METHOD:PUBLISH
X-WR-CALNAME:The Town of Rutland, Vermont
X-ORIGINAL-URL:https://www.rutlandtown.com
X-WR-CALDESC:Events for The Town of Rutland, Vermont
REFRESH-INTERVAL;VALUE=DURATION:PT1H
X-Robots-Tag:noindex
X-PUBLISHED-TTL:PT1H
BEGIN:VTIMEZONE
TZID:UTC
BEGIN:STANDARD
TZOFFSETFROM:+0000
TZOFFSETTO:+0000
TZNAME:UTC
DTSTART:20240101T000000
END:STANDARD
END:VTIMEZONE
BEGIN:VEVENT
DTSTART;TZID=UTC:20251001T120000
DTEND;TZID=UTC:20251001T130000
DTSTAMP:20260424T063242
CREATED:20250926T190610Z
LAST-MODIFIED:20250926T190610Z
UID:10001567-1759320000-1759323600@www.rutlandtown.com
SUMMARY:Finance Committee Meeting
DESCRIPTION:Finance Committee Agenda 10-1-2025 \nRUTLAND TOWN SELECTBOARD  \nFINANCE / PERSONNEL COMMITTEE MEETING \nWednesday\, October 1st\, 2025\, 12:00PM \nLocation: Rutland Town Municipal Town Hall and Zoom Conferencing \n  \nTo join via zoom call (646) 558-8656 or visit zoom.us/join and enter meeting ID 851 9094 1198. \nAgenda: \n\nDiscuss ADP / Payroll\nRec director position\nSuccession Planning\nEstablish a personnel performance review system\, and create job descriptions\nSRO Reimbursement practice and amounts\nAccounting policy and procedures\, audit recommendation\nReview recommendations from the last town audit\nBudget planning for the next fiscal year\nAny other business
URL:https://www.rutlandtown.com/event/finance-committee-meeting-4/
LOCATION:Town of Rutland Municipal Building\, 181Business Route 4\, Center Rutland\, VT\, 05736\, United States
CATEGORIES:Committee Meeting
END:VEVENT
BEGIN:VEVENT
DTSTART;TZID=UTC:20251014T130000
DTEND;TZID=UTC:20251014T140000
DTSTAMP:20260424T063242
CREATED:20251010T164136Z
LAST-MODIFIED:20251010T164136Z
UID:10001571-1760446800-1760450400@www.rutlandtown.com
SUMMARY:Personnel / Finance Committee Meeting
DESCRIPTION:Personnel / Finance Committee Meeting Agenda 10-14-2025 \nRUTLAND TOWN SELECTBOARD  \nFINANCE / PERSONNEL COMMITTEE MEETING \nTuesday\, October 14th\, 2025\, 1:00PM \nLocation: Rutland Town Municipal Town Hall and Zoom Conferencing \nTo join via zoom call (646) 558-8656 or visit zoom.us/join and enter meeting ID 851 9094 1198. \nAgenda: \n\nMeet with the Town auditor to review audit results.\nAny other business
URL:https://www.rutlandtown.com/event/personnel-finance-committee-meeting-4/
LOCATION:Town of Rutland Municipal Building\, 181Business Route 4\, Center Rutland\, VT\, 05736\, United States
CATEGORIES:Committee Meeting
END:VEVENT
BEGIN:VEVENT
DTSTART;TZID=UTC:20251015T180000
DTEND;TZID=UTC:20251015T200000
DTSTAMP:20260424T063242
CREATED:20251001T151237Z
LAST-MODIFIED:20251001T151237Z
UID:10001569-1760551200-1760558400@www.rutlandtown.com
SUMMARY:October 15th Route 7 North Shared Use Path Public Meeting
DESCRIPTION:Rutland Town STP BP23(14) CP Meeting Flyer
URL:https://www.rutlandtown.com/event/october-15th-route-7-north-shared-use-path-public-meeting/
LOCATION:Town of Rutland Municipal Building\, 181Business Route 4\, Center Rutland\, VT\, 05736\, United States
CATEGORIES:Committee Meeting,Community
END:VEVENT
BEGIN:VEVENT
DTSTART;TZID=UTC:20251027T160000
DTEND;TZID=UTC:20251027T170000
DTSTAMP:20260424T063242
CREATED:20251022T172402Z
LAST-MODIFIED:20251027T133651Z
UID:10001575-1761580800-1761584400@www.rutlandtown.com
SUMMARY:Fire Committee meeting
DESCRIPTION:Fire Committee Agenda 10-27-2025 \nRUTLAND TOWN SELECTBOARD  \nFIRE COMMITTEE MEETING \nMonday\, October 27th \, 2025\, 4:00 PM \nLocation: Rutland Town Municipal Town Hall and Zoom Conferencing \nTo join via zoom call (646) 558-8656 or visit zoom.us/join and enter meeting ID 851 9094 1198. \nAgenda: \n\nDiscuss proposed changes to the bylaws\nReview the draft budget for FY 27\nAny other business.
URL:https://www.rutlandtown.com/event/fire-committee-meeting-9/
LOCATION:Town of Rutland Municipal Building\, 181Business Route 4\, Center Rutland\, VT\, 05736\, United States
CATEGORIES:Committee Meeting
END:VEVENT
BEGIN:VEVENT
DTSTART;TZID=UTC:20251028T090000
DTEND;TZID=UTC:20251028T100000
DTSTAMP:20260424T063242
CREATED:20251021T193437Z
LAST-MODIFIED:20251021T193437Z
UID:10001574-1761642000-1761645600@www.rutlandtown.com
SUMMARY:Finance Committee Meeting
DESCRIPTION:Finance Committee Agenda 10-28-2025 \nRUTLAND TOWN SELECTBOARD  \nFINANCE COMMITTEE MEETING \nTuesday\, October 28th\, 2025\, 9:00 AM \nLocation: Rutland Town Municipal Town Hall and Zoom Conferencing \nTo join via zoom call (646) 558-8656 or visit zoom.us/join and enter meeting ID 851 9094 1198. \nAgenda: \n\nPolice assigned fund balance\nAny other business
URL:https://www.rutlandtown.com/event/finance-committee-meeting-5/
LOCATION:Town of Rutland Municipal Building\, 181Business Route 4\, Center Rutland\, VT\, 05736\, United States
CATEGORIES:Committee Meeting
END:VEVENT
BEGIN:VEVENT
DTSTART;TZID=UTC:20251031T090000
DTEND;TZID=UTC:20251031T100000
DTSTAMP:20260424T063242
CREATED:20251028T174642Z
LAST-MODIFIED:20251028T174642Z
UID:10001577-1761901200-1761904800@www.rutlandtown.com
SUMMARY:Police Committee Meeting
DESCRIPTION:Police Committee Agenda 10-31-2025 \nRUTLAND TOWN SELECTBOARD  \nPOLICE COMMITTEE MEETING \nFriday\, October 31st\, 2025\, 9:00 AM \nLocation: Rutland Town Municipal Town Hall and Zoom Conferencing \nTo join via zoom call (646) 558-8656 or visit zoom.us/join and enter meeting ID 851 9094 1198. \nAgenda: \n\nBudget planning for FY 27\nDiscuss benefit options\nUpdate on forfeitures\nAny other business
URL:https://www.rutlandtown.com/event/police-committee-meeting-21/
LOCATION:Town of Rutland Municipal Building\, 181Business Route 4\, Center Rutland\, VT\, 05736\, United States
CATEGORIES:Committee Meeting
END:VEVENT
END:VCALENDAR