BEGIN:VCALENDAR
VERSION:2.0
PRODID:-//The Town of Rutland, Vermont - ECPv6.15.20//NONSGML v1.0//EN
CALSCALE:GREGORIAN
METHOD:PUBLISH
X-WR-CALNAME:The Town of Rutland, Vermont
X-ORIGINAL-URL:https://www.rutlandtown.com
X-WR-CALDESC:Events for The Town of Rutland, Vermont
REFRESH-INTERVAL;VALUE=DURATION:PT1H
X-Robots-Tag:noindex
X-PUBLISHED-TTL:PT1H
BEGIN:VTIMEZONE
TZID:UTC
BEGIN:STANDARD
TZOFFSETFROM:+0000
TZOFFSETTO:+0000
TZNAME:UTC
DTSTART:20230101T000000
END:STANDARD
END:VTIMEZONE
BEGIN:VEVENT
DTSTART;TZID=UTC:20241008T170000
DTEND;TZID=UTC:20241008T180000
DTSTAMP:20260426T040121
CREATED:20241002T185904Z
LAST-MODIFIED:20241002T185904Z
UID:10001385-1728406800-1728410400@www.rutlandtown.com
SUMMARY:Rec Committee Meeting
DESCRIPTION:Rec Committee Agenda 10-8-2024 \nRUTLAND TOWN SELECT BOARD COMMITTEE MEETING \nRECREATION COMMITTEE  \nTuesday October 8th \, 5:00PM \nLocation: Rutland Town Municipal Town Hall and Zoom Conferencing \nTo join via zoom call (646) 558-8656 or visit zoom.us/join and enter meeting ID 851 9094 1198. \nAgenda: \n\nDewey field turf replacement\nHalloween Party\nUpcoming budget items\nRec Facebook Page\nAny other business\n\n 
URL:https://www.rutlandtown.com/event/rec-committee-meeting-7/
LOCATION:Town of Rutland Municipal Building\, 181Business Route 4\, Center Rutland\, VT\, 05736\, United States
CATEGORIES:Committee Meeting
END:VEVENT
END:VCALENDAR