BEGIN:VCALENDAR
VERSION:2.0
PRODID:-//The Town of Rutland, Vermont - ECPv6.15.20//NONSGML v1.0//EN
CALSCALE:GREGORIAN
METHOD:PUBLISH
X-ORIGINAL-URL:https://www.rutlandtown.com
X-WR-CALDESC:Events for The Town of Rutland, Vermont
REFRESH-INTERVAL;VALUE=DURATION:PT1H
X-Robots-Tag:noindex
X-PUBLISHED-TTL:PT1H
BEGIN:VTIMEZONE
TZID:UTC
BEGIN:STANDARD
TZOFFSETFROM:+0000
TZOFFSETTO:+0000
TZNAME:UTC
DTSTART:20210101T000000
END:STANDARD
END:VTIMEZONE
BEGIN:VEVENT
DTSTART;TZID=UTC:20230515T110000
DTEND;TZID=UTC:20230515T120000
DTSTAMP:20260423T133937
CREATED:20230511T175448Z
LAST-MODIFIED:20230511T175448Z
UID:10000699-1684148400-1684152000@www.rutlandtown.com
SUMMARY:Personnel / Finance / Police Committee Meeting
DESCRIPTION:Personnel / Finance / Police Committee Agenda 5-15-2023 \nRUTLAND TOWN SELECT BOARD COMMITTEE MEETING \nPERSONNEL / FINANCE / POLICE COMMITTEE  \nMonday May 15th\, 11AM \nLocation: Rutland Town Municipal Town Hall and Zoom Conferencing \nTo participate via zoom please call (646) 558-8656 or visit zoom.us/join and enter meeting ID 851 9094 1198. \nAgenda: \n\nReview Personnel Policy for changes\nBenefit time accrual question from the PD\nSRO Car Maintenance Issue\nSelect Board Compensation\nReview of comments submitted by the Delinquent Tax Collector\nAny other business
URL:https://www.rutlandtown.com/event/personnel-finance-police-committee-meeting/
LOCATION:Town of Rutland Municipal Building\, 181Business Route 4\, Center Rutland\, VT\, 05736\, United States
CATEGORIES:Committee Meeting
END:VEVENT
BEGIN:VEVENT
DTSTART;TZID=UTC:20230510T090000
DTEND;TZID=UTC:20230510T100000
DTSTAMP:20260423T133937
CREATED:20230508T121044Z
LAST-MODIFIED:20230508T121044Z
UID:10000698-1683709200-1683712800@www.rutlandtown.com
SUMMARY:Building and Technology Committee Meeting
DESCRIPTION:Building and Technology Committee Meeting 5-10-2023 \nRUTLAND TOWN SELECT BOARD COMMITTEE MEETING \nBUILDING / TECHNOLOGY COMMITTEE  \nWednesday May 10th\, 9AM \nLocation: Rutland Town Municipal Town Hall \nAgenda: \n\nMeet with architect to discuss downstairs remodel work at Town Hall\nAny other business
URL:https://www.rutlandtown.com/event/building-and-technology-committee-meeting-2/
LOCATION:Town of Rutland Municipal Building\, 181Business Route 4\, Center Rutland\, VT\, 05736\, United States
CATEGORIES:Committee Meeting
END:VEVENT
BEGIN:VEVENT
DTSTART;TZID=UTC:20230508T110000
DTEND;TZID=UTC:20230508T120000
DTSTAMP:20260423T133937
CREATED:20230505T160337Z
LAST-MODIFIED:20230505T160337Z
UID:10000686-1683543600-1683547200@www.rutlandtown.com
SUMMARY:Scholarship Committee Meeting
DESCRIPTION:Scholarship Committee Agenda 5-8-2023 \nRUTLAND TOWN SELECT BOARD COMMITTEE MEETING \nSCHOLARSHIP COMMITTEE  \nMonday May 8th\, 11AM \nLocation: Rutland Town Municipal Town Hall \nAgenda: \n\nMeet in executive session to finalize scholarship awards.\nAny other business
URL:https://www.rutlandtown.com/event/scholarship-committee-meeting/
LOCATION:Town of Rutland Municipal Building\, 181Business Route 4\, Center Rutland\, VT\, 05736\, United States
CATEGORIES:Committee Meeting
END:VEVENT
BEGIN:VEVENT
DTSTART;TZID=UTC:20230505T090000
DTEND;TZID=UTC:20230505T100000
DTSTAMP:20260423T133937
CREATED:20230502T153432Z
LAST-MODIFIED:20230502T153432Z
UID:10000685-1683277200-1683280800@www.rutlandtown.com
SUMMARY:Highway Committee Meeting
DESCRIPTION:Highway Committee Agenda 5-5-2023 \nRUTLAND TOWN SELECT BOARD COMMITTEE MEETING \nHIGHWAY COMMITTEE  \nFriday May 5th\, 9AM \nLocation: Rutland Town Municipal Town Hall and Zoom Conferencing \nTo participate via zoom please call (646) 558-8656 or visit zoom.us/join and enter meeting ID 851 9094 1198. \nAgenda: \n\nDiscuss concerns regarding Simons Avenue\nAny other business
URL:https://www.rutlandtown.com/event/highway-committee-meeting-11/
LOCATION:Town of Rutland Municipal Building\, 181Business Route 4\, Center Rutland\, VT\, 05736\, United States
CATEGORIES:Committee Meeting
END:VEVENT
BEGIN:VEVENT
DTSTART;TZID=UTC:20230504T170000
DTEND;TZID=UTC:20230504T180000
DTSTAMP:20260423T133937
CREATED:20230426T194155Z
LAST-MODIFIED:20230426T194155Z
UID:10000682-1683219600-1683223200@www.rutlandtown.com
SUMMARY:Transfer Station Committee Meeting
DESCRIPTION:Transfer Station Committee Agenda 5-4-2023 \nRUTLAND TOWN SELECT BOARD COMMITTEE MEETING \nTRANSFER STATION COMMITTEE  \nThursday May 4th\, 5PM \nLocation: Rutland Town Municipal Town Hall \nAgenda: \n\nRecycling Costs and Operation\nAny other business\n\n 
URL:https://www.rutlandtown.com/event/transfer-station-committee-meeting-2/
LOCATION:Town of Rutland Municipal Building\, 181Business Route 4\, Center Rutland\, VT\, 05736\, United States
CATEGORIES:Committee Meeting
END:VEVENT
BEGIN:VEVENT
DTSTART;TZID=UTC:20230504T161500
DTEND;TZID=UTC:20230504T170000
DTSTAMP:20260423T133937
CREATED:20230501T151548Z
LAST-MODIFIED:20230501T151548Z
UID:10000683-1683216900-1683219600@www.rutlandtown.com
SUMMARY:Fire Committee Meeting
DESCRIPTION:Fire Committee Agenda 5-4-2023 \nRUTLAND TOWN SELECT BOARD COMMITTEE MEETING \nFIRE COMMITTEE  \nThursday May 4th\, 4:15PM \nLocation: Rutland Town Municipal Town Hall and Zoom Conferencing \nTo participate via zoom please call (646) 558-8656 or visit zoom.us/join and enter meeting ID 851 9094 1198. \nAgenda: \n\nDepreciation Account Funding\nDaytime response\nNew Public Safety Building\nAny other business
URL:https://www.rutlandtown.com/event/fire-committee-meeting-2/
LOCATION:Town of Rutland Municipal Building\, 181Business Route 4\, Center Rutland\, VT\, 05736\, United States
CATEGORIES:Committee Meeting
END:VEVENT
BEGIN:VEVENT
DTSTART;TZID=UTC:20230502T090000
DTEND;TZID=UTC:20230502T100000
DTSTAMP:20260423T133937
CREATED:20230426T171309Z
LAST-MODIFIED:20230426T171309Z
UID:10000681-1683018000-1683021600@www.rutlandtown.com
SUMMARY:Building / Technology Committee Meeting
DESCRIPTION:Building / Technology Committee Meeting 5-2-2023 \nRUTLAND TOWN SELECT BOARD COMMITTEE MEETING \nBUILDING / TECHNOLOGY COMMITTEE  \nTuesday May 2nd\, 9AM \nLocation: Rutland Town Municipal Town Hall and Zoom Conferencing \nTo participate via zoom please call (646) 558-8656 or visit zoom.us/join and enter meeting ID 851 9094 1198. \nAgenda: \n\nMeet with Rep from Consolidated regarding Town Phone System\nRemodel work at Town Hall\nSocial Media Policy review\nAny other business
URL:https://www.rutlandtown.com/event/building-technology-committee-meeting/
LOCATION:Town of Rutland Municipal Building\, 181Business Route 4\, Center Rutland\, VT\, 05736\, United States
CATEGORIES:Committee Meeting
END:VEVENT
BEGIN:VEVENT
DTSTART;TZID=UTC:20230425T170000
DTEND;TZID=UTC:20230425T180000
DTSTAMP:20260423T133937
CREATED:20230413T134551Z
LAST-MODIFIED:20230413T134551Z
UID:10000583-1682442000-1682445600@www.rutlandtown.com
SUMMARY:Public Safety Building Committee Meeting
DESCRIPTION:Public Safety Building Committee Agenda 4-25-2023 \nRUTLAND TOWN SELECT BOARD COMMITTEE MEETING \nPUBLIC SAFETY BUIILDING COMMITTEE \nTuesday April 25th\, 5PM \nLocation: Rutland Town Municipal Town Hall and Zoom Conferencing \nTo participate via zoom please call (646) 558-8656 or visit zoom.us/join and enter meeting ID 939 1518 8696. \nAgenda: \n\nMeet with architect Ed Clark to review the Public Safety Building\nAny other business
URL:https://www.rutlandtown.com/event/public-safety-building-committee-meeting-3/
LOCATION:Town of Rutland Municipal Building\, 181Business Route 4\, Center Rutland\, VT\, 05736\, United States
CATEGORIES:Committee Meeting,Select Board
END:VEVENT
BEGIN:VEVENT
DTSTART;TZID=UTC:20230424T173000
DTEND;TZID=UTC:20230424T183000
DTSTAMP:20260423T133937
CREATED:20230419T132136Z
LAST-MODIFIED:20230419T162143Z
UID:10000587-1682357400-1682361000@www.rutlandtown.com
SUMMARY:Rec Committee Meeting
DESCRIPTION:Rec Committee Agenda 4-24-2023 \nRUTLAND TOWN SELECT BOARD COMMITTEE MEETING \nRECREATION COMMITTEE  \nMonday April 24th\, 530PM \nLocation: Rutland Town Municipal Town Hall \nAgenda: \n\nE-Bikes on Northwood Trails\nDog issue at Northwood\nAny other business\n\n 
URL:https://www.rutlandtown.com/event/rec-committee-meeting-2/
LOCATION:Town of Rutland Municipal Building\, 181Business Route 4\, Center Rutland\, VT\, 05736\, United States
CATEGORIES:Committee Meeting
END:VEVENT
BEGIN:VEVENT
DTSTART;TZID=UTC:20230410T170000
DTEND;TZID=UTC:20230410T180000
DTSTAMP:20260423T133937
CREATED:20230403T173507Z
LAST-MODIFIED:20230403T173507Z
UID:10000579-1681146000-1681149600@www.rutlandtown.com
SUMMARY:Recreation Committee Meeting
DESCRIPTION:Recreation Committee Agenda 4-10-2023 \nRUTLAND TOWN SELECT BOARD COMMITTEE MEETING \nRECREATION COMMITTEE  \nMonday April 10th\, 5PM \nLocation: Rutland Town Municipal Town Hall \nAgenda: \n\nDog issue at Northwood\nPark Work\nEvery Day Canine event offer\nAny other business
URL:https://www.rutlandtown.com/event/recreation-committee-meeting-4/
LOCATION:Town of Rutland Municipal Building\, 181Business Route 4\, Center Rutland\, VT\, 05736\, United States
CATEGORIES:Committee Meeting
END:VEVENT
BEGIN:VEVENT
DTSTART;TZID=UTC:20230407T110000
DTEND;TZID=UTC:20230407T120000
DTSTAMP:20260423T133937
CREATED:20230330T152402Z
LAST-MODIFIED:20230330T152402Z
UID:10000576-1680865200-1680868800@www.rutlandtown.com
SUMMARY:Personnel / Finance Committee Meeting
DESCRIPTION:Personnel / Finance Commitee Agenda 4-7-2023 \nRUTLAND TOWN SELECT BOARD COMMITTEE MEETING \nPERSONNEL / FINANCE COMMITTEE  \nFriday April 7th\, 11AM \nLocation: Rutland Town Municipal Town Hall and Zoom Conferencing \nTo participate via zoom please call (646) 558-8656 or visit zoom.us/join and enter meeting ID 851 9094 1198. \nAgenda: \n\nReview Personnel Policy for changes\nBudget and Expense reporting from the Treasurer to the Board\nEstablish a personnel performance review system\nCreate job descriptions\nAny other business
URL:https://www.rutlandtown.com/event/personnel-finance-committee-meeting/
LOCATION:Town of Rutland Municipal Building\, 181Business Route 4\, Center Rutland\, VT\, 05736\, United States
CATEGORIES:Committee Meeting
END:VEVENT
BEGIN:VEVENT
DTSTART;TZID=UTC:20230324T100000
DTEND;TZID=UTC:20230324T110000
DTSTAMP:20260423T133937
CREATED:20230315T173600Z
LAST-MODIFIED:20230315T173600Z
UID:10000678-1679652000-1679655600@www.rutlandtown.com
SUMMARY:Highway Committee Meeting
DESCRIPTION:Highway Commitee Agenda 3-24-2023 \nRUTLAND TOWN SELECT BOARD COMMITTEE MEETING \nHIGHWAY COMMITTEE  \nFriday March 24th\, 10AM \nLocation: Rutland Town Municipal Town Hall and Zoom Conferencing \n  \nTo participate via zoom please call (646) 558-8656 \nor visit zoom.us/join and enter meeting ID 851 9094 1198. \nAgenda: \n\nOpen the paving bids\nReview of applicable policies / ordinances for updates\nAny other business\n\n 
URL:https://www.rutlandtown.com/event/highway-committee-meeting-10/
LOCATION:Town of Rutland Municipal Building\, 181Business Route 4\, Center Rutland\, VT\, 05736\, United States
CATEGORIES:Committee Meeting
END:VEVENT
BEGIN:VEVENT
DTSTART;TZID=UTC:20230317T130000
DTEND;TZID=UTC:20230317T140000
DTSTAMP:20260423T133937
CREATED:20230313T144606Z
LAST-MODIFIED:20230313T144606Z
UID:10000677-1679058000-1679061600@www.rutlandtown.com
SUMMARY:Energy Committee Meeting
DESCRIPTION:Energy Committee Agenda 3-17-2023 \nRUTLAND TOWN SELECTBOARD / PLANNING COMMISSION COMMITTEE MEETING \nENERGY COMMITTEE  \nFriday Marth 17th\, 1:00 PM \nLocation: Rutland Town Municipal Town Hall and Zoom Conferencing \nTo participate via zoom please call (646) 558-8656 \nor visit zoom.us/join and enter meeting ID 851 9094 1198. \nAgenda: \n\nPlanning energy-related elements for the August 19th Townwide Celebration\nAny other business
URL:https://www.rutlandtown.com/event/energy-committee-meeting-4/
LOCATION:Town of Rutland Municipal Building\, 181Business Route 4\, Center Rutland\, VT\, 05736\, United States
CATEGORIES:Committee Meeting,Planning Commission,Select Board
END:VEVENT
BEGIN:VEVENT
DTSTART;TZID=UTC:20230213T090000
DTEND;TZID=UTC:20230213T100000
DTSTAMP:20260423T133937
CREATED:20230208T180226Z
LAST-MODIFIED:20230208T180529Z
UID:10000694-1676278800-1676282400@www.rutlandtown.com
SUMMARY:Highway Committee Meeting
DESCRIPTION:Highway Committee Agenda 2-13-2023 \nRUTLAND TOWN SELECTBOARD COMMITTEE MEETING \nHIGHWAY COMMITTEE \nMonday February 13th\, 9AM \nLocation: Rutland Town Municipal Town Hall and Zoom Conferencing \n  \nTo participate via zoom please call (646) 558-8656 \nor visit zoom.us/join and enter meeting ID 851 9094 1198. \n  \n  \nAgenda: \n\nSpring / Sumer Project Planning\nReview of applicable policies / ordinances for updates\nAny other business
URL:https://www.rutlandtown.com/event/highway-committee-meeting-9/
LOCATION:VT\, United States
CATEGORIES:Committee Meeting
END:VEVENT
BEGIN:VEVENT
DTSTART;TZID=UTC:20230130T080000
DTEND;TZID=UTC:20230130T170000
DTSTAMP:20260423T133937
CREATED:20230130T142738Z
LAST-MODIFIED:20230130T142738Z
UID:10000693-1675065600-1675098000@www.rutlandtown.com
SUMMARY:Energy Committee Meeting
DESCRIPTION:Energy Committee Agenda 2-7-2023 \nRUTLAND TOWN SELECTBOARD / PLANNING COMMISSION COMMITTEE MEETING \nENERGY COMMITTEE  \nTuesday February 7th\, 9:00 AM \nLocation: Rutland Town Municipal Town Hall and Zoom Conferencing \n  \nTo participate via zoom please call (646) 558-8656 \nor visit zoom.us/join and enter meeting ID 851 9094 1198. \n  \nAgenda: \n\nReview of the Energy Survey Results\nReview the Municipal Energy Resilience Program\nAny other business
URL:https://www.rutlandtown.com/event/energy-committee-meeting-3/
LOCATION:VT\, United States
CATEGORIES:Committee Meeting
END:VEVENT
BEGIN:VEVENT
DTSTART;TZID=UTC:20230111T130000
DTEND;TZID=UTC:20230111T140000
DTSTAMP:20260423T133937
CREATED:20230104T190437Z
LAST-MODIFIED:20230104T190437Z
UID:10000692-1673442000-1673445600@www.rutlandtown.com
SUMMARY:Personnel Committee Meeting
DESCRIPTION:Personnel Committee Agenda 1-11-2022 \nRUTLAND TOWN SELECTBOARD COMMITTEE MEETING \nPERSONNEL COMMITTEE  \nWednesday January 11th\, 1:00 PM \nLocation: Rutland Town Municipal Town Hall and Zoom Conferencing \nTo participate via zoom please call (646) 558-8656 \nor visit zoom.us/join and enter meeting ID 851 9094 1198. \n Agenda: \n\nCommittee to meet with Town Listers to discuss the transition with a retirement.\nAny other business
URL:https://www.rutlandtown.com/event/personnel-committee-meeting-3/
LOCATION:Town of Rutland Municipal Building\, 181Business Route 4\, Center Rutland\, VT\, 05736\, United States
CATEGORIES:Committee Meeting
END:VEVENT
BEGIN:VEVENT
DTSTART;TZID=UTC:20230111T090000
DTEND;TZID=UTC:20230111T100000
DTSTAMP:20260423T133937
CREATED:20230104T190258Z
LAST-MODIFIED:20230104T190258Z
UID:10000691-1673427600-1673431200@www.rutlandtown.com
SUMMARY:Personnel Committe Meeting
DESCRIPTION:Personnel Committee Agenda 1-11-2022 \nRUTLAND TOWN SELECTBOARD COMMITTEE MEETING \nPERSONNEL COMMITTEE  \nWednesday January 11th\, 9:00 AM \nLocation: Rutland Town Municipal Town Hall and Zoom Conferencing \nTo participate via zoom please call (646) 558-8656 \nor visit zoom.us/join and enter meeting ID 851 9094 1198. \nAgenda: \n\nCommittee to meet with the Delinquent Tax Collector to discuss the transition in this position with his pending resignation.\nAny other business
URL:https://www.rutlandtown.com/event/personnel-committe-meeting/
LOCATION:Town of Rutland Municipal Building\, 181Business Route 4\, Center Rutland\, VT\, 05736\, United States
CATEGORIES:Committee Meeting
END:VEVENT
BEGIN:VEVENT
DTSTART;TZID=UTC:20221219T153000
DTEND;TZID=UTC:20221219T170000
DTSTAMP:20260423T133937
CREATED:20221212T203123Z
LAST-MODIFIED:20221212T203203Z
UID:10000672-1671463800-1671469200@www.rutlandtown.com
SUMMARY:Planning Commission Committee Meeting
DESCRIPTION:Planning Commission Committee Agenda 12-19-2022 \nClick HERE to join the meeting remotely. \n  \nTOWN OF RUTLAND PLANNING COMMISSION \nCOMMITTEE MEETING AGENDA \nMONDAY DECEMBER 19th\, 2022  \nLocation: Rutland Town Municipal Town Hall and Zoom Conferencing  \nOpen Meeting – 3:30 PM  \nTo participate via zoom please call (646) 558-8656 or visit zoom.us/join and enter meeting ID 985 4127 6671.  \nAgenda: \n\nWork on revisions and updated to the Subdivision Ordinance.\nAny other business
URL:https://www.rutlandtown.com/event/planning-commission-committee-meeting/
LOCATION:Town of Rutland Municipal Building\, 181Business Route 4\, Center Rutland\, VT\, 05736\, United States
CATEGORIES:Committee Meeting,Planning Commission
END:VEVENT
BEGIN:VEVENT
DTSTART;TZID=UTC:20221212T093000
DTEND;TZID=UTC:20221212T103000
DTSTAMP:20260423T133937
CREATED:20221208T163501Z
LAST-MODIFIED:20221208T163501Z
UID:10000673-1670837400-1670841000@www.rutlandtown.com
SUMMARY:Police Committee Meeting
DESCRIPTION:Police Committee Agenda 12-12-2022 \nRUTLAND TOWN SELECTBOARD COMMITTEE MEETING \nPOLICE COMMITTEE  \nMonday December 12th\, 2022\, 9:30 AM \nLocation: Rutland Town Municipal Town Hall \n  \nAgenda: \n\nBudget planning for 2022 – 2023\nAny other business
URL:https://www.rutlandtown.com/event/police-committee-meeting-5/
LOCATION:Town of Rutland Municipal Building\, 181Business Route 4\, Center Rutland\, VT\, 05736\, United States
CATEGORIES:Committee Meeting
END:VEVENT
BEGIN:VEVENT
DTSTART;TZID=UTC:20221209T093000
DTEND;TZID=UTC:20221209T103000
DTSTAMP:20260423T133937
CREATED:20221206T221357Z
LAST-MODIFIED:20221206T221415Z
UID:10000674-1670578200-1670581800@www.rutlandtown.com
SUMMARY:Highway Committee Meeting
DESCRIPTION:Highway Committee Agenda 12-9-2022 \nClick HERE to join via MS Teams \nRUTLAND TOWN SELECTBOARD COMMITTEE MEETING \nHIGHWAY COMMITTEE  \nFriday December 9th\, 2022\, 9:30 AM \nLocation: Rutland Town Municipal Town Hall and Microsoft Teams \n  \nTo participate via phone dial into (646) 902-9990 Meeting ID: 235 574 274 42 Passcode: XDwbdc \nTo participate via MS Teams go to https://tinyurl.com/mr2ckkcz \nAgenda: \n\nBudget planning for 2022 – 2023\nDiscuss ordinance revisions\nAny other business
URL:https://www.rutlandtown.com/event/highway-committee-meeting-8/
LOCATION:VT\, United States
CATEGORIES:Committee Meeting
END:VEVENT
BEGIN:VEVENT
DTSTART;TZID=UTC:20221205T153000
DTEND;TZID=UTC:20221205T163000
DTSTAMP:20260423T133937
CREATED:20221201T134139Z
LAST-MODIFIED:20221201T135032Z
UID:10000675-1670254200-1670257800@www.rutlandtown.com
SUMMARY:Planning Commission Committee Agenda
DESCRIPTION:Planning Commission Committee Agenda 12-5-2022 \nClick HERE to join the meeting remotely. \nTOWN OF RUTLAND PLANNING COMMISSION \nCOMMITTEE MEETING AGENDA \nMONDAY DECEMBER 5th\, 2022  \n  \nLocation: Rutland Town Municipal Town Hall and Zoom Conferencing  \nOpen Meeting – 3:30 PM  \n  \nTo participate via zoom please call (646) 558-8656 or visit zoom.us/join and enter meeting ID 985 4127 6671.  \n  \n  \nAgenda: \n  \n\nWork on revisions and updates to the Subdivision Ordinance.\nAny other business
URL:https://www.rutlandtown.com/event/planning-commission-committee-agenda/
LOCATION:Town of Rutland Municipal Building\, 181Business Route 4\, Center Rutland\, VT\, 05736\, United States
CATEGORIES:Committee Meeting,Planning Commission
END:VEVENT
BEGIN:VEVENT
DTSTART;TZID=UTC:20221104T090000
DTEND;TZID=UTC:20221104T100000
DTSTAMP:20260423T133937
CREATED:20221101T180448Z
LAST-MODIFIED:20221101T180448Z
UID:10000669-1667552400-1667556000@www.rutlandtown.com
SUMMARY:Highway Committee Meeting
DESCRIPTION:Highway Committee Agenda 11-4-2022 \nRUTLAND TOWN SELECTBOARD COMMITTEE MEETING \nHIGHWAY COMMITTEE  \nFriday November 4th\, 2022\, 9:00 AM \nLocation: Rutland Town Municipal Town Hall and Zoom Conferencing \nTo participate via zoom please call (646) 558-8656 or visit zoom.us/join and enter meeting ID 851 9094 1198. \nAgenda: \n\nBudget planning for 2022 – 2023\nDiscuss ordinance revisions\nAny other business
URL:https://www.rutlandtown.com/event/highway-committee-meeting-7/
LOCATION:Town of Rutland Municipal Building\, 181Business Route 4\, Center Rutland\, VT\, 05736\, United States
CATEGORIES:Committee Meeting
END:VEVENT
BEGIN:VEVENT
DTSTART;TZID=UTC:20221007T090000
DTEND;TZID=UTC:20221007T100000
DTSTAMP:20260423T133937
CREATED:20221004T153555Z
LAST-MODIFIED:20221004T153555Z
UID:10000668-1665133200-1665136800@www.rutlandtown.com
SUMMARY:Highway Committee Meeting
DESCRIPTION:Highway Committee Agenda 10-7-2022 \nRUTLAND TOWN SELECTBOARD COMMITTEE MEETING \nHIGHWAY COMMITTEE  \nFriday October 7th\, 2022\, 9:00 AM \nLocation: Rutland Town Municipal Town Hall and Zoom Conferencing \nTo participate via zoom please call (646) 558-8656 \nor visit zoom.us/join and enter meeting ID 851 9094 1198. \nAgenda: \n\nSander for F350\nDiscuss ordinance revisions\nAny other business
URL:https://www.rutlandtown.com/event/highway-committee-meeting-6/
LOCATION:Town of Rutland Municipal Building\, 181Business Route 4\, Center Rutland\, VT\, 05736\, United States
CATEGORIES:Committee Meeting
END:VEVENT
BEGIN:VEVENT
DTSTART;TZID=UTC:20220829T090000
DTEND;TZID=UTC:20220829T100000
DTSTAMP:20260423T133937
CREATED:20220824T134055Z
LAST-MODIFIED:20220824T134055Z
UID:10000664-1661763600-1661767200@www.rutlandtown.com
SUMMARY:Highway Committee Meeting
DESCRIPTION:Highway Committee Agenda 8-29-2022 \nRUTLAND TOWN SELECTBOARD COMMITTEE MEETING \nHIGHWAY COMMITTEE  \nMonday August 29th\, 2022\, 9:00 AM \nLocation: Rutland Town Municipal Town Hall and Zoom Conferencing \nTo participate via zoom please call (646) 558-8656 \nor visit zoom.us/join and enter meeting ID 939 1518 8696. \nAgenda: \n\nReview winter maintenance contracts\nDiscuss what to do with old waste oil burner\nAny other business
URL:https://www.rutlandtown.com/event/highway-committee-meeting-5/
LOCATION:Town of Rutland Municipal Building\, 181Business Route 4\, Center Rutland\, VT\, 05736\, United States
CATEGORIES:Committee Meeting
END:VEVENT
BEGIN:VEVENT
DTSTART;TZID=UTC:20220822T090000
DTEND;TZID=UTC:20220822T100000
DTSTAMP:20260423T133937
CREATED:20220817T202101Z
LAST-MODIFIED:20220817T202101Z
UID:10000665-1661158800-1661162400@www.rutlandtown.com
SUMMARY:Police Committee Meeting
DESCRIPTION:Police Committee Meeting Agenda 8-22-2022 \nRUTLAND TOWN SELECTBOARD COMMITTEE MEETING \nPOLICE COMMITTEE  \nMonday August 22nd\, 2022\, 9:00 AM \nLocation: Rutland Town Municipal Town Hall and Zoom Conferencing \nTo participate via zoom please call (646) 558-8656 or visit zoom.us/join and enter meeting ID 939 1518 8696. \nAgenda: \n\nDiscuss reimbursement rates for the Constables\nDiscuss reimbursement requests from the Constables\nAny other business
URL:https://www.rutlandtown.com/event/police-committee-meeting-4/
LOCATION:Town of Rutland Municipal Building\, 181Business Route 4\, Center Rutland\, VT\, 05736\, United States
CATEGORIES:Committee Meeting
END:VEVENT
BEGIN:VEVENT
DTSTART;TZID=UTC:20220817T130000
DTEND;TZID=UTC:20220817T140000
DTSTAMP:20260423T133937
CREATED:20220816T131710Z
LAST-MODIFIED:20220816T131710Z
UID:10000667-1660741200-1660744800@www.rutlandtown.com
SUMMARY:Litigation Committee Meeting
DESCRIPTION:RUTLAND TOWN SELECTBOARD COMMITTEE MEETING \nLITIGATION COMMITTEE  \nWednesday August 17th\, 2022\, 1:00 PM \nLocation: Rutland Town Municipal Town Hall \nAgenda: \n\nCommittee to meet in executive session to discuss pending litigation regarding the Cortina Inn\nAny other business
URL:https://www.rutlandtown.com/event/litigation-committee-meeting/
LOCATION:VT\, United States
CATEGORIES:Committee Meeting
END:VEVENT
BEGIN:VEVENT
DTSTART;TZID=UTC:20220817T090000
DTEND;TZID=UTC:20220817T100000
DTSTAMP:20260423T133937
CREATED:20220815T145004Z
LAST-MODIFIED:20220815T145004Z
UID:10000661-1660726800-1660730400@www.rutlandtown.com
SUMMARY:Highway Committee Meeting
DESCRIPTION:8-17-2022 Highway Committee Agenda \nRUTLAND TOWN SELECTBOARD COMMITTEE MEETING \nHIGHWAY COMMITTEE  \nWednesday August 17th\, 2022\, 9:00 AM \nLocation: Town Line Road Culvert Project Area \nAgenda: \n\nReview project area concerns\nAny other business
URL:https://www.rutlandtown.com/event/highway-committee-meeting-4/
LOCATION:VT\, United States
CATEGORIES:Committee Meeting
END:VEVENT
BEGIN:VEVENT
DTSTART;TZID=UTC:20220802T170000
DTEND;TZID=UTC:20220802T180000
DTSTAMP:20260423T133937
CREATED:20220728T133732Z
LAST-MODIFIED:20220728T133914Z
UID:10000656-1659459600-1659463200@www.rutlandtown.com
SUMMARY:Celebration Committee Meeting
DESCRIPTION:Celebration Committee Agenda 8-2-2022 \nClick HERE to join the meeting. \nRUTLAND TOWN SELECTBOARD COMMITTEE MEETING \nTOWN WIDE CELEBRATION COMMITTEE  \nTuesday August 2nd\, 2022\, 5:00 PM \nLocation: Rutland Town Municipal Town Hall and Zoom Conferencing \nTo participate via zoom please call (646) 558-8656 or visit zoom.us/join and enter meeting ID 851 9094 1198. \nAgenda: \n\nPlanning the Town Wide Celebration\n Any other business
URL:https://www.rutlandtown.com/event/celebration-committee-meeting/
LOCATION:Town of Rutland Municipal Building\, 181Business Route 4\, Center Rutland\, VT\, 05736\, United States
CATEGORIES:Committee Meeting
END:VEVENT
BEGIN:VEVENT
DTSTART;TZID=UTC:20220802T130000
DTEND;TZID=UTC:20220802T140000
DTSTAMP:20260423T133937
CREATED:20220729T152747Z
LAST-MODIFIED:20220729T160141Z
UID:10000660-1659445200-1659448800@www.rutlandtown.com
SUMMARY:Personnel Commitee Meeting
DESCRIPTION:Personnel Committee Agenda 8-2-2022 \nRUTLAND TOWN SELECTBOARD COMMITTEE MEETING \nPERSONNEL COMMITTEE  \nTuesday August 2nd\, 2022\, 1:00 PM \nLocation: Rutland Town Municipal Town Hall \nAgenda: \n\nCommittee to meet in executive session to discuss a personnel matter.\nAny other business
URL:https://www.rutlandtown.com/event/personnel-commitee-meeting/
LOCATION:Town of Rutland Municipal Building\, 181Business Route 4\, Center Rutland\, VT\, 05736\, United States
CATEGORIES:Committee Meeting
END:VEVENT
BEGIN:VEVENT
DTSTART;TZID=UTC:20220719T090000
DTEND;TZID=UTC:20220719T100000
DTSTAMP:20260423T133937
CREATED:20220712T182451Z
LAST-MODIFIED:20220712T182451Z
UID:10000655-1658221200-1658224800@www.rutlandtown.com
SUMMARY:Highway Committee Meeting
DESCRIPTION:Highway Committee Meeting Agenda 7-19-2022 \nRUTLAND TOWN SELECTBOARD COMMITTEE MEETING \nHIGHWAY COMMITTEE  \nTuesday July 19th\, 2022\, 9:00 AM \nLocation: Rutland Town Municipal Town Hall and Zoom Conferencing \nTo participate via zoom please call (646) 558-8656 or visit zoom.us/join and enter meeting ID 851 9094 1198. \nAgenda: \n\nReview draft winter maintenance contracts\nDiscuss winter maintenance plans for 2022 – 2023 season\nAny other business
URL:https://www.rutlandtown.com/event/highway-committee-meeting-3/
LOCATION:Town of Rutland Municipal Building\, 181Business Route 4\, Center Rutland\, VT\, 05736\, United States
CATEGORIES:Committee Meeting
END:VEVENT
END:VCALENDAR