BEGIN:VCALENDAR
VERSION:2.0
PRODID:-//The Town of Rutland, Vermont - ECPv6.15.20//NONSGML v1.0//EN
CALSCALE:GREGORIAN
METHOD:PUBLISH
X-WR-CALNAME:The Town of Rutland, Vermont
X-ORIGINAL-URL:https://www.rutlandtown.com
X-WR-CALDESC:Events for The Town of Rutland, Vermont
REFRESH-INTERVAL;VALUE=DURATION:PT1H
X-Robots-Tag:noindex
X-PUBLISHED-TTL:PT1H
BEGIN:VTIMEZONE
TZID:UTC
BEGIN:STANDARD
TZOFFSETFROM:+0000
TZOFFSETTO:+0000
TZNAME:UTC
DTSTART:20200101T000000
END:STANDARD
END:VTIMEZONE
BEGIN:VEVENT
DTSTART;TZID=UTC:20210802T160000
DTEND;TZID=UTC:20210802T170000
DTSTAMP:20260424T094711
CREATED:20210721T192156Z
LAST-MODIFIED:20210723T171755Z
UID:10000599-1627920000-1627923600@www.rutlandtown.com
SUMMARY:Public Safety Building Committee Meeting
DESCRIPTION:Replacement of the McKinley Avenue Fire Station Committee Agenda 8-2-2021 \nTOWN OF RUTLAND \nREPLACEMENT OF THE MCKINLEY AVENUE FIRE STATION COMMITTEE MEETING \nMonday August 2nd\,2021 4:00 PM \nLocation: McKinley Avenue Station\, 272 McKinley Avenue \nAgenda: \n\nDiscuss ideas and plans for a new facility.\nAny other business
URL:https://www.rutlandtown.com/event/replacement-of-the-mckinley-avenue-fire-station-committee-agenda/
LOCATION:McKinley Avenue Fire Station\, 272 McKinley Avenue\, Rutland\, 05701
CATEGORIES:Committee Meeting
END:VEVENT
BEGIN:VEVENT
DTSTART;TZID=UTC:20210802T090000
DTEND;TZID=UTC:20210802T100000
DTSTAMP:20260424T094711
CREATED:20210730T130550Z
LAST-MODIFIED:20210730T130550Z
UID:10000604-1627894800-1627898400@www.rutlandtown.com
SUMMARY:Police Committee Meeting
DESCRIPTION:Police Committee Agenda 8-2-2021 \nTOWN OF RUTLAND \nPOLICE COMMITTEE MEETING \nMonday August 2nd\,2021 9:00 AM \nLocation: Rutland Town Municipal Building\, or Zoom Conference Call Line \nTo participate via zoom call (646) 558-8656 or \nvisit Zoom.us/join and enter meeting ID 939 1518 8696. \n  \nAgenda: \n\nReview and Discuss Patrol Planning\nAny other business
URL:https://www.rutlandtown.com/event/police-committee-meeting/
LOCATION:Town of Rutland Municipal Building\, 181Business Route 4\, Center Rutland\, VT\, 05736\, United States
CATEGORIES:Committee Meeting
END:VEVENT
BEGIN:VEVENT
DTSTART;TZID=UTC:20210729T090000
DTEND;TZID=UTC:20210729T100000
DTSTAMP:20260424T094711
CREATED:20210723T165735Z
LAST-MODIFIED:20210723T171649Z
UID:10000602-1627549200-1627552800@www.rutlandtown.com
SUMMARY:Water and Sewer Committee Meeting
DESCRIPTION:Water and Sewer Committee Agenda 7-29-2021 \nTOWN OF RUTLAND \nWATER & SEWER COMMITTEE MEETING \nThursday July 29th\,2021 9:00 AM \nLocation: Rutland Town Municipal Building\, or Zoom Conference Call Line \nTo participate via zoom call (646) 558-8656 or \nvisit Zoom.us/join and enter meeting ID 939 1518 8696. \n  \nAgenda: \n\nExtending the Post Road water line\, meet with Robert Clark\nAny other business
URL:https://www.rutlandtown.com/event/water-and-sewer-committee-agenda-7-29-2021/
LOCATION:Town of Rutland Municipal Building\, 181Business Route 4\, Center Rutland\, VT\, 05736\, United States
CATEGORIES:Committee Meeting
END:VEVENT
BEGIN:VEVENT
DTSTART;TZID=UTC:20210721T090000
DTEND;TZID=UTC:20210721T100000
DTSTAMP:20260424T094711
CREATED:20210716T130635Z
LAST-MODIFIED:20210720T132313Z
UID:10000550-1626858000-1626861600@www.rutlandtown.com
SUMMARY:Recreation Committee Meeting
DESCRIPTION:Rec Committee Agenda 7-21-2021 \nTOWN OF RUTLAND \nRECREATION COMMITTEE MEETING \nWednesday July 21st\, 2021 9:00 AM \nTo participate via zoom please call (646) 558-8656 and enter meeting ID 939 1518 8696.  Any member of the public is welcome to join.  \n  \nLocation – Town Hall and Conference call line. \n  \nAgenda: \n\nGrants for projects at Northwood Park\nAny other business\n\n  \n  \n 
URL:https://www.rutlandtown.com/event/recreation-committee-meeting/
LOCATION:Town of Rutland Municipal Building\, 181Business Route 4\, Center Rutland\, VT\, 05736\, United States
CATEGORIES:Committee Meeting
END:VEVENT
BEGIN:VEVENT
DTSTART;TZID=UTC:20210719T160000
DTEND;TZID=UTC:20210719T170000
DTSTAMP:20260424T094711
CREATED:20210708T155230Z
LAST-MODIFIED:20210708T155230Z
UID:10000564-1626710400-1626714000@www.rutlandtown.com
SUMMARY:Committee Meeting - Replacement for the McKinley Avenue Fire Station
DESCRIPTION:Committee Meeting – Replacement for the McKinley Avenue Fire Station 7-19-2021 \nTOWN OF RUTLAND \nREPLACEMENT OF THE MCKINLEY AVENUE FIRE STATION COMMITTEE MEETING \nMonday July 19th\,2021 4:00 PM \nLocation: Rutland Town Municipal Building\, or Zoom Conference Call Line \nTo participate via zoom call (646) 558-8656 or \nvisit Zoom.us/join and enter meeting ID 939 1518 8696. \n      Agenda: \n\nDiscuss ideas and plans for a new facility.\nAny other business
URL:https://www.rutlandtown.com/event/committee-meeting-replacement-for-the-mckinley-avenue-fire-station/
LOCATION:Town of Rutland Municipal Building\, 181Business Route 4\, Center Rutland\, VT\, 05736\, United States
CATEGORIES:Committee Meeting
END:VEVENT
BEGIN:VEVENT
DTSTART;TZID=UTC:20210709T100000
DTEND;TZID=UTC:20210709T113000
DTSTAMP:20260424T094711
CREATED:20210701T125215Z
LAST-MODIFIED:20210701T125438Z
UID:10000562-1625824800-1625830200@www.rutlandtown.com
SUMMARY:Water and Sewer Committee Meeting 7-9-2021
DESCRIPTION:Water and Sewer Committee Agenda 7-9-2021 \nTOWN OF RUTLAND \nWATER & SEWER COMMITTEE MEETING \nFriday July 9th\,2021 10:00 AM \nLocation: Rutland Town Municipal Building\, or Zoom Conference Call Line \nTo participate via zoom call (646) 558-8656 or visit Zoom.us/join and enter meeting ID 939 1518 8696. \nAgenda: \n\nAged discharge allocation requests\nReview of applicable policies / ordinances\nRutland City Water and Sewer billing\nJuster Associate allocation request\nGraphic Edge Stormwater issue\nGround Round / Dennys Maintenance Agreement\nExtending the Post Road water line\nCreating a water allocation form (ex. From West Rutland)\nAny other business
URL:https://www.rutlandtown.com/event/water-and-sewer-committee-agenda-7-9-2021/
LOCATION:Town of Rutland Municipal Building\, 181Business Route 4\, Center Rutland\, VT\, 05736\, United States
CATEGORIES:Committee Meeting
END:VEVENT
END:VCALENDAR