BEGIN:VCALENDAR
VERSION:2.0
PRODID:-//The Town of Rutland, Vermont - ECPv6.15.20//NONSGML v1.0//EN
CALSCALE:GREGORIAN
METHOD:PUBLISH
X-ORIGINAL-URL:https://www.rutlandtown.com
X-WR-CALDESC:Events for The Town of Rutland, Vermont
REFRESH-INTERVAL;VALUE=DURATION:PT1H
X-Robots-Tag:noindex
X-PUBLISHED-TTL:PT1H
BEGIN:VTIMEZONE
TZID:UTC
BEGIN:STANDARD
TZOFFSETFROM:+0000
TZOFFSETTO:+0000
TZNAME:UTC
DTSTART:20250101T000000
END:STANDARD
END:VTIMEZONE
BEGIN:VEVENT
DTSTART;TZID=UTC:20260202T113000
DTEND;TZID=UTC:20260202T123000
DTSTAMP:20260424T152957
CREATED:20260128T204628Z
LAST-MODIFIED:20260128T204628Z
UID:10001695-1770031800-1770035400@www.rutlandtown.com
SUMMARY:Rec Committee Meeting
DESCRIPTION:Rec Committee Agenda 2-2-2026 \nRUTLAND TOWN SELECTBOARD RECREATION COMMITTEE MEETING \nMonday\, February 2nd\, 11:30AM \nLocation: Rutland Town Municipal Town Hall and Zoom Conferencing \nTo join via zoom call (646) 558-8656 or visit zoom.us/join and enter meeting ID 895 6839 6497. \nAgenda: \n\nRutland Town Community Day\nSummer Pool Fees\nAny other business\n\n 
URL:https://www.rutlandtown.com/event/rec-committee-meeting-16/
LOCATION:Town of Rutland Municipal Building\, 181Business Route 4\, Center Rutland\, VT\, 05736\, United States
CATEGORIES:Committee Meeting
END:VEVENT
BEGIN:VEVENT
DTSTART;TZID=UTC:20260212T090000
DTEND;TZID=UTC:20260212T110000
DTSTAMP:20260424T152957
CREATED:20260204T140307Z
LAST-MODIFIED:20260204T140307Z
UID:10001701-1770886800-1770894000@www.rutlandtown.com
SUMMARY:Highway Committee meeting
DESCRIPTION:Highway Committee Agenda 2-12-2026 \nRUTLAND TOWN SELECTBOARD HIGHWAY COMMITTEE MEETING \nThursday\, February 12th\, 9:00AM \nLocation: Rutland Town Municipal Town Hall and Zoom Conferencing \nTo join via zoom call (646) 558-8656 or visit zoom.us/join and enter meeting ID 893 3785 5944. \nAgenda: \n\nProposal from Fire Dist #5 for water connection\nReview / update 5 Year plan\, vehicle replacement schedule\, inventory list\nTown Highway Grant programs\nSimons Avenue Intersection rework\n3-acre + parcel stormwater issue\nHelp to Fire Districts with their future needs\nThrowing up the end of Park Street\nGreen mountain plaza traffic study\nRoute 7 South sewer line repair\nTown Hall crosswalk lights\nSalt shed replacement\nMunicipal water expansion plan\nBridge work needed\nDraft hydrant maintenance agreement between the Town and the City\nMendon request for addl speed limit signs on Town Line Road\nClass 3 portions of TH-24 (Quarterline Rd)
URL:https://www.rutlandtown.com/event/highway-committee-meeting-30/
LOCATION:Town of Rutland Municipal Building\, 181Business Route 4\, Center Rutland\, VT\, 05736\, United States
CATEGORIES:Committee Meeting
END:VEVENT
BEGIN:VEVENT
DTSTART;TZID=UTC:20260304T110000
DTEND;TZID=UTC:20260304T130000
DTSTAMP:20260424T152957
CREATED:20260302T135845Z
LAST-MODIFIED:20260302T173252Z
UID:10001706-1772622000-1772629200@www.rutlandtown.com
SUMMARY:Listers meeting
DESCRIPTION:Listers Meeting Agenda 3-4-2026 \nClick here to join remotely. \nAMENDED NOTICE OF THE LISTERS OF THE TOWN OF RUTLAND FOR A SPECIAL MEETING \nPURSUANT TO 1 V.S.A. § 310(5). \n  \nTO:                 RESIDENTS OF THE TOWN OF RUTLAND\, VERMONT \nDATED:                March 2\, 2026 \nYou are hereby notified there will be an organizational  meeting of the Town of Rutland Board of Listers on Wednesday\, March 4\, 2026\, at 11:00 a.m.. at 181 Business Route 4\, Center Rutland\, VT 05736\,  to plan the organization of the Board of Listers\, including\, but not limited to\, Lister training goals\, outline an anticipated timeline for Grand List Lodging  and discuss anticipated Lister hours for the upcoming year.   This meeting will be attended by the current and newly elected Listers in person and/or Zoom. \nRutland Town Board of Listers
URL:https://www.rutlandtown.com/event/listers-meeting/
LOCATION:Town of Rutland Municipal Building\, 181Business Route 4\, Center Rutland\, VT\, 05736\, United States
CATEGORIES:Committee Meeting
END:VEVENT
BEGIN:VEVENT
DTSTART;TZID=UTC:20260310T170000
DTEND;TZID=UTC:20260310T180000
DTSTAMP:20260424T152957
CREATED:20260305T181459Z
LAST-MODIFIED:20260305T181459Z
UID:10001709-1773162000-1773165600@www.rutlandtown.com
SUMMARY:Rec Committee Meeting
DESCRIPTION:Rec Committee Agenda 3-10-2026 \nRUTLAND TOWN SELECTBOARD RECREATION COMMITTEE MEETING \nTuesday\, March 10th 2026 at 5PM \nLocation: Rutland Town Municipal Town Hall and Zoom Conferencing \nTo join via zoom call (646) 558-8656 or visit zoom.us/join and enter meeting ID 822 9085 4622. \nAgenda: \n\nDiscuss plan to replace the pool\nDewey Field maintenance staff\nVehicle replacement schedule\nAny other business
URL:https://www.rutlandtown.com/event/rec-committee-meeting-17/
LOCATION:Town of Rutland Municipal Building\, 181Business Route 4\, Center Rutland\, VT\, 05736\, United States
CATEGORIES:Committee Meeting
END:VEVENT
BEGIN:VEVENT
DTSTART;TZID=UTC:20260327T100000
DTEND;TZID=UTC:20260327T110000
DTSTAMP:20260424T152957
CREATED:20260325T125541Z
LAST-MODIFIED:20260325T125541Z
UID:10001712-1774605600-1774609200@www.rutlandtown.com
SUMMARY:Building Committee Meeting
DESCRIPTION:Building Committee Agenda 3-27-2026 \nRUTLAND TOWN SELECTBOARD BUILDING COMMITTEE MEETING \nFriday\, March 27th 2026 at 10AM \nLocation: Rutland Town Municipal Town Hall and Zoom Conferencing \nTo join via zoom call (646) 558-8656 or visit zoom.us/join and enter meeting ID 817 8494 9876 \nAgenda: \n\nReview mowing bids received.\nDiscuss the 5-year plan\nAny other business
URL:https://www.rutlandtown.com/event/building-committee-meeting-4/
LOCATION:Town of Rutland Municipal Building\, 181Business Route 4\, Center Rutland\, VT\, 05736\, United States
CATEGORIES:Committee Meeting
END:VEVENT
BEGIN:VEVENT
DTSTART;TZID=UTC:20260414T170000
DTEND;TZID=UTC:20260414T180000
DTSTAMP:20260424T152957
CREATED:20260410T143028Z
LAST-MODIFIED:20260410T143028Z
UID:10001715-1776186000-1776189600@www.rutlandtown.com
SUMMARY:Rec Committee Meeting
DESCRIPTION:Rec Committee Agenda 4-14-2026 \nRUTLAND TOWN SELECTBOARD RECREATION COMMITTEE MEETING \nTuesday\, April 14th\, 5:00 PM \nLocation: Rutland Town Municipal Town Hall and Zoom Conferencing \nTo join via zoom call (646) 558-8656 or visit zoom.us/join and enter meeting ID 865 7291 8692. \nAgenda: \n\nPool contract\nPool maintenance update\nRec staffing plan\nAny other business
URL:https://www.rutlandtown.com/event/rec-committee-meeting-18/
LOCATION:Town of Rutland Municipal Building\, 181Business Route 4\, Center Rutland\, VT\, 05736\, United States
CATEGORIES:Committee Meeting
END:VEVENT
BEGIN:VEVENT
DTSTART;TZID=UTC:20260420T090000
DTEND;TZID=UTC:20260420T100000
DTSTAMP:20260424T152957
CREATED:20260410T152552Z
LAST-MODIFIED:20260410T152552Z
UID:10001716-1776675600-1776679200@www.rutlandtown.com
SUMMARY:Highway Committee Meeting
DESCRIPTION:RUTLAND TOWN SELECTBOARD HIGHWAY COMMITTEE MEETING \nMonday\, April 20th\, 9:00AM \nLocation: Rutland Town Municipal Town Hall and Zoom Conferencing \nTo join via zoom call (646) 558-8656 or visit zoom.us/join and enter meeting ID 833 6283 8493. \nAgenda: \n\nReview the paving bids received.\nReview the status of the budget.\nAny other business
URL:https://www.rutlandtown.com/event/highway-committee-meeting-31/
LOCATION:Town of Rutland Municipal Building\, 181Business Route 4\, Center Rutland\, VT\, 05736\, United States
CATEGORIES:Committee Meeting
END:VEVENT
END:VCALENDAR