BEGIN:VCALENDAR
VERSION:2.0
PRODID:-//The Town of Rutland, Vermont - ECPv6.15.20//NONSGML v1.0//EN
CALSCALE:GREGORIAN
METHOD:PUBLISH
X-WR-CALNAME:The Town of Rutland, Vermont
X-ORIGINAL-URL:https://www.rutlandtown.com
X-WR-CALDESC:Events for The Town of Rutland, Vermont
REFRESH-INTERVAL;VALUE=DURATION:PT1H
X-Robots-Tag:noindex
X-PUBLISHED-TTL:PT1H
BEGIN:VTIMEZONE
TZID:UTC
BEGIN:STANDARD
TZOFFSETFROM:+0000
TZOFFSETTO:+0000
TZNAME:UTC
DTSTART:20230101T000000
END:STANDARD
END:VTIMEZONE
BEGIN:VEVENT
DTSTART;TZID=UTC:20250506T170000
DTEND;TZID=UTC:20250506T180000
DTSTAMP:20260421T143916
CREATED:20250501T183531Z
LAST-MODIFIED:20250501T183531Z
UID:10001525-1746550800-1746554400@www.rutlandtown.com
SUMMARY:Rec Committee Meeting
DESCRIPTION:Rec Committee Agenda 5-6-2025 \nRUTLAND TOWN SELECTBOARD COMMITTEE MEETING \nRECREATION COMMITTEE  \nTuesday\, May 6th\, 2025\, 5:00PM \nLocation: Rutland Town Municipal Town Hall and Zoom Conferencing \nTo join via zoom call (646) 558-8656 or visit zoom.us/join and enter meeting ID 851 9094 1198. \nAgenda: \n\nSummer lifeguards\nNorthwood Park\nDewey field maintenance worker\nAny other business
URL:https://www.rutlandtown.com/event/rec-committee-meeting-10/
LOCATION:Town of Rutland Municipal Building\, 181Business Route 4\, Center Rutland\, VT\, 05736\, United States
CATEGORIES:Committee Meeting
END:VEVENT
BEGIN:VEVENT
DTSTART;TZID=UTC:20250429T170000
DTEND;TZID=UTC:20250429T180000
DTSTAMP:20260421T143916
CREATED:20250424T172533Z
LAST-MODIFIED:20250424T172533Z
UID:10001523-1745946000-1745949600@www.rutlandtown.com
SUMMARY:Police Committee Meeting
DESCRIPTION:Police Committee Agenda 4-29-2025 \nRUTLAND TOWN SELECTBOARD COMMITTEE MEETING \nPOLICE COMMITTEE  \nTuesday\, April 29th\, 2025\, 5:00PM \nLocation: Rutland Town Municipal Town Hall and Zoom Conferencing \nTo join via zoom call (646) 558-8656 or visit zoom.us/join and enter meeting ID 851 9094 1198. \nAgenda: \n\nReview the contract to replace the Police Department firearms\nReview the contract for a new copier\nReview the contract for the tasers\nDiscuss emergency management planning at the Town School\nAny other business
URL:https://www.rutlandtown.com/event/police-committee-meeting-19/
LOCATION:Town of Rutland Municipal Building\, 181Business Route 4\, Center Rutland\, VT\, 05736\, United States
CATEGORIES:Committee Meeting
END:VEVENT
BEGIN:VEVENT
DTSTART;TZID=UTC:20250324T160000
DTEND;TZID=UTC:20250324T170000
DTSTAMP:20260421T143916
CREATED:20250321T142727Z
LAST-MODIFIED:20250321T142727Z
UID:10001516-1742832000-1742835600@www.rutlandtown.com
SUMMARY:Personnel / Finance Committee Meeting
DESCRIPTION:Personnel / Finance Committee Agenda 3-24-2025 \nRUTLAND TOWN SELECTBOARD COMMITTEE MEETING \nPERSONNEL AND FINANCE COMMITTEES \nMonday March 24th\, 4:00PM \nLocation: Rutland Town Municipal Town Hall and Zoom Conferencing \nTo join via zoom call (646) 558-8656 or visit zoom.us/join and enter meeting ID 851 9094 1198. \nPersonnel Committee Agenda: \n\nDiscussion any additional HR work needed\nAny other business.\n\nFinance Committee Agenda: \n\nPlanning for 3rd quarter review\nPlanning for the fiscal year-end review\nReview of Public Safety Building payments\nStatus of the Capital Improvement fund\nStatus of the Cortina Fund\nAny other business
URL:https://www.rutlandtown.com/event/personnel-finance-committee-meeting-2/
LOCATION:Town of Rutland Municipal Building\, 181Business Route 4\, Center Rutland\, VT\, 05736\, United States
CATEGORIES:Committee Meeting
END:VEVENT
BEGIN:VEVENT
DTSTART;TZID=UTC:20250321T080000
DTEND;TZID=UTC:20250321T170000
DTSTAMP:20260421T143916
CREATED:20250321T142821Z
LAST-MODIFIED:20250321T142821Z
UID:10001517-1742544000-1742576400@www.rutlandtown.com
SUMMARY:Highway Committee Meeting
DESCRIPTION:Highway Committee Agenda 4-4-2025 \nRUTLAND TOWN SELECTBOARD COMMITTEE MEETING \nHIGHWAY COMMITTEE \nFriday\, April 4th\, 9:00AM \nLocation: Rutland Town Municipal Town Hall and Zoom Conferencing \nTo join via zoom call (646) 558-8656 or visit zoom.us/join and enter meeting ID 851 9094 1198. \nAgenda: \n\nReview / update 5 Year plan\nTown Highway Grant programs\nSimons Avenue Intersection rework (4.26.2023)\nThrowing up the end of Park Street (9.24.2024)\nGreen mountain plaza traffic study\nRoute 7 South sewer line repair\nLetter from Fire Dist 5 re permits\nUpdating the mailbox damage policy\nVehicle replacement schedule\nPost Road sidewalk grant decision\nReplacement of the excavator and plow truck purchase\nSalt shed replacement\nOpen Paving Bids (10AM)\nOpen Sewer cleaning bids\, after paving bids
URL:https://www.rutlandtown.com/event/highway-committee-meeting-24/
CATEGORIES:Committee Meeting
END:VEVENT
BEGIN:VEVENT
DTSTART;TZID=UTC:20250310T100000
DTEND;TZID=UTC:20250310T170000
DTSTAMP:20260421T143916
CREATED:20250305T193017Z
LAST-MODIFIED:20250305T193017Z
UID:10001512-1741600800-1741626000@www.rutlandtown.com
SUMMARY:Police Committee Meeting
DESCRIPTION:Police Committee Agenda 3-10-2025 \nRUTLAND TOWN SELECTBOARD COMMITTEE MEETING \nPOLICE COMMITTEE  \nMonday\, March 10th\, 2025\, 10:00AM \nLocation: Rutland Town Municipal Town Hall and Zoom Conferencing \nTo join via zoom call (646) 558-8656 or visit zoom.us/join and enter meeting ID 851 9094 1198. \nAgenda: \n\nReview lease terms for a new cruiser\nReview the balance of the Cortina Inn funds\nCFAC request for the Town to provide an officer\nAdopted / Needed PD policies from the Police Academy IA\, Body worn camera\, DV\, CEW\, polygraph\, Use of force\nAny other business
URL:https://www.rutlandtown.com/event/police-committee-meeting-18/
LOCATION:Town of Rutland Municipal Building\, 181Business Route 4\, Center Rutland\, VT\, 05736\, United States
CATEGORIES:Committee Meeting
END:VEVENT
BEGIN:VEVENT
DTSTART;TZID=UTC:20250225T170000
DTEND;TZID=UTC:20250225T180000
DTSTAMP:20260421T143916
CREATED:20250220T182230Z
LAST-MODIFIED:20250220T182230Z
UID:10001509-1740502800-1740506400@www.rutlandtown.com
SUMMARY:Fire Committee Meeting
DESCRIPTION:Fire Committee Agenda 2-25-2025 \nRUTLAND TOWN SELECTBOARD COMMITTEE MEETING \nFIRE COMMITTEE  \nTuesday\, February 25th\, 2025\, 5:00 PM \nLocation: Rutland Town Municipal Town Hall and Zoom Conferencing \nTo join via zoom call (646) 558-8656 or visit zoom.us/join and enter meeting ID 851 9094 1198. \nAgenda: \n\nReview of applicable ordinances.\nAdd a specific key requirement to the fire alarm ordinance.\nAny other business.
URL:https://www.rutlandtown.com/event/fire-committee-meeting-7/
LOCATION:Town of Rutland Municipal Building\, 181Business Route 4\, Center Rutland\, VT\, 05736\, United States
CATEGORIES:Committee Meeting
END:VEVENT
BEGIN:VEVENT
DTSTART;TZID=UTC:20250221T100000
DTEND;TZID=UTC:20250221T110000
DTSTAMP:20260421T143916
CREATED:20250214T152130Z
LAST-MODIFIED:20250214T152130Z
UID:10001508-1740132000-1740135600@www.rutlandtown.com
SUMMARY:Building Commitee Meeting
DESCRIPTION:Building Committee Agenda 2-21-2025 \nRUTLAND TOWN SELECTBOARD COMMITTEE MEETING \nBUILDING COMMITTEE  \nFriday\, February 21st\, 2025\, 10:00AM \nLocation: Rutland Town Municipal Town Hall and Zoom Conferencing \nTo join via zoom call (646) 558-8656 or visit zoom.us/join and enter meeting ID 851 9094 1198. \nAgenda: \n\nReview a quote for the additional electrical work downstairs.\nDiscuss the configuration of the electronic lock system.\nDiscuss plans for the building.\nAny other business.
URL:https://www.rutlandtown.com/event/building-commitee-meeting/
LOCATION:Town of Rutland Municipal Building\, 181Business Route 4\, Center Rutland\, VT\, 05736\, United States
CATEGORIES:Committee Meeting
END:VEVENT
BEGIN:VEVENT
DTSTART;TZID=UTC:20250207T093000
DTEND;TZID=UTC:20250207T103000
DTSTAMP:20260421T143916
CREATED:20250204T140859Z
LAST-MODIFIED:20250204T141027Z
UID:10001502-1738920600-1738924200@www.rutlandtown.com
SUMMARY:Highway Committee Agenda
DESCRIPTION:Click here to join via zoom. \nHighway Committee Agenda 2-7-2025 \nRUTLAND TOWN SELECTBOARD COMMITTEE MEETING \nHIGHWAY COMMITTEE  \nFriday\, February 7th\, 2025\, 9:30AM \nLocation: Rutland Town Municipal Town Hall and Zoom Conferencing \nTo join via zoom call (646) 558-8656 or visit zoom.us/join and enter meeting ID 851 9094 1198. \nAgenda: \n\nDiscuss the failing sewer line under US Route 7 South\nAny other business.
URL:https://www.rutlandtown.com/event/highway-committee-agenda/
LOCATION:Town of Rutland Municipal Building\, 181Business Route 4\, Center Rutland\, VT\, 05736\, United States
CATEGORIES:Committee Meeting
END:VEVENT
BEGIN:VEVENT
DTSTART;TZID=UTC:20250106T160000
DTEND;TZID=UTC:20250106T170000
DTSTAMP:20260421T143916
CREATED:20250103T162512Z
LAST-MODIFIED:20250103T162512Z
UID:10001498-1736179200-1736182800@www.rutlandtown.com
SUMMARY:Police Committee Meeting
DESCRIPTION:Police Committee Agenda 1-6-2025 \nRUTLAND TOWN SELECTBOARD COMMITTEE MEETING \nPOLICE COMMITTEE  \nMonday\, January 6th\, 2025\, 4:00PM \nLocation: Rutland Town Municipal Town Hall and Zoom Conferencing \nTo join via zoom call (646) 558-8656 or visit zoom.us/join and enter meeting ID 851 9094 1198. \nAgenda: \n\nReview the cruiser replacement schedule\nReview the bid language for a new cruiser\nAny other business.
URL:https://www.rutlandtown.com/event/police-committee-meeting-17/
LOCATION:Town of Rutland Municipal Building\, 181Business Route 4\, Center Rutland\, VT\, 05736\, United States
CATEGORIES:Committee Meeting
END:VEVENT
BEGIN:VEVENT
DTSTART;TZID=UTC:20241217T160000
DTEND;TZID=UTC:20241217T170000
DTSTAMP:20260421T143916
CREATED:20241212T161205Z
LAST-MODIFIED:20241212T161205Z
UID:10001405-1734451200-1734454800@www.rutlandtown.com
SUMMARY:Finance Committee Meeting
DESCRIPTION:Finance Committee Agenda 12-17-2024 \nRUTLAND TOWN SELECTBOARD COMMITTEE MEETING \nFINANCE COMMITTEE  \nTuesday\, December 17th\, 4:00PM \nLocation: Rutland Town Municipal Town Hall and Zoom Conferencing \nTo join via zoom call (646) 558-8656 or visit zoom.us/join and enter meeting ID 851 9094 1198. \nAgenda: \n\nMeet with the Town Auditor to review the draft audit.\nAny other business.
URL:https://www.rutlandtown.com/event/finance-committee-meeting-3/
LOCATION:Town of Rutland Municipal Building\, 181Business Route 4\, Center Rutland\, VT\, 05736\, United States
CATEGORIES:Committee Meeting
END:VEVENT
BEGIN:VEVENT
DTSTART;TZID=UTC:20241213T100000
DTEND;TZID=UTC:20241213T120000
DTSTAMP:20260421T143916
CREATED:20241211T130028Z
LAST-MODIFIED:20241211T130028Z
UID:10001404-1734084000-1734091200@www.rutlandtown.com
SUMMARY:Highway Committee Meeting
DESCRIPTION:Highway Committee Agenda 12-13-2024 \nRUTLAND TOWN SELECTBOARD COMMITTEE MEETING \nHIGHWAY COMMITTEE  \nFriday\, December 13th\, 1000AM \nLocation: Rutland Town Municipal Town Hall and Zoom Conferencing \nTo join via zoom call (646) 558-8656 or visit zoom.us/join and enter meeting ID 851 9094 1198. \nAgenda: \n\nDiscuss the Route 7 South Sewer\nDiscuss the Simons Avenue intersection change\nAny other business
URL:https://www.rutlandtown.com/event/highway-committee-meeting-23/
LOCATION:Town of Rutland Municipal Building\, 181Business Route 4\, Center Rutland\, VT\, 05736\, United States
CATEGORIES:Committee Meeting
END:VEVENT
BEGIN:VEVENT
DTSTART;TZID=UTC:20241125T160000
DTEND;TZID=UTC:20241125T170000
DTSTAMP:20260421T143916
CREATED:20241119T152810Z
LAST-MODIFIED:20241119T152823Z
UID:10001400-1732550400-1732554000@www.rutlandtown.com
SUMMARY:Police Committee Meeting
DESCRIPTION:Police Committee Agenda 11-25-2024 \nRUTLAND TOWN SELECTBOARD COMMITTEE MEETING \nPOLICE COMMITTEE  \nMonday\, November 25th\, 4:00PM \nLocation: Rutland Town Municipal Town Hall and Zoom Conferencing \nTo join via zoom call (646) 558-8656 or visit zoom.us/join and enter meeting ID 851 9094 1198. \nAgenda: \n\nBudget planning for the next fiscal year\n\n\nAny other business.
URL:https://www.rutlandtown.com/event/rec-committee-meeting-9/
CATEGORIES:Committee Meeting
END:VEVENT
BEGIN:VEVENT
DTSTART;TZID=UTC:20241121T100000
DTEND;TZID=UTC:20241121T110000
DTSTAMP:20260421T143916
CREATED:20241114T183734Z
LAST-MODIFIED:20241114T183734Z
UID:10001399-1732183200-1732186800@www.rutlandtown.com
SUMMARY:Highway Committee meeting
DESCRIPTION:Highway Committee Agenda 11-21-2024 \nRUTLAND TOWN SELECTBOARD COMMITTEE MEETING \nHIGHWAY COMMITTEE \nThursday\, November 21st\, 1000AM \nLocation: Rutland Town Municipal Town Hall and Zoom Conferencing \nTo join via zoom call (646) 558-8656 or visit zoom.us/join and enter meeting ID 851 9094 1198. \nAgenda: \n\nBudget planning for FY26\nDiscuss the depreciation account and future planned expenses\nAny other business
URL:https://www.rutlandtown.com/event/highway-committee-meeting-22/
LOCATION:Town of Rutland Municipal Building\, 181Business Route 4\, Center Rutland\, VT\, 05736\, United States
CATEGORIES:Committee Meeting
END:VEVENT
BEGIN:VEVENT
DTSTART;TZID=UTC:20241119T170000
DTEND;TZID=UTC:20241119T180000
DTSTAMP:20260421T143916
CREATED:20241023T182731Z
LAST-MODIFIED:20241023T182731Z
UID:10001392-1732035600-1732039200@www.rutlandtown.com
SUMMARY:Route 7 North Shared Use Path Public Concerns Meeting
DESCRIPTION:
URL:https://www.rutlandtown.com/event/route-7-north-shared-use-path-public-concerns-meeting/
LOCATION:Town of Rutland Municipal Building\, 181Business Route 4\, Center Rutland\, VT\, 05736\, United States
CATEGORIES:Committee Meeting,Community,Select Board
END:VEVENT
BEGIN:VEVENT
DTSTART;TZID=UTC:20241118T170000
DTEND;TZID=UTC:20241118T180000
DTSTAMP:20260421T143916
CREATED:20241107T171702Z
LAST-MODIFIED:20241107T171702Z
UID:10001396-1731949200-1731952800@www.rutlandtown.com
SUMMARY:Rec Committee Meeting
DESCRIPTION:Rec Committee Agenda 11-18-2024 \nRUTLAND TOWN SELECTBOARD COMMITTEE MEETING \nRECREATION COMMITTEE  \nMonday November 18th\, 5:00PM \nLocation: Rutland Town Municipal Town Hall and Zoom Conferencing \nTo join via zoom call (646) 558-8656 or visit zoom.us/join and enter meeting ID 851 9094 1198. \nAgenda: \n\nBudget planning for FY26\nAny other business
URL:https://www.rutlandtown.com/event/rec-committee-meeting-8/
LOCATION:Town of Rutland Municipal Building\, 181Business Route 4\, Center Rutland\, VT\, 05736\, United States
CATEGORIES:Committee Meeting
END:VEVENT
BEGIN:VEVENT
DTSTART;TZID=UTC:20241118T160000
DTEND;TZID=UTC:20241118T170000
DTSTAMP:20260421T143916
CREATED:20241113T133851Z
LAST-MODIFIED:20241113T133851Z
UID:10001397-1731945600-1731949200@www.rutlandtown.com
SUMMARY:Police Committee Meeting
DESCRIPTION:Police Committee Agenda 11-18-2024 \nRUTLAND TOWN SELECTBOARD COMMITTEE MEETING \nPOLICE COMMITTEE  \nMonday\, November 18th\, 4:00PM \nLocation: Rutland Town Municipal Town Hall and Zoom Conferencing \nTo join via zoom call (646) 558-8656 or visit zoom.us/join and enter meeting ID 851 9094 1198. \nAgenda: \n\nDiscuss the status of the SRO position and candidate\nBudget planning for the next fiscal year\n\n\nAny other business.
URL:https://www.rutlandtown.com/event/police-committee-meeting-16/
LOCATION:Town of Rutland Municipal Building\, 181Business Route 4\, Center Rutland\, VT\, 05736\, United States
CATEGORIES:Committee Meeting
END:VEVENT
BEGIN:VEVENT
DTSTART;TZID=UTC:20241114T160000
DTEND;TZID=UTC:20241114T170000
DTSTAMP:20260421T143916
CREATED:20241023T175653Z
LAST-MODIFIED:20241023T175653Z
UID:10001391-1731600000-1731603600@www.rutlandtown.com
SUMMARY:Fire Committee Meeting
DESCRIPTION:Fire Committee Agenda 11-14-2024 \nRUTLAND TOWN SELECTBOARD COMMITTEE MEETING \nFIRE COMMITTEE  \nThursday\, November 14th\, 4:00PM \nLocation: Rutland Town Municipal Town Hall and Zoom Conferencing \nTo join via zoom call (646) 558-8656 or visit zoom.us/join and enter meeting ID 851 9094 1198. \nAgenda: \n\nBudget planning for the next fiscal year\nDiscuss the depreciation account fund\, and future expenses\nAny other business.
URL:https://www.rutlandtown.com/event/fire-committee-meeting-6/
LOCATION:Town of Rutland Municipal Building\, 181Business Route 4\, Center Rutland\, VT\, 05736\, United States
CATEGORIES:Committee Meeting
END:VEVENT
BEGIN:VEVENT
DTSTART;TZID=UTC:20241114T110000
DTEND;TZID=UTC:20241114T120000
DTSTAMP:20260421T143916
CREATED:20241029T153141Z
LAST-MODIFIED:20241029T153141Z
UID:10001394-1731582000-1731585600@www.rutlandtown.com
SUMMARY:Highway Committee Meeting
DESCRIPTION:Highway Committee Agenda 11-14-2024 \nRUTLAND TOWN SELECTBOARD COMMITTEE MEETING \nHIGHWAY COMMITTEE  \nThursday\, November 14th\, 1100AM \nLocation: Rutland Town Municipal Town Hall and Zoom Conferencing \nTo join via zoom call (646) 558-8656 or visit zoom.us/join and enter meeting ID 851 9094 1198. \nAgenda: \n\nBudget planning for FY25\nDiscuss the depreciation account and future planned expenses\nAny other business
URL:https://www.rutlandtown.com/event/highway-committee-meeting-21/
LOCATION:Town of Rutland Municipal Building\, 181Business Route 4\, Center Rutland\, VT\, 05736\, United States
CATEGORIES:Committee Meeting
END:VEVENT
BEGIN:VEVENT
DTSTART;TZID=UTC:20241112T160000
DTEND;TZID=UTC:20241112T170000
DTSTAMP:20260421T143916
CREATED:20241023T175501Z
LAST-MODIFIED:20241023T175501Z
UID:10001390-1731427200-1731430800@www.rutlandtown.com
SUMMARY:Police Committee Meeting
DESCRIPTION:Police Committee Agenda 11-12-2024 \nRUTLAND TOWN SELECTBOARD COMMITTEE MEETING \nPOLICE COMMITTEE  \nTuesday\, November 12th\, 4:00PM \nLocation: Rutland Town Municipal Town Hall and Zoom Conferencing \nTo join via zoom call (646) 558-8656 or visit zoom.us/join and enter meeting ID 851 9094 1198. \nAgenda: \n\nDiscuss the status of the SRO position and candidate\nBudget planning for the next fiscal year\nAny other business.
URL:https://www.rutlandtown.com/event/police-committee-meeting-15/
LOCATION:Town of Rutland Municipal Building\, 181Business Route 4\, Center Rutland\, VT\, 05736\, United States
CATEGORIES:Committee Meeting
END:VEVENT
BEGIN:VEVENT
DTSTART;TZID=UTC:20241024T160000
DTEND;TZID=UTC:20241024T173000
DTSTAMP:20260421T143916
CREATED:20241009T181757Z
LAST-MODIFIED:20241009T181757Z
UID:10001387-1729785600-1729791000@www.rutlandtown.com
SUMMARY:Personnel Committee Meeting
DESCRIPTION:Personnel Committee Agenda 10-24-2024 \nRUTLAND TOWN SELECT BOARD COMMITTEE MEETING \nPERSONNEL COMMITTEE  \nThursday\, October 24th\, 4:00PM \nLocation: Rutland Town Municipal Town Hall and Zoom Conferencing \nTo join via zoom call (646) 558-8656 or visit zoom.us/join and enter meeting ID 851 9094 1198. \nAgenda: \n\nWork to finalize the updates to the Personnel Policy\n\n\nAny other business
URL:https://www.rutlandtown.com/event/personnel-committee-meeting-17/
LOCATION:Town of Rutland Municipal Building\, 181Business Route 4\, Center Rutland\, VT\, 05736\, United States
CATEGORIES:Committee Meeting
END:VEVENT
BEGIN:VEVENT
DTSTART;TZID=UTC:20241008T170000
DTEND;TZID=UTC:20241008T180000
DTSTAMP:20260421T143916
CREATED:20241002T185904Z
LAST-MODIFIED:20241002T185904Z
UID:10001385-1728406800-1728410400@www.rutlandtown.com
SUMMARY:Rec Committee Meeting
DESCRIPTION:Rec Committee Agenda 10-8-2024 \nRUTLAND TOWN SELECT BOARD COMMITTEE MEETING \nRECREATION COMMITTEE  \nTuesday October 8th \, 5:00PM \nLocation: Rutland Town Municipal Town Hall and Zoom Conferencing \nTo join via zoom call (646) 558-8656 or visit zoom.us/join and enter meeting ID 851 9094 1198. \nAgenda: \n\nDewey field turf replacement\nHalloween Party\nUpcoming budget items\nRec Facebook Page\nAny other business\n\n 
URL:https://www.rutlandtown.com/event/rec-committee-meeting-7/
LOCATION:Town of Rutland Municipal Building\, 181Business Route 4\, Center Rutland\, VT\, 05736\, United States
CATEGORIES:Committee Meeting
END:VEVENT
BEGIN:VEVENT
DTSTART;TZID=UTC:20240925T153000
DTEND;TZID=UTC:20240925T173000
DTSTAMP:20260421T143916
CREATED:20240913T131313Z
LAST-MODIFIED:20240916T170129Z
UID:10001381-1727278200-1727285400@www.rutlandtown.com
SUMMARY:Finance Committee Meeting
DESCRIPTION:Finance Committee Agenda 9-25-2024 \nRUTLAND TOWN SELECT BOARD COMMITTEE MEETING \nFINANCE COMMITTEE  \nWednesday\, September 25th\, 3:30PM \nLocation: Rutland Town Municipal Town Hall and Zoom Conferencing \nTo join via zoom call (646) 558-8656 or visit zoom.us/join and enter meeting ID 851 9094 1198. \nAgenda: \n\nReview Capital Improvement settlement balances and calculations\nReview Cortina Inn settlement balances and calculations\nDiscuss the need and process for a single audit\nAny other business.
URL:https://www.rutlandtown.com/event/personnel-committee-meeting-16/
LOCATION:Town of Rutland Municipal Building\, 181Business Route 4\, Center Rutland\, VT\, 05736\, United States
CATEGORIES:Committee Meeting
END:VEVENT
BEGIN:VEVENT
DTSTART;TZID=UTC:20240911T160000
DTEND;TZID=UTC:20240911T170000
DTSTAMP:20260421T143916
CREATED:20240905T173340Z
LAST-MODIFIED:20240905T173340Z
UID:10001247-1726070400-1726074000@www.rutlandtown.com
SUMMARY:Personnel Commitee Meeting
DESCRIPTION:Personnel Commitee Agenda 9-11-2024 \nRUTLAND TOWN SELECT BOARD COMMITTEE MEETING \nPERSONNEL COMMITTEE  \nWednesday\, September 11th\, 4:00PM \nLocation: Rutland Town Municipal Town Hall and Zoom Conferencing \nTo join via zoom call (646) 558-8656 or visit zoom.us/join and enter meeting ID 851 9094 1198. \nAgenda: \n\nWork on updates to the Personnel Policy\n\n\nAny other business.
URL:https://www.rutlandtown.com/event/personnel-commitee-meeting-4/
LOCATION:Town of Rutland Municipal Building\, 181Business Route 4\, Center Rutland\, VT\, 05736\, United States
CATEGORIES:Committee Meeting
END:VEVENT
BEGIN:VEVENT
DTSTART;TZID=UTC:20240904T160000
DTEND;TZID=UTC:20240904T170000
DTSTAMP:20260421T143916
CREATED:20240829T140022Z
LAST-MODIFIED:20240829T140022Z
UID:10001243-1725465600-1725469200@www.rutlandtown.com
SUMMARY:Personnel Committee Agenda
DESCRIPTION:Personnel Committee Agenda 9-4-2024 \nRUTLAND TOWN SELECT BOARD COMMITTEE MEETING \nPERSONNEL COMMITTEE  \nWednesday\, September 4th\, 4:00PM \nLocation: Rutland Town Municipal Town Hall and Zoom Conferencing \nTo join via zoom call (646) 558-8656 or visit zoom.us/join and enter meeting ID 851 9094 1198. \n  \nAgenda: \n\nWork on updates to the Personnel Policy\n\n\nAny other business.
URL:https://www.rutlandtown.com/event/personnel-committee-agenda/
LOCATION:Town of Rutland Municipal Building\, 181Business Route 4\, Center Rutland\, VT\, 05736\, United States
CATEGORIES:Committee Meeting
END:VEVENT
BEGIN:VEVENT
DTSTART;TZID=UTC:20240904T150000
DTEND;TZID=UTC:20240904T160000
DTSTAMP:20260421T143916
CREATED:20240829T135838Z
LAST-MODIFIED:20240829T135838Z
UID:10001242-1725462000-1725465600@www.rutlandtown.com
SUMMARY:Police Committee Agenda
DESCRIPTION:Police Committee Agenda 9-4-2024 \nRUTLAND TOWN SELECT BOARD COMMITTEE MEETING \nPOLICE COMMITTEE  \nWednesday\, September 4th\, 3:00PM \nLocation: Rutland Town Municipal Town Hall and Zoom Conferencing \nTo join via zoom call (646) 558-8656 or visit zoom.us/join and enter meeting ID 851 9094 1198. \nAgenda: \n\nReview the balance of the Cortina Inn funds\nCFAC request for the Town to provide an officer\nPurchase of a fingerprint reader\nReview the hiring process of a new patrol officer\nAny other business.
URL:https://www.rutlandtown.com/event/police-committee-agenda/
LOCATION:Town of Rutland Municipal Building\, 181Business Route 4\, Center Rutland\, VT\, 05736\, United States
CATEGORIES:Committee Meeting
END:VEVENT
BEGIN:VEVENT
DTSTART;TZID=UTC:20240904T080000
DTEND;TZID=UTC:20240904T170000
DTSTAMP:20260421T143916
CREATED:20240904T201908Z
LAST-MODIFIED:20240904T201908Z
UID:10001244-1725436800-1725469200@www.rutlandtown.com
SUMMARY:Public Safety Building Committee Meeting
DESCRIPTION:Public Safety Building Committee Agenda 9-10-2024 \nRUTLAND TOWN SELECT BOARD COMMITTEE MEETING\nPUBLIC SAFETY BUILDING COMMITTEE\nTuesday September 10th\, 5PM\nLocation: Rutland Town Municipal Town Hall and Zoom Conferencing\n To participate via zoom please call (646) 558-8656 or visit zoom.us/join and enter meeting ID 939 1518 8696.\n Agenda:\n\n\nMeet with the Public Safety Building Clerk to discuss needs for the new building.\n\n\nAny other business
URL:https://www.rutlandtown.com/event/public-safety-building-committee-meeting-5/
CATEGORIES:Committee Meeting
END:VEVENT
BEGIN:VEVENT
DTSTART;TZID=UTC:20240814T090000
DTEND;TZID=UTC:20240814T110000
DTSTAMP:20260421T143916
CREATED:20240731T195743Z
LAST-MODIFIED:20240731T195743Z
UID:10001106-1723626000-1723633200@www.rutlandtown.com
SUMMARY:Highway / Building Committee Meeting
DESCRIPTION:RUTLAND TOWN SELECT BOARD COMMITTEE MEETING \nHIGHWAY AND BUILDING COMMITTEES \nWednesday August 14th\, 900AM \nLocation: Rutland Town Municipal Town Hall and Zoom Conferencing \nTo join via zoom call (646) 558-8656 or visit zoom.us/join and enter meeting ID 851 9094 1198. \nAgenda: \n\nMeet with Steffanie Bourque regarding the Route 7 North sidewalk.\nReview the fuel bids received.\nReview the 5 year plan for Town Hall\nAny other business
URL:https://www.rutlandtown.com/event/highway-building-committee-meeting-3/
LOCATION:Town of Rutland Municipal Building\, 181Business Route 4\, Center Rutland\, VT\, 05736\, United States
CATEGORIES:Committee Meeting
END:VEVENT
BEGIN:VEVENT
DTSTART;TZID=UTC:20240807T163000
DTEND;TZID=UTC:20240807T173000
DTSTAMP:20260421T143916
CREATED:20240801T175554Z
LAST-MODIFIED:20240801T175554Z
UID:10001107-1723048200-1723051800@www.rutlandtown.com
SUMMARY:Fire Committee Meeting
DESCRIPTION:Fire Committee Agenda 8-7-2024 \nRUTLAND TOWN SELECT BOARD COMMITTEE MEETING \nFIRE COMMITTEE  \nWednesday August 7th\, 4:30PM \nLocation: Rutland Town Municipal Town Hall and Zoom Conferencing \nTo join via zoom call (646) 558-8656 or visit zoom.us/join and enter meeting ID 851 9094 1198. \nAgenda: \n\nSale of the old pickup truck\nReview the private fire hydrant ordinance for updates\nDiscuss the depreciation rate\, and vehicle replacement schedule\nDiscuss budget needs for the next fiscal year\nAny other business
URL:https://www.rutlandtown.com/event/fire-committee-meeting-5/
LOCATION:Town of Rutland Municipal Building\, 181Business Route 4\, Center Rutland\, VT\, 05736\, United States
CATEGORIES:Committee Meeting
END:VEVENT
BEGIN:VEVENT
DTSTART;TZID=UTC:20240730T170000
DTEND;TZID=UTC:20240730T180000
DTSTAMP:20260421T143916
CREATED:20240728T150555Z
LAST-MODIFIED:20240728T150555Z
UID:10001078-1722358800-1722362400@www.rutlandtown.com
SUMMARY:Town Wide Celebration Committee Meeting
DESCRIPTION:Town Wide Celebration Committee Agenda 7-30-2024 \nRUTLAND TOWN SELECT BOARD COMMITTEE MEETING \nTOWN WIDE CELEBRATION COMMITTEE  \nTuesday July 30th\, 500PM \nLocation: Rutland Town Municipal Town Hall and Zoom Conferencing \nTo join via zoom call (646) 558-8656 or visit zoom.us/join and enter meeting ID 851 9094 1198. \nAgenda: \n\nReview plans for the 2024 Town Wide Celebration\nAny other business
URL:https://www.rutlandtown.com/event/town-wide-celebration-committee-meeting-5/
LOCATION:Town of Rutland Municipal Building\, 181Business Route 4\, Center Rutland\, VT\, 05736\, United States
CATEGORIES:Committee Meeting
END:VEVENT
BEGIN:VEVENT
DTSTART;TZID=UTC:20240729T090000
DTEND;TZID=UTC:20240729T100000
DTSTAMP:20260421T143917
CREATED:20240719T132604Z
LAST-MODIFIED:20240719T132637Z
UID:10001076-1722243600-1722247200@www.rutlandtown.com
SUMMARY:Highway Commitee Meeting
DESCRIPTION:Highway Committee Agenda 7-29-2024 \nRUTLAND TOWN SELECT BOARD COMMITTEE MEETING \nHIGHWAY COMMITTEE  \nMonday July 29th\, 900AM \nLocation: Rutland Town Municipal Town Hall and Zoom Conferencing \nTo join via zoom call (646) 558-8656 or visit zoom.us/join and enter meeting ID 851 9094 1198. \nAgenda: \n\nMeet with Chris Taft from VTrans regarding Simons Ave intersection\nAny other business
URL:https://www.rutlandtown.com/event/highway-commitee-meeting-4/
LOCATION:Town of Rutland Municipal Building\, 181Business Route 4\, Center Rutland\, VT\, 05736\, United States
CATEGORIES:Committee Meeting
END:VEVENT
END:VCALENDAR