BEGIN:VCALENDAR
VERSION:2.0
PRODID:-//The Town of Rutland, Vermont - ECPv6.15.20//NONSGML v1.0//EN
CALSCALE:GREGORIAN
METHOD:PUBLISH
X-WR-CALNAME:The Town of Rutland, Vermont
X-ORIGINAL-URL:https://www.rutlandtown.com
X-WR-CALDESC:Events for The Town of Rutland, Vermont
REFRESH-INTERVAL;VALUE=DURATION:PT1H
X-Robots-Tag:noindex
X-PUBLISHED-TTL:PT1H
BEGIN:VTIMEZONE
TZID:UTC
BEGIN:STANDARD
TZOFFSETFROM:+0000
TZOFFSETTO:+0000
TZNAME:UTC
DTSTART:20220101T000000
END:STANDARD
END:VTIMEZONE
BEGIN:VEVENT
DTSTART;TZID=UTC:20240614T080000
DTEND;TZID=UTC:20240614T170000
DTSTAMP:20260423T131106
CREATED:20240614T130708Z
LAST-MODIFIED:20240614T130708Z
UID:10001060-1718352000-1718384400@www.rutlandtown.com
SUMMARY:Highway Committee Meeting
DESCRIPTION:RUTLAND TOWN SELECT BOARD COMMITTEE MEETING \nHIGHWAY COMMITTEE  \nMonday June 17th\, 9AM \nLocation: Rutland Town Municipal Town Hall and Zoom Conferencing \nTo join via zoom call (646) 558-8656 or visit zoom.us/join and enter meeting ID 851 9094 1198. \nAgenda: \n\nDiscuss the Route 7 North Sidewalk project\nAny other business
URL:https://www.rutlandtown.com/event/highway-committee-meeting-19/
LOCATION:VT
CATEGORIES:Committee Meeting
END:VEVENT
BEGIN:VEVENT
DTSTART;TZID=UTC:20240610T100000
DTEND;TZID=UTC:20240610T110000
DTSTAMP:20260423T131106
CREATED:20240605T171954Z
LAST-MODIFIED:20240605T171954Z
UID:10001057-1718013600-1718017200@www.rutlandtown.com
SUMMARY:Rec Committee Meeting
DESCRIPTION:Rec Committee Agenda 6-10-2024 \nRUTLAND TOWN SELECT BOARD COMMITTEE MEETING\nRECREATION COMMITTEE\nMonday June 10th\, 10:00AM\nLocation: Rutland Town Municipal Town Hall and Zoom Conferencing\nTo join via zoom call (646) 558-8656 or visit zoom.us/join and enter meeting ID 851 9094 1198.\nAgenda:\n\n\nDiscuss the rec participation policy with a citizen\n\n\nAny other business
URL:https://www.rutlandtown.com/event/rec-committee-meeting-6/
LOCATION:VT
CATEGORIES:Committee Meeting
END:VEVENT
BEGIN:VEVENT
DTSTART;TZID=UTC:20240529T110000
DTEND;TZID=UTC:20240529T130000
DTSTAMP:20260423T131106
CREATED:20240523T180116Z
LAST-MODIFIED:20240523T180116Z
UID:10001054-1716980400-1716987600@www.rutlandtown.com
SUMMARY:Personnel Commitee Meeting
DESCRIPTION:Personnel Commitee Agenda 5-29-2024 \nRUTLAND TOWN SELECT BOARD COMMITTEE MEETING \nPERSONNEL COMMITTEE  \nWednesday May 29th\, 11:00AM \nLocation: Rutland Town Municipal Town Hall and Zoom Conferencing \nTo join via zoom call (646) 558-8656 or visit zoom.us/join and enter meeting ID 851 9094 1198. \nAgenda: \n\nWork session on new personnel policy draft\n\n\nAny other business.
URL:https://www.rutlandtown.com/event/personnel-commitee-meeting-3/
LOCATION:Town of Rutland Municipal Building\, 181Business Route 4\, Center Rutland\, VT\, 05736\, United States
CATEGORIES:Committee Meeting
END:VEVENT
BEGIN:VEVENT
DTSTART;TZID=UTC:20240514T153000
DTEND;TZID=UTC:20240514T173000
DTSTAMP:20260423T131106
CREATED:20240510T150335Z
LAST-MODIFIED:20240510T150335Z
UID:10001048-1715700600-1715707800@www.rutlandtown.com
SUMMARY:Personnel and Finance Committee Meeting
DESCRIPTION:Personnel and Finance Committee Meeting 5-14-2024 \nRUTLAND TOWN SELECT BOARD COMMITTEE MEETING \nPERSONNEL & FINANCE COMMITTEES  \nTuesday May 14th\, 3:30PM \nLocation: Rutland Town Municipal Town Hall and Zoom Conferencing \nTo join via zoom call (646) 558-8656 or visit zoom.us/join and enter meeting ID 851 9094 1198. \nAgenda: \n\nWork on the new personnel policy draft\nWork on Holiday and Comp time policies\nMeet with Town Clerk Kari Clark\nReview the amount in The Cortina Inn Settlement fund\nReview of town finances through April 30th\, 2024\nAny other business.
URL:https://www.rutlandtown.com/event/personnel-and-finance-committee-meeting/
LOCATION:Town of Rutland Municipal Building\, 181Business Route 4\, Center Rutland\, VT\, 05736\, United States
CATEGORIES:Committee Meeting
END:VEVENT
BEGIN:VEVENT
DTSTART;TZID=UTC:20240507T173000
DTEND;TZID=UTC:20240507T180000
DTSTAMP:20260423T131106
CREATED:20240501T130819Z
LAST-MODIFIED:20240501T130819Z
UID:10001044-1715103000-1715104800@www.rutlandtown.com
SUMMARY:Rec and Town Wide Celebration Committee Meeting
DESCRIPTION:Rec & Town Wide Celebration Committee Agenda 5-7-2024 \nRUTLAND TOWN SELECT BOARD COMMITTEE MEETING \nRECREATION & TOWN WIDE CELEBRATION COMMITTEES  \nTuesday May 7th\, 530PM \nLocation: Rutland Town Municipal Town Hall and Zoom Conferencing \nTo join via zoom call (646) 558-8656 or visit zoom.us/join and enter meeting ID 851 9094 1198. \nAgenda: \n\nSprayer purchase\nEvent for the 2024 Town Wide Celebration\nAny other business
URL:https://www.rutlandtown.com/event/rec-and-town-wide-celebration-committee-meeting/
LOCATION:Town of Rutland Municipal Building\, 181Business Route 4\, Center Rutland\, VT\, 05736\, United States
CATEGORIES:Committee Meeting
END:VEVENT
BEGIN:VEVENT
DTSTART;TZID=UTC:20240507T163000
DTEND;TZID=UTC:20240507T173000
DTSTAMP:20260423T131106
CREATED:20240501T195144Z
LAST-MODIFIED:20240501T195144Z
UID:10001045-1715099400-1715103000@www.rutlandtown.com
SUMMARY:Police Committee Meeting
DESCRIPTION:Police Committee Agenda 5-7-2024 \nRUTLAND TOWN SELECT BOARD COMMITTEE MEETING \nPOLICE COMMITTEE  \nTuesday May 7th\, 4:30PM \nLocation: Rutland Town Municipal Town Hall and Zoom Conferencing \nTo join via zoom call (646) 558-8656 or visit zoom.us/join and enter meeting ID 851 9094 1198. \nAgenda: \n\nSchool Resource Officer\nDiscuss CFAC request\nUpdate on candidates considered for new officer position\nFunding\nRifle sale\nAny other business.
URL:https://www.rutlandtown.com/event/police-committee-meeting-12/
LOCATION:Town of Rutland Municipal Building\, 181Business Route 4\, Center Rutland\, VT\, 05736\, United States
CATEGORIES:Committee Meeting
END:VEVENT
BEGIN:VEVENT
DTSTART;TZID=UTC:20240503T090000
DTEND;TZID=UTC:20240503T110000
DTSTAMP:20260423T131106
CREATED:20240425T133403Z
LAST-MODIFIED:20240425T134315Z
UID:10001043-1714726800-1714734000@www.rutlandtown.com
SUMMARY:Highway Committee Meeting
DESCRIPTION:Highway Commitee Agenda 5-3-2024 \nRUTLAND TOWN SELECT BOARD COMMITTEE MEETING \nHIGHWAY COMMITTEE \nFriday May 3rd\, 9AM \nLocation: Rutland Town Municipal Town Hall and Zoom Conferencing \nTo join via zoom call (646) 558-8656 or visit zoom.us/join and enter meeting ID 851 9094 1198. \nAgenda: \n\nMeet with Route 7 North Sidewalk MPM\nEco Car Wash Sewer line Memorandum of Agreement\nExcavation permit security deposit process\nMeet with VTrans reps (if available) regarding Green Mtn Plaza\nAny other business
URL:https://www.rutlandtown.com/event/highway-committee-meeting-18/
LOCATION:Town of Rutland Municipal Building\, 181Business Route 4\, Center Rutland\, VT\, 05736\, United States
CATEGORIES:Committee Meeting
END:VEVENT
BEGIN:VEVENT
DTSTART;TZID=UTC:20240501T160000
DTEND;TZID=UTC:20240501T180000
DTSTAMP:20260423T131106
CREATED:20240425T133220Z
LAST-MODIFIED:20240425T133220Z
UID:10001042-1714579200-1714586400@www.rutlandtown.com
SUMMARY:Personnel Committee Meeting
DESCRIPTION:Personnel Commitee Agenda 5-1-2024 \nRUTLAND TOWN SELECT BOARD COMMITTEE MEETING \nPERSONNEL COMMITTEE  \nWednesday May 1st\, 4:00PM \nLocation: Rutland Town Municipal Town Hall and Zoom Conferencing \nTo join via zoom call (646) 558-8656 or visit zoom.us/join and enter meeting ID 851 9094 1198. \nAgenda: \n\nWork session on new personnel policy draft\n\n\nAny other business.
URL:https://www.rutlandtown.com/event/personnel-committee-meeting-13/
LOCATION:Town of Rutland Municipal Building\, 181Business Route 4\, Center Rutland\, VT\, 05736\, United States
CATEGORIES:Committee Meeting
END:VEVENT
BEGIN:VEVENT
DTSTART;TZID=UTC:20240423T160000
DTEND;TZID=UTC:20240423T180000
DTSTAMP:20260423T131106
CREATED:20240418T191112Z
LAST-MODIFIED:20240418T191112Z
UID:10001041-1713888000-1713895200@www.rutlandtown.com
SUMMARY:Personnel Committee Meeting
DESCRIPTION:Personnel Committee Agenda 4-23-2024 \nRUTLAND TOWN SELECT BOARD COMMITTEE MEETING \nPERSONNEL COMMITTEE  \nWednesday April 23rd\, 4:00PM \nLocation: Rutland Town Municipal Town Hall and Zoom Conferencing \nTo join via zoom call (646) 558-8656 or visit zoom.us/join and enter meeting ID 851 9094 1198. \nAgenda: \n\nWork session on new personnel policy draft\n\n\nAny other business.
URL:https://www.rutlandtown.com/event/personnel-committee-meeting-12/
LOCATION:VT
CATEGORIES:Committee Meeting
END:VEVENT
BEGIN:VEVENT
DTSTART;TZID=UTC:20240417T151500
DTEND;TZID=UTC:20240417T170000
DTSTAMP:20260423T131106
CREATED:20240415T124432Z
LAST-MODIFIED:20240415T124432Z
UID:10001039-1713366900-1713373200@www.rutlandtown.com
SUMMARY:Personnel Committee Meeting
DESCRIPTION:Personnel Committee Agenda 4-17-2024 \nRUTLAND TOWN SELECT BOARD COMMITTEE MEETING \nPERSONNEL COMMITTEE \nWednesday April 17th\, 3:15PM \nLocation: Rutland Town Municipal Town Hall and Zoom Conferencing \nTo join via zoom call (646) 558-8656 or visit zoom.us/join and enter meeting ID 851 9094 1198. \n Agenda: \n\n\nWork session on new personnel policy draft\n\nAny other business
URL:https://www.rutlandtown.com/event/personnel-committee-meeting-11/
LOCATION:Town of Rutland Municipal Building\, 181Business Route 4\, Center Rutland\, VT\, 05736\, United States
CATEGORIES:Committee Meeting
END:VEVENT
BEGIN:VEVENT
DTSTART;TZID=UTC:20240409T160000
DTEND;TZID=UTC:20240409T170000
DTSTAMP:20260423T131106
CREATED:20240327T184649Z
LAST-MODIFIED:20240327T184649Z
UID:10001031-1712678400-1712682000@www.rutlandtown.com
SUMMARY:Personnel Committee Meeting
DESCRIPTION:Personnel Committee Agenda 4-9-2024 \nRUTLAND TOWN SELECT BOARD COMMITTEE MEETING \nPERSONNEL COMMITTEE  \nTuesday April 9th\, 4:00PM \nLocation: Rutland Town Municipal Town Hall and Zoom Conferencing \nTo join via zoom call (646) 558-8656 or visit zoom.us/join and enter meeting ID 851 9094 1198. \nAgenda: \n\nWork session on new personnel policy draft\n\n\nAny other business.
URL:https://www.rutlandtown.com/event/personnel-committee-meeting-10/
LOCATION:Town of Rutland Municipal Building\, 181Business Route 4\, Center Rutland\, VT\, 05736\, United States
CATEGORIES:Committee Meeting
END:VEVENT
BEGIN:VEVENT
DTSTART;TZID=UTC:20240405T113000
DTEND;TZID=UTC:20240405T120000
DTSTAMP:20260423T131106
CREATED:20240327T184051Z
LAST-MODIFIED:20240327T184051Z
UID:10001030-1712316600-1712318400@www.rutlandtown.com
SUMMARY:Police Committee Meeting
DESCRIPTION:Police Committee Agenda 4-5-2024 \nRUTLAND TOWN SELECT BOARD COMMITTEE MEETING \nPOLICE COMMITTEE  \nFriday April 5th\, 11:30AM \nLocation: Rutland Town Municipal Town Hall and Zoom Conferencing \nTo join via zoom call (646) 558-8656 or visit zoom.us/join and enter meeting ID 851 9094 1198. \nAgenda: \n\nDiscuss CFAC request\nUpdate on candidates considered for new officer position\nAny other business.
URL:https://www.rutlandtown.com/event/police-committee-meeting-11/
LOCATION:Town of Rutland Municipal Building\, 181Business Route 4\, Center Rutland\, VT\, 05736\, United States
CATEGORIES:Committee Meeting
END:VEVENT
BEGIN:VEVENT
DTSTART;TZID=UTC:20240327T110000
DTEND;TZID=UTC:20240327T120000
DTSTAMP:20260423T131106
CREATED:20240312T161243Z
LAST-MODIFIED:20240312T161243Z
UID:10001026-1711537200-1711540800@www.rutlandtown.com
SUMMARY:Personnel Committee Meeting
DESCRIPTION:Personnel Committee Agenda 3-27-2024 \nRUTLAND TOWN SELECT BOARD COMMITTEE MEETING \nPERSONNEL COMMITTEE  \nWednesday March 27th\, 11AM \nLocation: Rutland Town Municipal Town Hall and Zoom Conferencing \nTo join via zoom call (646) 558-8656 or visit zoom.us/join and enter meeting ID 851 9094 1198. \nAgenda: \n\nWork session for committee to mark up existing policy\nAny other business
URL:https://www.rutlandtown.com/event/personnel-committee-meeting-9/
LOCATION:VT
CATEGORIES:Committee Meeting
END:VEVENT
BEGIN:VEVENT
DTSTART;TZID=UTC:20240325T090000
DTEND;TZID=UTC:20240325T100000
DTSTAMP:20260423T131106
CREATED:20240318T134616Z
LAST-MODIFIED:20240318T134616Z
UID:10001027-1711357200-1711360800@www.rutlandtown.com
SUMMARY:Highway / Building Committee Meeting
DESCRIPTION:Highway / Building Commitee Agenda 3-25-2024 \nRUTLAND TOWN SELECT BOARD COMMITTEE MEETING \nHIGHWAY & BUILDING COMMITTEES  \nMonday\, March 25th\, 9AM \nLocation: Rutland Town Municipal Town Hall and Zoom Conferencing \nTo join via zoom call (646) 558-8656 or visit zoom.us/join and enter meeting ID 851 9094 1198. \nHighway Committee Agenda: \n\nOpen paving bids\nMunicipal Project Manager for Route 7 N Sidewalk project\nVLCT Grant Award proposal\n\nBuilding Committee Agenda: \n\nReview plans for Town Hall downstairs remodel.\nAny other business
URL:https://www.rutlandtown.com/event/highway-building-committee-meeting-2/
LOCATION:Town of Rutland Municipal Building\, 181Business Route 4\, Center Rutland\, VT\, 05736\, United States
CATEGORIES:Committee Meeting
END:VEVENT
BEGIN:VEVENT
DTSTART;TZID=UTC:20240312T173000
DTEND;TZID=UTC:20240312T180000
DTSTAMP:20260423T131106
CREATED:20240306T135304Z
LAST-MODIFIED:20240306T135304Z
UID:10001024-1710264600-1710266400@www.rutlandtown.com
SUMMARY:Rec Committee Meeting
DESCRIPTION:Rec Committee Agenda 3-12-2024 \nRUTLAND TOWN SELECT BOARD COMMITTEE MEETING \nRECREATION COMMITTEE  \nTuesday March 12th\, 530PM \nLocation: Rutland Town Municipal Town Hall and Zoom Conferencing \n  \nTo join via zoom call (646) 558-8656 or visit zoom.us/join and enter meeting ID 851 9094 1198. \nAgenda: \n\nPool Groups\nSpring work on fields\nAny other business
URL:https://www.rutlandtown.com/event/rec-committee-meeting-5/
LOCATION:Town of Rutland Municipal Building\, 181Business Route 4\, Center Rutland\, VT\, 05736\, United States
CATEGORIES:Committee Meeting
END:VEVENT
BEGIN:VEVENT
DTSTART;TZID=UTC:20240226T110000
DTEND;TZID=UTC:20240226T120000
DTSTAMP:20260423T131106
CREATED:20240212T182242Z
LAST-MODIFIED:20240212T182242Z
UID:10001017-1708945200-1708948800@www.rutlandtown.com
SUMMARY:Personnel Committee Meeting
DESCRIPTION:Personnel Committee Meeting 2-26-2024 \nRUTLAND TOWN SELECT BOARD COMMITTEE MEETING \nPERSONNEL COMMITTEE  \nMonday February 26th\, 11AM \nLocation: Rutland Town Municipal Town Hall and Zoom Conferencing \nTo join via zoom call (646) 558-8656 or visit zoom.us/join and enter meeting ID 851 9094 1198. \nAgenda: \n\nContinue work on personnel manual\nAny other business
URL:https://www.rutlandtown.com/event/personnel-committee-meeting-8/
LOCATION:Town of Rutland Municipal Building\, 181Business Route 4\, Center Rutland\, VT\, 05736\, United States
CATEGORIES:Committee Meeting
END:VEVENT
BEGIN:VEVENT
DTSTART;TZID=UTC:20240212T110000
DTEND;TZID=UTC:20240212T120000
DTSTAMP:20260423T131106
CREATED:20240130T141427Z
LAST-MODIFIED:20240130T141427Z
UID:10001012-1707735600-1707739200@www.rutlandtown.com
SUMMARY:Personnel Committee meeting
DESCRIPTION:Personnel Committee Agenda 2-12-2024 \nhttps://zoom.us/s/85190941198 \nRUTLAND TOWN SELECT BOARD COMMITTEE MEETING \nPERSONNEL COMMITTEE  \nMonday February 12th\, 11AM \nLocation: Rutland Town Municipal Town Hall and Zoom Conferencing \nTo join via zoom call (646) 558-8656 or visit zoom.us/join and enter meeting ID 851 9094 1198. \nAgenda: \n\nContinue work on personnel manual\nAny other business
URL:https://www.rutlandtown.com/event/personnel-committee-meeting-7/
LOCATION:Town of Rutland Municipal Building\, 181Business Route 4\, Center Rutland\, VT\, 05736\, United States
CATEGORIES:Committee Meeting
END:VEVENT
BEGIN:VEVENT
DTSTART;TZID=UTC:20240205T090000
DTEND;TZID=UTC:20240205T170000
DTSTAMP:20260423T131106
CREATED:20240201T144914Z
LAST-MODIFIED:20240201T144914Z
UID:10001013-1707123600-1707152400@www.rutlandtown.com
SUMMARY:Highway & Building Committee Meeting
DESCRIPTION:Highway & Building Commitee Agenda 2-5-2024 \nRUTLAND TOWN SELECT BOARD COMMITTEE MEETING \nHIGHWAY & BUILDING COMMITTEES  \nMonday\, February 5th\, 9AM \nLocation: Rutland Town Municipal Town Hall and Zoom Conferencing \nTo join via zoom call (646) 558-8656 or visit zoom.us/join and enter meeting ID 851 9094 1198. \nAgenda: \n\nQuarterline Road Maintenance\nGenerator connection costs for the Highway garage\nMunicipal Project Manager for Route 7 N Sidewalk project\nReview updated Mailbox Damage and Class 4 Road Maintenance policies.\nReview bids received for lawn care services.\nAny other business
URL:https://www.rutlandtown.com/event/highway-building-committee-meeting/
LOCATION:Town of Rutland Municipal Building\, 181Business Route 4\, Center Rutland\, VT\, 05736\, United States
CATEGORIES:Committee Meeting
END:VEVENT
BEGIN:VEVENT
DTSTART;TZID=UTC:20240129T110000
DTEND;TZID=UTC:20240129T120000
DTSTAMP:20260423T131106
CREATED:20240124T141655Z
LAST-MODIFIED:20240124T141655Z
UID:10001009-1706526000-1706529600@www.rutlandtown.com
SUMMARY:Personnel Committee Meeting
DESCRIPTION:Personnel Committee Agenda 1-29-2024 \nRUTLAND TOWN SELECT BOARD COMMITTEE MEETING \nPERSONNEL COMMITTEE  \nMonday January 29th\, 11AM \nLocation: Rutland Town Municipal Town Hall and Zoom Conferencing \nTo join via zoom call (646) 558-8656 or visit zoom.us/join and enter meeting ID 851 9094 1198. \nAgenda: \n\nContinue work on personnel manual\nAny other business
URL:https://www.rutlandtown.com/event/personnel-committee-meeting-6/
LOCATION:Town of Rutland Municipal Building\, 181Business Route 4\, Center Rutland\, VT\, 05736\, United States
CATEGORIES:Committee Meeting
END:VEVENT
BEGIN:VEVENT
DTSTART;TZID=UTC:20240123T090000
DTEND;TZID=UTC:20240123T100000
DTSTAMP:20260423T131106
CREATED:20240119T180020Z
LAST-MODIFIED:20240119T180117Z
UID:10001007-1706000400-1706004000@www.rutlandtown.com
SUMMARY:Building Committee Meeting
DESCRIPTION:Building Committee Meeting Agenda 1-23-2024 \nRUTLAND TOWN SELECT BOARD COMMITTEE MEETING \nBUILDING COMMITTEE  \nTuesday January 23rd\, 9AM \nLocation: Rutland Town Municipal Town Hall and Zoom Conferencing \nTo join via zoom call (646) 558-8656 or visit zoom.us/join and enter meeting ID 851 9094 1198. \nAgenda: \n\nTown Hall renovation planning progress\nElectric Vehicle Charging Station grant proposal review\nAny other business
URL:https://www.rutlandtown.com/event/building-committee-meeting-3/
LOCATION:Town of Rutland Municipal Building\, 181Business Route 4\, Center Rutland\, VT\, 05736\, United States
CATEGORIES:Committee Meeting
END:VEVENT
BEGIN:VEVENT
DTSTART;TZID=UTC:20240112T090000
DTEND;TZID=UTC:20240112T170000
DTSTAMP:20260423T131106
CREATED:20240103T203712Z
LAST-MODIFIED:20240103T203712Z
UID:10001005-1705050000-1705078800@www.rutlandtown.com
SUMMARY:Highway Committee Meeting
DESCRIPTION:Highway Committee Agenda 1-12-2024 \nRUTLAND TOWN SELECT BOARD COMMITTEE MEETING \nHIGHWAY COMMITTEE  \nFriday January 12th\, 9AM \nLocation: Rutland Town Municipal Town Hall and Zoom Conferencing \nTo join via zoom call (646) 558-8656 or visit zoom.us/join and enter meeting ID 851 9094 1198. \nAgenda: \n\nStratton Road Culvert replacement\nTown water survey program\nWynnemere documentation for road take over\nQuarterline Road Maintenance\nAny other business
URL:https://www.rutlandtown.com/event/highway-committee-meeting-17/
LOCATION:Town of Rutland Municipal Building\, 181Business Route 4\, Center Rutland\, VT\, 05736\, United States
CATEGORIES:Committee Meeting
END:VEVENT
BEGIN:VEVENT
DTSTART;TZID=UTC:20240105T080000
DTEND;TZID=UTC:20240105T170000
DTSTAMP:20260423T131106
CREATED:20240105T182213Z
LAST-MODIFIED:20240105T182213Z
UID:10001006-1704441600-1704474000@www.rutlandtown.com
SUMMARY:Police Committee Meeting
DESCRIPTION:Police Commitee Agenda 1-9-2024 \nhttps://zoom.us/s/85190941198 \nRUTLAND TOWN SELECT BOARD COMMITTEE MEETING \nPOLICE COMMITTEE  \nTuesday January 9th\, 8:00AM \nLocation: Rutland Town Municipal Town Hall and Zoom Conferencing \nTo join via zoom call (646) 558-8656 or visit zoom.us/join and enter meeting ID 851 9094 1198. \nAgenda: \n\nDiscuss purchase of new IT hardware\nReview plans for future depreciation expenditures\nAny other business.\n\n  \n 
URL:https://www.rutlandtown.com/event/police-committee-meeting-10/
LOCATION:VT
CATEGORIES:Committee Meeting
END:VEVENT
BEGIN:VEVENT
DTSTART;TZID=UTC:20240102T173000
DTEND;TZID=UTC:20240102T180000
DTSTAMP:20260423T131106
CREATED:20231228T174941Z
LAST-MODIFIED:20231228T174941Z
UID:10001004-1704216600-1704218400@www.rutlandtown.com
SUMMARY:Finance Committee Meeting
DESCRIPTION:Finance Committee Agenda 1-2-2024 \nRUTLAND TOWN SELECT BOARD COMMITTEE MEETING \nFINANCE COMMITTEE  \nTuesday January 2nd\, 5:30PM \nLocation: Rutland Town Municipal Town Hall and Zoom Conferencing \nTo join via zoom call (646) 558-8656 or visit zoom.us/join and enter meeting ID 851 9094 1198. \nAgenda: \n\nReview Town audit results with the Town Auditor\nAny other business.\n\nhttps://zoom.us/s/85190941198
URL:https://www.rutlandtown.com/event/finance-committee-meeting-2/
LOCATION:Town of Rutland Municipal Building\, 181Business Route 4\, Center Rutland\, VT\, 05736\, United States
CATEGORIES:Committee Meeting
END:VEVENT
BEGIN:VEVENT
DTSTART;TZID=UTC:20231219T083000
DTEND;TZID=UTC:20231219T093000
DTSTAMP:20260423T131106
CREATED:20231213T132816Z
LAST-MODIFIED:20231213T132816Z
UID:10000908-1702974600-1702978200@www.rutlandtown.com
SUMMARY:Finance / Police Committee Meeting
DESCRIPTION:Finance / Police Committee Meeting 12-19-2023 \nRUTLAND TOWN SELECT BOARD COMMITTEE MEETING \nFINANCE / POLICE COMMITTEE  \nTuesday December 19th\, 830AM \nLocation: Rutland Town Municipal Town Hall and Zoom Conferencing \nTo join via zoom call (646) 558-8656 or visit zoom.us/join and enter meeting ID 851 9094 1198. \n  \nAgenda: \n\nDiscuss Cortina Inn funds with the Town Treasurer and Town auditor.\nFinish the Police budget\nAny other business
URL:https://www.rutlandtown.com/event/finance-police-committee-meeting/
LOCATION:Town of Rutland Municipal Building\, 181Business Route 4\, Center Rutland\, VT\, 05736\, United States
CATEGORIES:Committee Meeting
END:VEVENT
BEGIN:VEVENT
DTSTART;TZID=UTC:20231215T090000
DTEND;TZID=UTC:20231215T100000
DTSTAMP:20260423T131106
CREATED:20231213T142905Z
LAST-MODIFIED:20231213T142905Z
UID:10000909-1702630800-1702634400@www.rutlandtown.com
SUMMARY:Highway Committee Meeting
DESCRIPTION:Highway Committee Agenda 12-15-2023 \nRUTLAND TOWN SELECT BOARD COMMITTEE MEETING \nHIGHWAY COMMITTEE  \nFriday\, December 15th\, 9AM \nLocation: Rutland Town Municipal Town Hall and Zoom Conferencing \nTo join via zoom call (646) 558-8656 or visit zoom.us/join and enter meeting ID 851 9094 1198. \nAgenda: \n\nRoad Maintenance proposal from the Town of Clarendon\nHighway Dept FB Page\nWynnemere HOA / Carmel Place Document review\nWhich list of Town Highway numbers should be used in ordinances\nAny other business
URL:https://www.rutlandtown.com/event/highway-committee-meeting-16/
LOCATION:Town of Rutland Municipal Building\, 181Business Route 4\, Center Rutland\, VT\, 05736\, United States
CATEGORIES:Committee Meeting
END:VEVENT
BEGIN:VEVENT
DTSTART;TZID=UTC:20231206T160000
DTEND;TZID=UTC:20231206T170000
DTSTAMP:20260423T131106
CREATED:20231201T154110Z
LAST-MODIFIED:20231201T154110Z
UID:10000907-1701878400-1701882000@www.rutlandtown.com
SUMMARY:Police Committee Meeting
DESCRIPTION:Police Committee Agenda 12-6-2023 \nRUTLAND TOWN SELECT BOARD COMMITTEE MEETING \nPOLICE COMMITTEE  \nWednesday December 6th\, 4PM \nLocation: Rutland Town Municipal Town Hall and Zoom Conferencing \nTo join via zoom call (646) 558-8656 or visit zoom.us/join and enter meeting ID 851 9094 1198. \nAgenda: \n\nBudget planning for FY 2025\nAny other business
URL:https://www.rutlandtown.com/event/police-committee-meeting-9/
LOCATION:Town of Rutland Municipal Building\, 181Business Route 4\, Center Rutland\, VT\, 05736\, United States
CATEGORIES:Committee Meeting
END:VEVENT
BEGIN:VEVENT
DTSTART;TZID=UTC:20231129T160000
DTEND;TZID=UTC:20231129T170000
DTSTAMP:20260423T131106
CREATED:20231127T133706Z
LAST-MODIFIED:20231127T133706Z
UID:10000903-1701273600-1701277200@www.rutlandtown.com
SUMMARY:Fire Committee Meeting
DESCRIPTION:Fire Committee Agenda 11-29-2023 \nZoom link – https://zoom.us/s/85190941198 \nRUTLAND TOWN SELECT BOARD COMMITTEE MEETING \nFIRE COMMITTEE  \nWednesday November 29th\, 4:00PM \nLocation: Rutland Town Municipal Town Hall and Zoom Conferencing \nTo join via zoom call (646) 558-8656 or visit zoom.us/join and enter meeting ID 851 9094 1198. \nAgenda: \n\nBudget planning for FY 25\nPurchase of a new utility pick up truck\nAny other business
URL:https://www.rutlandtown.com/event/fire-committee-meeting-4/
LOCATION:Town of Rutland Municipal Building\, 181Business Route 4\, Center Rutland\, VT\, 05736\, United States
CATEGORIES:Committee Meeting
END:VEVENT
BEGIN:VEVENT
DTSTART;TZID=UTC:20231121T170000
DTEND;TZID=UTC:20231121T180000
DTSTAMP:20260423T131106
CREATED:20231109T150404Z
LAST-MODIFIED:20231109T150404Z
UID:10000898-1700586000-1700589600@www.rutlandtown.com
SUMMARY:Rec Committee Meeting
DESCRIPTION:Rec Committee Agenda 11-21-2023 \nRUTLAND TOWN SELECT BOARD COMMITTEE MEETING \nRECREATION COMMITTEE  \nTuesday November 21st\, 5PM \nLocation: Rutland Town Municipal Town Hall and Zoom Conferencing \nTo join via zoom call (646) 558-8656 or visit zoom.us/join and enter meeting ID 851 9094 1198. \nAgenda: \n\nBudget planning for FY 2025\nTeam Participation\nAny other business\n\nhttps://zoom.us/s/85190941198
URL:https://www.rutlandtown.com/event/rec-committee-meeting-4/
LOCATION:Town of Rutland Municipal Building\, 181Business Route 4\, Center Rutland\, VT\, 05736\, United States
CATEGORIES:Committee Meeting
END:VEVENT
BEGIN:VEVENT
DTSTART;TZID=UTC:20231113T170000
DTEND;TZID=UTC:20231113T180000
DTSTAMP:20260423T131106
CREATED:20231109T160053Z
LAST-MODIFIED:20231109T160053Z
UID:10000899-1699894800-1699898400@www.rutlandtown.com
SUMMARY:Police Committee Meeting
DESCRIPTION:Police Committee Meeting 11-13-2023 \nRUTLAND TOWN SELECT BOARD COMMITTEE MEETING \nPOLICE COMMITTEE  \nMonday November 13th\, 5PM \nLocation: Rutland Town Municipal Town Hall and Zoom Conferencing \nTo join via zoom call (646) 558-8656 or visit zoom.us/join and enter meeting ID 851 9094 1198. \nAgenda: \n\nBudget planning for FY 2025\nFY 24-25 Budget (How to reflect the Cortina Money)\nDiscussion of the Draft Five Year Plan (Short term / long term budget)\nImplementing the purposed Dept. Step Program for FY 24-25\nProviding Medical coverage after an officer retires prior to age 65\nAny other business
URL:https://www.rutlandtown.com/event/police-committee-meeting-8/
LOCATION:Town of Rutland Municipal Building\, 181Business Route 4\, Center Rutland\, VT\, 05736\, United States
CATEGORIES:Committee Meeting
END:VEVENT
BEGIN:VEVENT
DTSTART;TZID=UTC:20231108T100000
DTEND;TZID=UTC:20231108T110000
DTSTAMP:20260423T131106
CREATED:20231102T193337Z
LAST-MODIFIED:20231102T193337Z
UID:10000895-1699437600-1699441200@www.rutlandtown.com
SUMMARY:Highway Committee Meeting
DESCRIPTION:Highway Committee Agenda 11-8-2023 \nRUTLAND TOWN SELECT BOARD COMMITTEE MEETING \nHIGHWAY COMMITTEE  \nWednesday\, November 8th\, 10AM \nLocation: Rutland Town Municipal Town Hall and Zoom Conferencing \n  \nTo join via zoom call (646) 558-8656 or visit zoom.us/join and enter meeting ID 851 9094 1198. \nAgenda: \n\nBudget planning for FY25\nAny other business\n\n 
URL:https://www.rutlandtown.com/event/highway-committee-meeting-15/
LOCATION:Town of Rutland Municipal Building\, 181Business Route 4\, Center Rutland\, VT\, 05736\, United States
CATEGORIES:Committee Meeting
END:VEVENT
END:VCALENDAR