BEGIN:VCALENDAR
VERSION:2.0
PRODID:-//The Town of Rutland, Vermont - ECPv6.15.20//NONSGML v1.0//EN
CALSCALE:GREGORIAN
METHOD:PUBLISH
X-ORIGINAL-URL:https://www.rutlandtown.com
X-WR-CALDESC:Events for The Town of Rutland, Vermont
REFRESH-INTERVAL;VALUE=DURATION:PT1H
X-Robots-Tag:noindex
X-PUBLISHED-TTL:PT1H
BEGIN:VTIMEZONE
TZID:UTC
BEGIN:STANDARD
TZOFFSETFROM:+0000
TZOFFSETTO:+0000
TZNAME:UTC
DTSTART:20240101T000000
END:STANDARD
END:VTIMEZONE
BEGIN:VEVENT
DTSTART;TZID=UTC:20250429T170000
DTEND;TZID=UTC:20250429T180000
DTSTAMP:20260425T120129
CREATED:20250424T172533Z
LAST-MODIFIED:20250424T172533Z
UID:10001523-1745946000-1745949600@www.rutlandtown.com
SUMMARY:Police Committee Meeting
DESCRIPTION:Police Committee Agenda 4-29-2025 \nRUTLAND TOWN SELECTBOARD COMMITTEE MEETING \nPOLICE COMMITTEE  \nTuesday\, April 29th\, 2025\, 5:00PM \nLocation: Rutland Town Municipal Town Hall and Zoom Conferencing \nTo join via zoom call (646) 558-8656 or visit zoom.us/join and enter meeting ID 851 9094 1198. \nAgenda: \n\nReview the contract to replace the Police Department firearms\nReview the contract for a new copier\nReview the contract for the tasers\nDiscuss emergency management planning at the Town School\nAny other business
URL:https://www.rutlandtown.com/event/police-committee-meeting-19/
LOCATION:Town of Rutland Municipal Building\, 181Business Route 4\, Center Rutland\, VT\, 05736\, United States
CATEGORIES:Committee Meeting
END:VEVENT
END:VCALENDAR