BEGIN:VCALENDAR
VERSION:2.0
PRODID:-//The Town of Rutland, Vermont - ECPv6.15.20//NONSGML v1.0//EN
CALSCALE:GREGORIAN
METHOD:PUBLISH
X-WR-CALNAME:The Town of Rutland, Vermont
X-ORIGINAL-URL:https://www.rutlandtown.com
X-WR-CALDESC:Events for The Town of Rutland, Vermont
REFRESH-INTERVAL;VALUE=DURATION:PT1H
X-Robots-Tag:noindex
X-PUBLISHED-TTL:PT1H
BEGIN:VTIMEZONE
TZID:UTC
BEGIN:STANDARD
TZOFFSETFROM:+0000
TZOFFSETTO:+0000
TZNAME:UTC
DTSTART:20240101T000000
END:STANDARD
END:VTIMEZONE
BEGIN:VEVENT
DTSTART;TZID=UTC:20251104T163000
DTEND;TZID=UTC:20251104T173000
DTSTAMP:20260424T163239
CREATED:20251022T172510Z
LAST-MODIFIED:20251030T175231Z
UID:10001576-1762273800-1762277400@www.rutlandtown.com
SUMMARY:Rec Committee meeting
DESCRIPTION:Rec Committee Agenda 11-4-2025 \nRUTLAND TOWN SELECTBOARD  \nRECREATION COMMITTEE MEETING \nTuesday\, November 4th\, 2025\, 4:30PM \nLocation: Rutland Town Municipal Town Hall and Zoom Conferencing \nTo join via zoom call (646) 558-8656 or visit zoom.us/join and enter meeting ID 851 9094 1198. \nAgenda: \n\nReview the draft budget for FY 27\nAny other business
URL:https://www.rutlandtown.com/event/rec-committee-meeting-15/
LOCATION:Town of Rutland Municipal Building\, 181Business Route 4\, Center Rutland\, VT\, 05736\, United States
CATEGORIES:Committee Meeting
END:VEVENT
BEGIN:VEVENT
DTSTART;TZID=UTC:20251107T130000
DTEND;TZID=UTC:20251107T140000
DTSTAMP:20260424T163239
CREATED:20251030T175727Z
LAST-MODIFIED:20251030T175727Z
UID:10001578-1762520400-1762524000@www.rutlandtown.com
SUMMARY:Personnel / Finance CommitteeMeeting
DESCRIPTION:Personnel / Finance Committee Agenda 11-7-2025 \nRUTLAND TOWN SELECTBOARD  \nFINANCE / PERSONNEL COMMITTEE MEETING \nFriday\, November 7th\, 2025\, 1:00PM \nLocation: Rutland Town Municipal Town Hall and Zoom Conferencing \nTo join via zoom call (646) 558-8656 or visit zoom.us/join and enter meeting ID 851 9094 1198. \nAgenda: \n\nADP update\nEmployee update\nAny other business
URL:https://www.rutlandtown.com/event/personnel-finance-committeemeeting/
LOCATION:Town of Rutland Municipal Building\, 181Business Route 4\, Center Rutland\, VT\, 05736\, United States
CATEGORIES:Committee Meeting
END:VEVENT
END:VCALENDAR