BEGIN:VCALENDAR
VERSION:2.0
PRODID:-//The Town of Rutland, Vermont - ECPv6.15.20//NONSGML v1.0//EN
CALSCALE:GREGORIAN
METHOD:PUBLISH
X-WR-CALNAME:The Town of Rutland, Vermont
X-ORIGINAL-URL:https://www.rutlandtown.com
X-WR-CALDESC:Events for The Town of Rutland, Vermont
REFRESH-INTERVAL;VALUE=DURATION:PT1H
X-Robots-Tag:noindex
X-PUBLISHED-TTL:PT1H
BEGIN:VTIMEZONE
TZID:UTC
BEGIN:STANDARD
TZOFFSETFROM:+0000
TZOFFSETTO:+0000
TZNAME:UTC
DTSTART:20230101T000000
END:STANDARD
END:VTIMEZONE
BEGIN:VTIMEZONE
TZID:America/New_York
BEGIN:DAYLIGHT
TZOFFSETFROM:-0500
TZOFFSETTO:-0400
TZNAME:EDT
DTSTART:20230312T070000
END:DAYLIGHT
BEGIN:STANDARD
TZOFFSETFROM:-0400
TZOFFSETTO:-0500
TZNAME:EST
DTSTART:20231105T060000
END:STANDARD
BEGIN:DAYLIGHT
TZOFFSETFROM:-0500
TZOFFSETTO:-0400
TZNAME:EDT
DTSTART:20240310T070000
END:DAYLIGHT
BEGIN:STANDARD
TZOFFSETFROM:-0400
TZOFFSETTO:-0500
TZNAME:EST
DTSTART:20241103T060000
END:STANDARD
BEGIN:DAYLIGHT
TZOFFSETFROM:-0500
TZOFFSETTO:-0400
TZNAME:EDT
DTSTART:20250309T070000
END:DAYLIGHT
BEGIN:STANDARD
TZOFFSETFROM:-0400
TZOFFSETTO:-0500
TZNAME:EST
DTSTART:20251102T060000
END:STANDARD
END:VTIMEZONE
BEGIN:VEVENT
DTSTART;VALUE=DATE:20260401
DTEND;VALUE=DATE:20260402
DTSTAMP:20260421T103752
CREATED:20240329T135032Z
LAST-MODIFIED:20240329T135032Z
UID:10001034-1775001600-1775087999@www.rutlandtown.com
SUMMARY:Dog Registrations Due
DESCRIPTION:Please call or stop into the Town Clerks office with any questions.
URL:https://www.rutlandtown.com/event/dog-registrations-due/2026-04-01/
LOCATION:Town of Rutland Municipal Building\, 181Business Route 4\, Center Rutland\, VT\, 05736\, United States
CATEGORIES:Community,Municipal Date
END:VEVENT
BEGIN:VEVENT
DTSTART;TZID=UTC:20260303T070000
DTEND;TZID=UTC:20260303T190000
DTSTAMP:20260421T103752
CREATED:20260302T160916Z
LAST-MODIFIED:20260302T160916Z
UID:10001707-1772521200-1772564400@www.rutlandtown.com
SUMMARY:Voting Day
DESCRIPTION:The legal voters of the Town of Rutland\, Vermont are hereby warned and notified to meet at the Rutland Town Elementary School on Post Road on Monday\, March 2\, 2026 at 7:00 p.m. to\ndiscuss Articles 1 through 23. At the close of business\, the meeting shall recess to 7:00 a.m. \nTuesday\, March 3\, 2026 at the Town Hall in Center Rutland for voters living on the west side of Route 7\, and the Elementary School on Post Road for voters on the east side of Route 7\, to\nvote by Australian Ballot on Articles 1 through 23 inclusive. Polls will close at 7:00 p.m. on March 3\, 2026.
URL:https://www.rutlandtown.com/event/voting-day/
LOCATION:VT
CATEGORIES:Community,Municipal Date
END:VEVENT
BEGIN:VEVENT
DTSTART;TZID=UTC:20260302T190000
DTEND;TZID=UTC:20260302T210000
DTSTAMP:20260421T103752
CREATED:20260122T134805Z
LAST-MODIFIED:20260211T134509Z
UID:10001692-1772478000-1772485200@www.rutlandtown.com
SUMMARY:Town Meeting
DESCRIPTION:Please join us to hear budget presentations from departments heads and the Selectboard for the coming fiscal year\, which will be voted on March 3rd. \nYou can view the budget sheets at the link below. \nNotice to voters \nRutland Town Warning \nBoard Approved Town Budget Sheets FY27 \nRutland Town School Warning \nRutland Town School Budget Detail
URL:https://www.rutlandtown.com/event/town-meeting-5/
LOCATION:Rutland Town School\, 1612 Post Road\, Rutland\, VT\, 05701\, United States
CATEGORIES:Community,Municipal Date,Select Board
END:VEVENT
BEGIN:VEVENT
DTSTART;TZID=UTC:20260120T200000
DTEND;TZID=UTC:20260120T203000
DTSTAMP:20260421T103752
CREATED:20260115T191137Z
LAST-MODIFIED:20260115T191137Z
UID:10001688-1768939200-1768941000@www.rutlandtown.com
SUMMARY:Selectboard Meeting
DESCRIPTION:Selectboard Agenda 1-20-2026 \nTOWN OF RUTLAND SELECTBOARD MEETING NOTICE AND AGENDA \nRUTLAND TOWN SCHOOL – 1612 POST ROAD  \nTuesday January 20th\, 2025 \nImmediately following the pre-town meeting \nAction items \n\nBoard to vote on any changes made to budget items from the pre-town meeting.
URL:https://www.rutlandtown.com/event/selectboard-meeting-3/
LOCATION:Rutland Town School\, 1612 Post Road\, Rutland\, VT\, 05701\, United States
CATEGORIES:Community,Municipal Date,Select Board
END:VEVENT
BEGIN:VEVENT
DTSTART;TZID=UTC:20260120T180000
DTEND;TZID=UTC:20260120T210000
DTSTAMP:20260421T103752
CREATED:20251217T201359Z
LAST-MODIFIED:20251217T201359Z
UID:10001683-1768932000-1768942800@www.rutlandtown.com
SUMMARY:Pre-Town Meeting
DESCRIPTION:Please join us to hear budget presentations from departments heads and the Selectboard for the coming fiscal year\, which will be voted on March 3rd. \nYou can view the draft budget sheets at the link below. \n  \nBoard Approved Draft Town Budget Sheets FY27
URL:https://www.rutlandtown.com/event/pre-town-meeting-5/
LOCATION:Rutland Town School\, 1612 Post Road\, Rutland\, VT\, 05701\, United States
CATEGORIES:Community,Municipal Date,Select Board
END:VEVENT
BEGIN:VEVENT
DTSTART;VALUE=DATE:20260119
DTEND;VALUE=DATE:20260120
DTSTAMP:20260421T103752
CREATED:20260116T171138Z
LAST-MODIFIED:20260116T171138Z
UID:10001690-1768780800-1768867199@www.rutlandtown.com
SUMMARY:Town Hall Closed
DESCRIPTION:Town Hall will be closed Monday\, January 19th in observance of the Dr. Martin Luther King Jr. holiday.
URL:https://www.rutlandtown.com/event/town-hall-closed-23/
LOCATION:VT
CATEGORIES:Municipal Date
END:VEVENT
BEGIN:VEVENT
DTSTART;VALUE=DATE:20260119
DTEND;VALUE=DATE:20260120
DTSTAMP:20260421T103752
CREATED:20260116T171225Z
LAST-MODIFIED:20260116T171225Z
UID:10001691-1768780800-1768867199@www.rutlandtown.com
SUMMARY:Town Hall Closed
DESCRIPTION:Town Hall will be closed Monday\, January 19th in observance of the Dr. Martin Luther King Jr. holiday.
URL:https://www.rutlandtown.com/event/town-hall-closed-23-2/
LOCATION:VT
CATEGORIES:Municipal Date
END:VEVENT
BEGIN:VEVENT
DTSTART;VALUE=DATE:20260101
DTEND;VALUE=DATE:20260102
DTSTAMP:20260421T103752
CREATED:20251216T170314Z
LAST-MODIFIED:20251216T170314Z
UID:10001682-1767225600-1767311999@www.rutlandtown.com
SUMMARY:Town Hall closed
DESCRIPTION:Town Hall will be closed for the New Years holiday.
URL:https://www.rutlandtown.com/event/town-hall-closed-22/
LOCATION:Town of Rutland Municipal Building\, 181Business Route 4\, Center Rutland\, VT\, 05736\, United States
CATEGORIES:Municipal Date
END:VEVENT
BEGIN:VEVENT
DTSTART;VALUE=DATE:20251225
DTEND;VALUE=DATE:20251227
DTSTAMP:20260421T103752
CREATED:20251216T170221Z
LAST-MODIFIED:20251216T170221Z
UID:10001681-1766620800-1766793599@www.rutlandtown.com
SUMMARY:Town Hall Closed
DESCRIPTION:Town Hall will be closed for the Christmas Holiday.
URL:https://www.rutlandtown.com/event/town-hall-closed-21/
LOCATION:Town of Rutland Municipal Building\, 181Business Route 4\, Center Rutland\, VT\, 05736\, United States
CATEGORIES:Municipal Date
END:VEVENT
BEGIN:VEVENT
DTSTART;VALUE=DATE:20251127
DTEND;VALUE=DATE:20251129
DTSTAMP:20260421T103752
CREATED:20251126T142733Z
LAST-MODIFIED:20251126T142733Z
UID:10001588-1764201600-1764374399@www.rutlandtown.com
SUMMARY:Town Hall Closed
DESCRIPTION:
URL:https://www.rutlandtown.com/event/town-hall-closed-20/
LOCATION:Town of Rutland Municipal Building\, 181Business Route 4\, Center Rutland\, VT\, 05736\, United States
CATEGORIES:Municipal Date
END:VEVENT
BEGIN:VEVENT
DTSTART;VALUE=DATE:20251013
DTEND;VALUE=DATE:20251014
DTSTAMP:20260421T103752
CREATED:20230925T125537Z
LAST-MODIFIED:20230925T125537Z
UID:10000876-1760313600-1760399999@www.rutlandtown.com
SUMMARY:Town Hall Closed
DESCRIPTION:Town Hall will be closed in observance of Indigenous Peoples Day.
URL:https://www.rutlandtown.com/event/town-hall-closed-14/2025-10-13/
LOCATION:Town of Rutland Municipal Building\, 181Business Route 4\, Center Rutland\, VT\, 05736\, United States
CATEGORIES:Municipal Date
END:VEVENT
BEGIN:VEVENT
DTSTART;VALUE=DATE:20250901
DTEND;VALUE=DATE:20250902
DTSTAMP:20260421T103752
CREATED:20230828T125043Z
LAST-MODIFIED:20230828T125043Z
UID:10000861-1756684800-1756771199@www.rutlandtown.com
SUMMARY:Town Hall Closed
DESCRIPTION:Town Hall will be closed in observance on Labor Day.
URL:https://www.rutlandtown.com/event/town-hall-closed-13/2025-09-01/
LOCATION:Town of Rutland Municipal Building\, 181Business Route 4\, Center Rutland\, VT\, 05736\, United States
CATEGORIES:Municipal Date
END:VEVENT
BEGIN:VEVENT
DTSTART;TZID=UTC:20250823T193000
DTEND;TZID=UTC:20250823T213000
DTSTAMP:20260421T103752
CREATED:20250818T142836Z
LAST-MODIFIED:20250818T142836Z
UID:10001555-1755977400-1755984600@www.rutlandtown.com
SUMMARY:Town Fireworks Display
DESCRIPTION:Come join us for our annual fireworks display put on by Northstar Fireworks. \nThe display starts at dusk!
URL:https://www.rutlandtown.com/event/town-fireworks-display/
LOCATION:Northwood Park\, 185 Northwood Park Road\, Rutland\, 05701
CATEGORIES:Community,Municipal Date
END:VEVENT
BEGIN:VEVENT
DTSTART;TZID=UTC:20250823T100000
DTEND;TZID=UTC:20250823T140000
DTSTAMP:20260421T103752
CREATED:20250818T142722Z
LAST-MODIFIED:20250818T142722Z
UID:10001554-1755943200-1755957600@www.rutlandtown.com
SUMMARY:Town Wide Celebration
DESCRIPTION:Come join us at Northwood park from 10AM to 2PM \nWe will have many booths and displays\, all our Town departments\, free lunch and free ice cream! \nThe pool is open for free swim! \nhttps://www.facebook.com/share/175D7Sobay/
URL:https://www.rutlandtown.com/event/town-wide-celebration-2/
LOCATION:Northwood Park\, 185 Northwood Park Road\, Rutland\, 05701
CATEGORIES:Community,Municipal Date
END:VEVENT
BEGIN:VEVENT
DTSTART;TZID=UTC:20250707T090000
DTEND;TZID=UTC:20250707T170000
DTSTAMP:20260421T103752
CREATED:20250624T171601Z
LAST-MODIFIED:20250624T171601Z
UID:10001540-1751878800-1751907600@www.rutlandtown.com
SUMMARY:Grievance Hearing
DESCRIPTION:7.7.2025 Listers Grievance Notice \n9AM to 12 \n12 to 5PM
URL:https://www.rutlandtown.com/event/grievance-hearing/
LOCATION:Town of Rutland Municipal Building\, 181Business Route 4\, Center Rutland\, VT\, 05736\, United States
CATEGORIES:Municipal Date
END:VEVENT
BEGIN:VEVENT
DTSTART;VALUE=DATE:20250510
DTEND;VALUE=DATE:20250511
DTSTAMP:20260421T103752
CREATED:20210716T172210Z
LAST-MODIFIED:20220729T150816Z
UID:10000597-1746835200-1746921599@www.rutlandtown.com
SUMMARY:3rd Tax Installment Due
DESCRIPTION:The third installment of taxes are due by close of business on May 10th. \nPayments may be mailed\, delivered to our office\, placed in the drop box next to our front door or made online by going HERE. \nThe drop box is checked at the end of the business day. \nWe do accept postmarks with official USPS postmarks only. We are not responsible for late\, misdirected or incorrectly addressed mail. \nIf you have a question on any previous balance due please contact the office. Notices of prior balances due ARE NOT sent out. \nIf the due date falls on a weekend taxes shall be due by close of business on the next business day.
URL:https://www.rutlandtown.com/event/3rd-tax-installment-due-date/2025-05-10/
LOCATION:Town of Rutland Municipal Building\, 181Business Route 4\, Center Rutland\, VT\, 05736\, United States
CATEGORIES:Municipal Date
END:VEVENT
BEGIN:VEVENT
DTSTART;TZID=UTC:20250426T083000
DTEND;TZID=UTC:20250426T123000
DTSTAMP:20260421T103752
CREATED:20250310T200914Z
LAST-MODIFIED:20250310T200914Z
UID:10001514-1745656200-1745670600@www.rutlandtown.com
SUMMARY:Household Hazardous Waste Collection Event
DESCRIPTION:
URL:https://www.rutlandtown.com/event/household-hazardous-waste-collection-event/
LOCATION:Northwood Park\, 185 Northwood Park Road\, Rutland\, 05701
CATEGORIES:Community,Municipal Date
END:VEVENT
BEGIN:VEVENT
DTSTART;VALUE=DATE:20250401
DTEND;VALUE=DATE:20250402
DTSTAMP:20260421T103752
CREATED:20240329T135032Z
LAST-MODIFIED:20240329T135032Z
UID:10001033-1743465600-1743551999@www.rutlandtown.com
SUMMARY:Dog Registrations Due
DESCRIPTION:Please call or stop into the Town Clerks office with any questions.
URL:https://www.rutlandtown.com/event/dog-registrations-due/2025-04-01/
LOCATION:Town of Rutland Municipal Building\, 181Business Route 4\, Center Rutland\, VT\, 05736\, United States
CATEGORIES:Community,Municipal Date
END:VEVENT
BEGIN:VEVENT
DTSTART;TZID=UTC:20250303T190000
DTEND;TZID=UTC:20250303T210000
DTSTAMP:20260421T103752
CREATED:20250205T155217Z
LAST-MODIFIED:20250228T150938Z
UID:10001503-1741028400-1741035600@www.rutlandtown.com
SUMMARY:Town Meeting
DESCRIPTION:Town meeting warning \nTo attend virtually using zoom click this link.
URL:https://www.rutlandtown.com/event/town-meeting-4/
LOCATION:Rutland Town School\, 1612 Post Road\, Rutland\, VT\, 05701\, United States
CATEGORIES:Community,Municipal Date,Select Board
END:VEVENT
BEGIN:VEVENT
DTSTART;VALUE=DATE:20250217
DTEND;VALUE=DATE:20250218
DTSTAMP:20260421T103752
CREATED:20250210T165657Z
LAST-MODIFIED:20250210T165657Z
UID:10001506-1739750400-1739836799@www.rutlandtown.com
SUMMARY:Town Hall Closed
DESCRIPTION:Town Hall will be closed in observance of the Presidents Day holiday.
URL:https://www.rutlandtown.com/event/town-hall-closed-19/
LOCATION:Town of Rutland Municipal Building\, 181Business Route 4\, Center Rutland\, VT\, 05736\, United States
CATEGORIES:Municipal Date
END:VEVENT
BEGIN:VEVENT
DTSTART;TZID=UTC:20250114T190000
DTEND;TZID=UTC:20250114T210000
DTSTAMP:20260421T103752
CREATED:20241216T203702Z
LAST-MODIFIED:20250108T172646Z
UID:10001408-1736881200-1736888400@www.rutlandtown.com
SUMMARY:Pre-Town Meeting
DESCRIPTION:FY 26 Municipal Draft Budget Sheets \nPre-Town meeting will start at 700PM in the library at the Town School. \nTo join the meting remotely follow this link – https://us06web.zoom.us/j/85190941198 \nThe Selectboard will present the draft budgets beginning at 7Pm and the School Board \nMore details will be posted here as they become available.
URL:https://www.rutlandtown.com/event/pre-town-meeting-4/
LOCATION:Rutland Town School\, 1612 Post Road\, Rutland\, VT\, 05701\, United States
CATEGORIES:Community,Municipal Date,Select Board
END:VEVENT
BEGIN:VEVENT
DTSTART;VALUE=DATE:20250110
DTEND;VALUE=DATE:20250111
DTSTAMP:20260421T103752
CREATED:20220729T145844Z
LAST-MODIFIED:20220729T150747Z
UID:10000659-1736467200-1736553599@www.rutlandtown.com
SUMMARY:2nd Tax Installment Due
DESCRIPTION:The second installment of taxes are due by close of business on January 10th. \nPayments may be mailed\, delivered to our office\, placed in the drop box next to our front door or made online by going HERE. \nThe drop box is checked at the end of the business day. \nWe do accept postmarks with official USPS postmarks only. We are not responsible for late\, misdirected or incorrectly addressed mail. \nIf you have a question on any previous balance due please contact the office. Notices of prior balances due ARE NOT sent out. \nIf the due date falls on a weekend taxes shall be due by close of business on the next business day.
URL:https://www.rutlandtown.com/event/2nd-installment-of-taxes-due-date/2025-01-10/
LOCATION:VT\, United States
CATEGORIES:Municipal Date
END:VEVENT
BEGIN:VEVENT
DTSTART;VALUE=DATE:20241014
DTEND;VALUE=DATE:20241015
DTSTAMP:20260421T103752
CREATED:20230925T125537Z
LAST-MODIFIED:20230925T125537Z
UID:10000875-1728864000-1728950399@www.rutlandtown.com
SUMMARY:Town Hall Closed
DESCRIPTION:Town Hall will be closed in observance of Indigenous Peoples Day.
URL:https://www.rutlandtown.com/event/town-hall-closed-14/2024-10-14/
LOCATION:Town of Rutland Municipal Building\, 181Business Route 4\, Center Rutland\, VT\, 05736\, United States
CATEGORIES:Municipal Date
END:VEVENT
BEGIN:VEVENT
DTSTART;VALUE=DATE:20240910
DTEND;VALUE=DATE:20240911
DTSTAMP:20260421T103752
CREATED:20210716T171525Z
LAST-MODIFIED:20220729T150140Z
UID:10000569-1725926400-1726012799@www.rutlandtown.com
SUMMARY:1st Tax Installment Due
DESCRIPTION:The first installment of taxes are due by close of business on September 10th. \nPayments may be mailed\, delivered to our office\, placed in the drop box next to our front door or made online by going HERE. \nThe drop box is checked at the end of the business day. \nWe do accept postmarks with official USPS postmarks only. We are not responsible for late\, misdirected or incorrectly addressed mail. \nIf you have a question on any previous balance due please contact the office. Notices of prior balances due ARE NOT sent out. \nIf the due date falls on a weekend taxes shall be due by close of business on the next business day. \n 
URL:https://www.rutlandtown.com/event/1st-tax-installment-due-2022-09-10/2024-09-10/
LOCATION:Town of Rutland Municipal Building\, 181Business Route 4\, Center Rutland\, VT\, 05736\, United States
CATEGORIES:Municipal Date
END:VEVENT
BEGIN:VEVENT
DTSTART;VALUE=DATE:20240902
DTEND;VALUE=DATE:20240903
DTSTAMP:20260421T103752
CREATED:20230828T125043Z
LAST-MODIFIED:20230828T125043Z
UID:10000860-1725235200-1725321599@www.rutlandtown.com
SUMMARY:Town Hall Closed
DESCRIPTION:Town Hall will be closed in observance on Labor Day.
URL:https://www.rutlandtown.com/event/town-hall-closed-13/2024-09-02/
LOCATION:Town of Rutland Municipal Building\, 181Business Route 4\, Center Rutland\, VT\, 05736\, United States
CATEGORIES:Municipal Date
END:VEVENT
BEGIN:VEVENT
DTSTART;TZID=UTC:20240813T070000
DTEND;TZID=UTC:20240813T190000
DTSTAMP:20260421T103752
CREATED:20240731T175613Z
LAST-MODIFIED:20240731T175614Z
UID:10001105-1723532400-1723575600@www.rutlandtown.com
SUMMARY:Primary Voting
DESCRIPTION:
URL:https://www.rutlandtown.com/event/primary-voting/
LOCATION:VT
CATEGORIES:Municipal Date
END:VEVENT
BEGIN:VEVENT
DTSTART;TZID=UTC:20240723T090000
DTEND;TZID=UTC:20240723T163000
DTSTAMP:20260421T103752
CREATED:20240719T130022Z
LAST-MODIFIED:20240719T130022Z
UID:10001075-1721725200-1721752200@www.rutlandtown.com
SUMMARY:Grievance Hearings
DESCRIPTION:7.23.2024 Listers Grievance Hearing Notice
URL:https://www.rutlandtown.com/event/grievance-hearings-2/
LOCATION:Town of Rutland Municipal Building\, 181Business Route 4\, Center Rutland\, VT\, 05736\, United States
CATEGORIES:Municipal Date
END:VEVENT
BEGIN:VEVENT
DTSTART;VALUE=DATE:20240723
DTEND;VALUE=DATE:20240724
DTSTAMP:20260421T103752
CREATED:20240709T160807Z
LAST-MODIFIED:20240709T160907Z
UID:10001071-1721692800-1721779199@www.rutlandtown.com
SUMMARY:Grievance Hearings
DESCRIPTION:2024 Grievance Hearing Notice \nPLEASE TAKE NOTICE THAT THE TOWN OF RUTLAND LISTERS WILL BE HOLDING GRIEVANCES ON JULY 23RD\, 2024. \nNO GRIEVANCES WILL BE HEARD ON JULY 15TH\, 2024.
URL:https://www.rutlandtown.com/event/grievance-hearings/
LOCATION:Town of Rutland Municipal Building\, 181Business Route 4\, Center Rutland\, VT\, 05736\, United States
CATEGORIES:Municipal Date
END:VEVENT
BEGIN:VEVENT
DTSTART;TZID=UTC:20240709T113000
DTEND;TZID=UTC:20240709T120000
DTSTAMP:20260421T103752
CREATED:20240708T145610Z
LAST-MODIFIED:20240708T145610Z
UID:10001070-1720524600-1720526400@www.rutlandtown.com
SUMMARY:Board of Listers Meeting
DESCRIPTION:7.9.2024 Board of Listers Meeting Notice
URL:https://www.rutlandtown.com/event/board-of-listers-meeting/
LOCATION:Town of Rutland Municipal Building\, 181Business Route 4\, Center Rutland\, VT\, 05736\, United States
CATEGORIES:Committee Meeting,Municipal Date
END:VEVENT
BEGIN:VEVENT
DTSTART;VALUE=DATE:20240704
DTEND;VALUE=DATE:20240705
DTSTAMP:20260421T103752
CREATED:20240617T125341Z
LAST-MODIFIED:20240617T125341Z
UID:10001062-1720051200-1720137599@www.rutlandtown.com
SUMMARY:Town Hall Closed - Independence Day
DESCRIPTION:
URL:https://www.rutlandtown.com/event/town-hall-closed-independence-day-2/
LOCATION:VT
CATEGORIES:Community,Municipal Date
END:VEVENT
END:VCALENDAR