BEGIN:VCALENDAR
VERSION:2.0
PRODID:-//The Town of Rutland, Vermont - ECPv6.15.20//NONSGML v1.0//EN
CALSCALE:GREGORIAN
METHOD:PUBLISH
X-ORIGINAL-URL:https://www.rutlandtown.com
X-WR-CALDESC:Events for The Town of Rutland, Vermont
REFRESH-INTERVAL;VALUE=DURATION:PT1H
X-Robots-Tag:noindex
X-PUBLISHED-TTL:PT1H
BEGIN:VTIMEZONE
TZID:UTC
BEGIN:STANDARD
TZOFFSETFROM:+0000
TZOFFSETTO:+0000
TZNAME:UTC
DTSTART:20250101T000000
END:STANDARD
END:VTIMEZONE
BEGIN:VEVENT
DTSTART;TZID=UTC:20260426T083000
DTEND;TZID=UTC:20260426T143000
DTSTAMP:20260421T092812
CREATED:20260218T192113Z
LAST-MODIFIED:20260218T192113Z
UID:10001704-1777192200-1777213800@www.rutlandtown.com
SUMMARY:Household Hazardous Waste Collection Event
DESCRIPTION:Come to our transfer station at Northwood Park and bring old paint\, aerosol cans\, household cleaners and chemicals for FREE and SAFE disposal. \nWe are unable to accept fluorescent bulbs or electronics. Many retailers in the area accept them on a daily basis free of charge.
URL:https://www.rutlandtown.com/event/household-hazardous-waste-collection-event-2/
LOCATION:Northwood Park\, 185 Northwood Park Road\, Rutland\, 05701
CATEGORIES:Community,Municipal Date
END:VEVENT
BEGIN:VEVENT
DTSTART;VALUE=DATE:20260907
DTEND;VALUE=DATE:20260908
DTSTAMP:20260421T092812
CREATED:20230828T125043Z
LAST-MODIFIED:20230828T125043Z
UID:10000862-1788739200-1788825599@www.rutlandtown.com
SUMMARY:Town Hall Closed
DESCRIPTION:Town Hall will be closed in observance on Labor Day.
URL:https://www.rutlandtown.com/event/town-hall-closed-13/2026-09-07/
LOCATION:Town of Rutland Municipal Building\, 181Business Route 4\, Center Rutland\, VT\, 05736\, United States
CATEGORIES:Municipal Date
END:VEVENT
BEGIN:VEVENT
DTSTART;VALUE=DATE:20260907
DTEND;VALUE=DATE:20260908
DTSTAMP:20260421T092812
CREATED:20260130T143540Z
LAST-MODIFIED:20260130T143540Z
UID:10001696-1788739200-1788825599@www.rutlandtown.com
SUMMARY:Rutland Towns Anniversary!
DESCRIPTION:On this date in 1761\, the Town of Rutland was founded.
URL:https://www.rutlandtown.com/event/rutland-towns-anniversary/2026-09-07/
LOCATION:VT
CATEGORIES:Municipal Date
END:VEVENT
BEGIN:VEVENT
DTSTART;VALUE=DATE:20261012
DTEND;VALUE=DATE:20261013
DTSTAMP:20260421T092812
CREATED:20230925T125537Z
LAST-MODIFIED:20230925T125537Z
UID:10000877-1791763200-1791849599@www.rutlandtown.com
SUMMARY:Town Hall Closed
DESCRIPTION:Town Hall will be closed in observance of Indigenous Peoples Day.
URL:https://www.rutlandtown.com/event/town-hall-closed-14/2026-10-12/
LOCATION:Town of Rutland Municipal Building\, 181Business Route 4\, Center Rutland\, VT\, 05736\, United States
CATEGORIES:Municipal Date
END:VEVENT
BEGIN:VEVENT
DTSTART;VALUE=DATE:20270401
DTEND;VALUE=DATE:20270402
DTSTAMP:20260421T092812
CREATED:20240329T135032Z
LAST-MODIFIED:20240329T135032Z
UID:10001035-1806537600-1806623999@www.rutlandtown.com
SUMMARY:Dog Registrations Due
DESCRIPTION:Please call or stop into the Town Clerks office with any questions.
URL:https://www.rutlandtown.com/event/dog-registrations-due/2027-04-01/
LOCATION:Town of Rutland Municipal Building\, 181Business Route 4\, Center Rutland\, VT\, 05736\, United States
CATEGORIES:Community,Municipal Date
END:VEVENT
BEGIN:VEVENT
DTSTART;VALUE=DATE:20270906
DTEND;VALUE=DATE:20270907
DTSTAMP:20260421T092812
CREATED:20230828T125043Z
LAST-MODIFIED:20230828T125043Z
UID:10000863-1820188800-1820275199@www.rutlandtown.com
SUMMARY:Town Hall Closed
DESCRIPTION:Town Hall will be closed in observance on Labor Day.
URL:https://www.rutlandtown.com/event/town-hall-closed-13/2027-09-06/
LOCATION:Town of Rutland Municipal Building\, 181Business Route 4\, Center Rutland\, VT\, 05736\, United States
CATEGORIES:Municipal Date
END:VEVENT
BEGIN:VEVENT
DTSTART;VALUE=DATE:20270907
DTEND;VALUE=DATE:20270908
DTSTAMP:20260421T092812
CREATED:20260130T143540Z
LAST-MODIFIED:20260130T143540Z
UID:10001697-1820275200-1820361599@www.rutlandtown.com
SUMMARY:Rutland Towns Anniversary!
DESCRIPTION:On this date in 1761\, the Town of Rutland was founded.
URL:https://www.rutlandtown.com/event/rutland-towns-anniversary/2027-09-07/
LOCATION:VT
CATEGORIES:Municipal Date
END:VEVENT
BEGIN:VEVENT
DTSTART;VALUE=DATE:20271011
DTEND;VALUE=DATE:20271012
DTSTAMP:20260421T092812
CREATED:20230925T125537Z
LAST-MODIFIED:20230925T125537Z
UID:10000878-1823212800-1823299199@www.rutlandtown.com
SUMMARY:Town Hall Closed
DESCRIPTION:Town Hall will be closed in observance of Indigenous Peoples Day.
URL:https://www.rutlandtown.com/event/town-hall-closed-14/2027-10-11/
LOCATION:Town of Rutland Municipal Building\, 181Business Route 4\, Center Rutland\, VT\, 05736\, United States
CATEGORIES:Municipal Date
END:VEVENT
BEGIN:VEVENT
DTSTART;VALUE=DATE:20280401
DTEND;VALUE=DATE:20280402
DTSTAMP:20260421T092812
CREATED:20240329T135032Z
LAST-MODIFIED:20240329T135032Z
UID:10001036-1838160000-1838246399@www.rutlandtown.com
SUMMARY:Dog Registrations Due
DESCRIPTION:Please call or stop into the Town Clerks office with any questions.
URL:https://www.rutlandtown.com/event/dog-registrations-due/2028-04-01/
LOCATION:Town of Rutland Municipal Building\, 181Business Route 4\, Center Rutland\, VT\, 05736\, United States
CATEGORIES:Community,Municipal Date
END:VEVENT
BEGIN:VEVENT
DTSTART;VALUE=DATE:20280907
DTEND;VALUE=DATE:20280908
DTSTAMP:20260421T092812
CREATED:20260130T143540Z
LAST-MODIFIED:20260130T143540Z
UID:10001698-1851897600-1851983999@www.rutlandtown.com
SUMMARY:Rutland Towns Anniversary!
DESCRIPTION:On this date in 1761\, the Town of Rutland was founded.
URL:https://www.rutlandtown.com/event/rutland-towns-anniversary/2028-09-07/
LOCATION:VT
CATEGORIES:Municipal Date
END:VEVENT
BEGIN:VEVENT
DTSTART;VALUE=DATE:20290907
DTEND;VALUE=DATE:20290908
DTSTAMP:20260421T092812
CREATED:20260130T143540Z
LAST-MODIFIED:20260130T143540Z
UID:10001699-1883433600-1883519999@www.rutlandtown.com
SUMMARY:Rutland Towns Anniversary!
DESCRIPTION:On this date in 1761\, the Town of Rutland was founded.
URL:https://www.rutlandtown.com/event/rutland-towns-anniversary/2029-09-07/
LOCATION:VT
CATEGORIES:Municipal Date
END:VEVENT
BEGIN:VEVENT
DTSTART;VALUE=DATE:20300907
DTEND;VALUE=DATE:20300908
DTSTAMP:20260421T092812
CREATED:20260130T143540Z
LAST-MODIFIED:20260130T143540Z
UID:10001700-1914969600-1915055999@www.rutlandtown.com
SUMMARY:Rutland Towns Anniversary!
DESCRIPTION:On this date in 1761\, the Town of Rutland was founded.
URL:https://www.rutlandtown.com/event/rutland-towns-anniversary/2030-09-07/
LOCATION:VT
CATEGORIES:Municipal Date
END:VEVENT
END:VCALENDAR