BEGIN:VCALENDAR
VERSION:2.0
PRODID:-//The Town of Rutland, Vermont - ECPv6.15.20//NONSGML v1.0//EN
CALSCALE:GREGORIAN
METHOD:PUBLISH
X-ORIGINAL-URL:https://www.rutlandtown.com
X-WR-CALDESC:Events for The Town of Rutland, Vermont
REFRESH-INTERVAL;VALUE=DURATION:PT1H
X-Robots-Tag:noindex
X-PUBLISHED-TTL:PT1H
BEGIN:VTIMEZONE
TZID:UTC
BEGIN:STANDARD
TZOFFSETFROM:+0000
TZOFFSETTO:+0000
TZNAME:UTC
DTSTART:20290101T000000
END:STANDARD
END:VTIMEZONE
BEGIN:VEVENT
DTSTART;VALUE=DATE:20300907
DTEND;VALUE=DATE:20300908
DTSTAMP:20260421T151319
CREATED:20260130T143540Z
LAST-MODIFIED:20260130T143540Z
UID:10001700-1914969600-1915055999@www.rutlandtown.com
SUMMARY:Rutland Towns Anniversary!
DESCRIPTION:On this date in 1761\, the Town of Rutland was founded.
URL:https://www.rutlandtown.com/event/rutland-towns-anniversary/2030-09-07/
LOCATION:VT
CATEGORIES:Municipal Date
END:VEVENT
END:VCALENDAR