BEGIN:VCALENDAR
VERSION:2.0
PRODID:-//The Town of Rutland, Vermont - ECPv6.15.20//NONSGML v1.0//EN
CALSCALE:GREGORIAN
METHOD:PUBLISH
X-ORIGINAL-URL:https://www.rutlandtown.com
X-WR-CALDESC:Events for The Town of Rutland, Vermont
REFRESH-INTERVAL;VALUE=DURATION:PT1H
X-Robots-Tag:noindex
X-PUBLISHED-TTL:PT1H
BEGIN:VTIMEZONE
TZID:UTC
BEGIN:STANDARD
TZOFFSETFROM:+0000
TZOFFSETTO:+0000
TZNAME:UTC
DTSTART:20220101T000000
END:STANDARD
END:VTIMEZONE
BEGIN:VTIMEZONE
TZID:America/New_York
BEGIN:DAYLIGHT
TZOFFSETFROM:-0500
TZOFFSETTO:-0400
TZNAME:EDT
DTSTART:20220313T070000
END:DAYLIGHT
BEGIN:STANDARD
TZOFFSETFROM:-0400
TZOFFSETTO:-0500
TZNAME:EST
DTSTART:20221106T060000
END:STANDARD
BEGIN:DAYLIGHT
TZOFFSETFROM:-0500
TZOFFSETTO:-0400
TZNAME:EDT
DTSTART:20230312T070000
END:DAYLIGHT
BEGIN:STANDARD
TZOFFSETFROM:-0400
TZOFFSETTO:-0500
TZNAME:EST
DTSTART:20231105T060000
END:STANDARD
BEGIN:DAYLIGHT
TZOFFSETFROM:-0500
TZOFFSETTO:-0400
TZNAME:EDT
DTSTART:20240310T070000
END:DAYLIGHT
BEGIN:STANDARD
TZOFFSETFROM:-0400
TZOFFSETTO:-0500
TZNAME:EST
DTSTART:20241103T060000
END:STANDARD
END:VTIMEZONE
BEGIN:VEVENT
DTSTART;TZID=UTC:20240304T190000
DTEND;TZID=UTC:20240304T210000
DTSTAMP:20260421T154836
CREATED:20240304T133838Z
LAST-MODIFIED:20240304T134037Z
UID:10001023-1709578800-1709586000@www.rutlandtown.com
SUMMARY:Town Meeting
DESCRIPTION:Please join the Select Board and School Board at the Town School at 7PM to go over all Town Meeting Day ballot questions and budget items to be voted on during the March 5th election.
URL:https://www.rutlandtown.com/event/town-meeting-3/
LOCATION:Rutland Town School\, 1612 Post Road\, Rutland\, VT\, 05701\, United States
CATEGORIES:Community,Municipal Date,Select Board
END:VEVENT
BEGIN:VEVENT
DTSTART;TZID=UTC:20240116T190000
DTEND;TZID=UTC:20240116T210000
DTSTAMP:20260421T154836
CREATED:20231221T193911Z
LAST-MODIFIED:20240111T151933Z
UID:10000998-1705431600-1705438800@www.rutlandtown.com
SUMMARY:Pre-Town Meeting
DESCRIPTION:The Select Board has set Tuesday\, January 16th as the date for pre-town meeting. This meeting will be in person\, and a remote option is planned. \nThe School Board will present the school budget starting at 630PM. \nThe Select Board will present the Town budget starting at 7PM. \nTown of Rutland FY 25 Draft Budgets \nPre-Town Meeting Select Board Agenda 1-16-2024 \nTOWN OF RUTLAND SELECT BOARD \nPRE-TOWN MEETING \nPUBLIC MEETING AGENDA FOR TUESDAY JANUARY 16th\, 2024 \n Location: Rutland Town School\, 1612 Post Road\, Rutland VT 05701 \nTo participate via zoom please visit zoom.us/join or call (646) 558-8656 and enter meeting ID 939 1518 8696. \nNew Business \n\nBoard to present draft budgets for July 2024 through June 2025 starting at 7PM.\nBoard to vote on any budget item changes proposed during presentations.\nAny other business.
URL:https://www.rutlandtown.com/event/pre-town-meeting-3/
LOCATION:Rutland Town School\, 1612 Post Road\, Rutland\, VT\, 05701\, United States
CATEGORIES:Community,Municipal Date,Select Board
END:VEVENT
BEGIN:VEVENT
DTSTART;VALUE=DATE:20240115
DTEND;VALUE=DATE:20240116
DTSTAMP:20260421T154836
CREATED:20231221T194328Z
LAST-MODIFIED:20231221T194328Z
UID:10000999-1705276800-1705363199@www.rutlandtown.com
SUMMARY:Town Hall Closed
DESCRIPTION:Town Hall will be closed Monday January 15th in observance of Martin Luther King Jr. Day.
URL:https://www.rutlandtown.com/event/town-hall-closed-17/
LOCATION:VT
CATEGORIES:Community,Municipal Date
END:VEVENT
BEGIN:VEVENT
DTSTART;VALUE=DATE:20240110
DTEND;VALUE=DATE:20240111
DTSTAMP:20260421T154836
CREATED:20220729T145844Z
LAST-MODIFIED:20220729T150747Z
UID:10000658-1704844800-1704931199@www.rutlandtown.com
SUMMARY:2nd Tax Installment Due
DESCRIPTION:The second installment of taxes are due by close of business on January 10th. \nPayments may be mailed\, delivered to our office\, placed in the drop box next to our front door or made online by going HERE. \nThe drop box is checked at the end of the business day. \nWe do accept postmarks with official USPS postmarks only. We are not responsible for late\, misdirected or incorrectly addressed mail. \nIf you have a question on any previous balance due please contact the office. Notices of prior balances due ARE NOT sent out. \nIf the due date falls on a weekend taxes shall be due by close of business on the next business day.
URL:https://www.rutlandtown.com/event/2nd-installment-of-taxes-due-date/2024-01-10/
LOCATION:VT\, United States
CATEGORIES:Municipal Date
END:VEVENT
BEGIN:VEVENT
DTSTART;VALUE=DATE:20240101
DTEND;VALUE=DATE:20240102
DTSTAMP:20260421T154836
CREATED:20231221T193635Z
LAST-MODIFIED:20231221T193635Z
UID:10000997-1704067200-1704153599@www.rutlandtown.com
SUMMARY:Town Hall Closed
DESCRIPTION:Town Hall will be closed Monday\, January 1st for the New Years holiday.
URL:https://www.rutlandtown.com/event/town-hall-closed-16/
LOCATION:VT
CATEGORIES:Community,Municipal Date
END:VEVENT
BEGIN:VEVENT
DTSTART;VALUE=DATE:20231225
DTEND;VALUE=DATE:20231227
DTSTAMP:20260421T154836
CREATED:20231201T144130Z
LAST-MODIFIED:20231201T144130Z
UID:10000905-1703462400-1703635199@www.rutlandtown.com
SUMMARY:Town Hall Closed
DESCRIPTION:Town hall will be closed December 25th and 26th for the Christmas Holiday.
URL:https://www.rutlandtown.com/event/town-hall-closed-15/
LOCATION:Town of Rutland Municipal Building\, 181Business Route 4\, Center Rutland\, VT\, 05736\, United States
CATEGORIES:Municipal Date
END:VEVENT
BEGIN:VEVENT
DTSTART;VALUE=DATE:20231123
DTEND;VALUE=DATE:20231125
DTSTAMP:20260421T154836
CREATED:20231108T130712Z
LAST-MODIFIED:20231108T130712Z
UID:10000897-1700697600-1700870399@www.rutlandtown.com
SUMMARY:Thanksgiving Holiday - Town Hall Closed
DESCRIPTION:
URL:https://www.rutlandtown.com/event/thanksgiving-holiday-town-hall-closed-2/
LOCATION:Town of Rutland Municipal Building\, 181Business Route 4\, Center Rutland\, VT\, 05736\, United States
CATEGORIES:Community,Municipal Date
END:VEVENT
BEGIN:VEVENT
DTSTART;VALUE=DATE:20231110
DTEND;VALUE=DATE:20231111
DTSTAMP:20260421T154836
CREATED:20231108T130624Z
LAST-MODIFIED:20231108T130624Z
UID:10000896-1699574400-1699660799@www.rutlandtown.com
SUMMARY:Veterans Day (Observed) - Town Hall Closed
DESCRIPTION:
URL:https://www.rutlandtown.com/event/veterans-day-observed-town-hall-closed/
LOCATION:Town of Rutland Municipal Building\, 181Business Route 4\, Center Rutland\, VT\, 05736\, United States
CATEGORIES:Community,Municipal Date
END:VEVENT
BEGIN:VEVENT
DTSTART;TZID=UTC:20231027T170000
DTEND;TZID=UTC:20231027T180000
DTSTAMP:20260421T154836
CREATED:20230927T120927Z
LAST-MODIFIED:20230927T120927Z
UID:10000880-1698426000-1698429600@www.rutlandtown.com
SUMMARY:Rutland Town School Halloween Party
DESCRIPTION:
URL:https://www.rutlandtown.com/event/rutland-town-school-halloween-party/
LOCATION:Rutland Town School\, 1612 Post Road\, Rutland\, VT\, 05701\, United States
CATEGORIES:Community,Municipal Date
END:VEVENT
BEGIN:VEVENT
DTSTART;VALUE=DATE:20231009
DTEND;VALUE=DATE:20231010
DTSTAMP:20260421T154836
CREATED:20230925T125537Z
LAST-MODIFIED:20230925T125537Z
UID:10000874-1696809600-1696895999@www.rutlandtown.com
SUMMARY:Town Hall Closed
DESCRIPTION:Town Hall will be closed in observance of Indigenous Peoples Day.
URL:https://www.rutlandtown.com/event/town-hall-closed-14/2023-10-09/
LOCATION:Town of Rutland Municipal Building\, 181Business Route 4\, Center Rutland\, VT\, 05736\, United States
CATEGORIES:Municipal Date
END:VEVENT
BEGIN:VEVENT
DTSTART;VALUE=DATE:20230910
DTEND;VALUE=DATE:20230911
DTSTAMP:20260421T154836
CREATED:20210716T171525Z
LAST-MODIFIED:20220729T150140Z
UID:10000568-1694304000-1694390399@www.rutlandtown.com
SUMMARY:1st Tax Installment Due
DESCRIPTION:The first installment of taxes are due by close of business on September 10th. \nPayments may be mailed\, delivered to our office\, placed in the drop box next to our front door or made online by going HERE. \nThe drop box is checked at the end of the business day. \nWe do accept postmarks with official USPS postmarks only. We are not responsible for late\, misdirected or incorrectly addressed mail. \nIf you have a question on any previous balance due please contact the office. Notices of prior balances due ARE NOT sent out. \nIf the due date falls on a weekend taxes shall be due by close of business on the next business day. \n 
URL:https://www.rutlandtown.com/event/1st-tax-installment-due-2022-09-10/2023-09-10/
LOCATION:Town of Rutland Municipal Building\, 181Business Route 4\, Center Rutland\, VT\, 05736\, United States
CATEGORIES:Municipal Date
END:VEVENT
BEGIN:VEVENT
DTSTART;VALUE=DATE:20230904
DTEND;VALUE=DATE:20230905
DTSTAMP:20260421T154836
CREATED:20230828T125043Z
LAST-MODIFIED:20230828T125043Z
UID:10000859-1693785600-1693871999@www.rutlandtown.com
SUMMARY:Town Hall Closed
DESCRIPTION:Town Hall will be closed in observance on Labor Day.
URL:https://www.rutlandtown.com/event/town-hall-closed-13/2023-09-04/
LOCATION:Town of Rutland Municipal Building\, 181Business Route 4\, Center Rutland\, VT\, 05736\, United States
CATEGORIES:Municipal Date
END:VEVENT
BEGIN:VEVENT
DTSTART;VALUE=DATE:20230826
DTEND;VALUE=DATE:20230827
DTSTAMP:20260421T154836
CREATED:20230802T150445Z
LAST-MODIFIED:20230802T150445Z
UID:10000850-1693008000-1693094399@www.rutlandtown.com
SUMMARY:Last day for the 2023 Northwood Pool season
DESCRIPTION:This is the last day the pool will be open for the season.
URL:https://www.rutlandtown.com/event/last-day-for-the-2023-northwood-pool-season/
LOCATION:VT\, United States
CATEGORIES:Community,Municipal Date
END:VEVENT
BEGIN:VEVENT
DTSTART;TZID=UTC:20230819T100000
DTEND;TZID=UTC:20230819T140000
DTSTAMP:20260421T154836
CREATED:20230525T185905Z
LAST-MODIFIED:20230525T191850Z
UID:10000703-1692439200-1692453600@www.rutlandtown.com
SUMMARY:Town Wide Celebration
DESCRIPTION:Facebook Event Link – https://www.facebook.com/events/100355569746934 \nPlease join us for our annual Town Wide Celebration \nThere is NO cost to the public for our events. \nPlanned for the day: \nAll our municipal departments will be represented: Police\, Fire and Highway! \nHotdogs\, hamburgers\, sausage and peppers will be cooked on the grill by members of our Select Board! \nA fan favorite Happy Cow Cones is scheduled to be there again this year! \nSwimming is free all day! \nThe bounce house is always fun and a dunking booth is a new addition planned for this year! \nExplore our nature trails and take advantage of disc golf course\, basketball\, pickle ball and tennis courts are open and ready! \n  \n 
URL:https://www.rutlandtown.com/event/town-wide-celebration/
LOCATION:Northwood Park\, 185 Northwood Park Road\, Rutland\, 05701
CATEGORIES:Community,Municipal Date
END:VEVENT
BEGIN:VEVENT
DTSTART;VALUE=DATE:20230704
DTEND;VALUE=DATE:20230705
DTSTAMP:20260421T154836
CREATED:20230629T150811Z
LAST-MODIFIED:20230629T150811Z
UID:10000787-1688428800-1688515199@www.rutlandtown.com
SUMMARY:Town Hall Closed - Independence Day
DESCRIPTION:
URL:https://www.rutlandtown.com/event/town-hall-closed-independence-day/
LOCATION:Town of Rutland Municipal Building\, 181Business Route 4\, Center Rutland\, VT\, 05736\, United States
CATEGORIES:Community,Municipal Date
END:VEVENT
BEGIN:VEVENT
DTSTART;TZID=UTC:20230702T203000
DTEND;TZID=UTC:20230702T220000
DTSTAMP:20260421T154836
CREATED:20230418T191318Z
LAST-MODIFIED:20230418T191318Z
UID:10000585-1688329800-1688335200@www.rutlandtown.com
SUMMARY:Fireworks at Northwood Park
DESCRIPTION:Our annual fireworks display is planned for Sunday July 2nd. \nFireworks will start at dusk. \nThe rain date is Sunday July 9th.
URL:https://www.rutlandtown.com/event/fireworks-at-northwood-park/
LOCATION:Northwood Park\, 185 Northwood Park Road\, Rutland\, 05701
CATEGORIES:Community,Municipal Date
END:VEVENT
BEGIN:VEVENT
DTSTART;TZID=UTC:20230607T170000
DTEND;TZID=UTC:20230607T190000
DTSTAMP:20260421T154836
CREATED:20230531T143735Z
LAST-MODIFIED:20230531T143735Z
UID:10000706-1686157200-1686164400@www.rutlandtown.com
SUMMARY:Pool Pass and Swim Lesson Sign-ups
DESCRIPTION:
URL:https://www.rutlandtown.com/event/pool-pass-and-swim-lesson-sign-ups-2/2023-06-07/
LOCATION:Northwood Park\, 185 Northwood Park Road\, Rutland\, 05701
CATEGORIES:Community,Municipal Date
END:VEVENT
BEGIN:VEVENT
DTSTART;TZID=UTC:20230606T170000
DTEND;TZID=UTC:20230606T190000
DTSTAMP:20260421T154836
CREATED:20230531T143735Z
LAST-MODIFIED:20230531T143735Z
UID:10000705-1686070800-1686078000@www.rutlandtown.com
SUMMARY:Pool Pass and Swim Lesson Sign-ups
DESCRIPTION:
URL:https://www.rutlandtown.com/event/pool-pass-and-swim-lesson-sign-ups-2/2023-06-06/
LOCATION:Northwood Park\, 185 Northwood Park Road\, Rutland\, 05701
CATEGORIES:Community,Municipal Date
END:VEVENT
BEGIN:VEVENT
DTSTART;VALUE=DATE:20230529
DTEND;VALUE=DATE:20230530
DTSTAMP:20260421T154836
CREATED:20230524T170052Z
LAST-MODIFIED:20230524T170052Z
UID:10000702-1685318400-1685404799@www.rutlandtown.com
SUMMARY:Town Hall Closed
DESCRIPTION:Town Hall will be closed in observance of Memorial Day.
URL:https://www.rutlandtown.com/event/town-hall-closed-12/
LOCATION:VT\, United States
CATEGORIES:Municipal Date
END:VEVENT
BEGIN:VEVENT
DTSTART;TZID=UTC:20230523T070000
DTEND;TZID=UTC:20230523T190000
DTSTAMP:20260421T154836
CREATED:20230420T181842Z
LAST-MODIFIED:20230510T162216Z
UID:10000591-1684825200-1684868400@www.rutlandtown.com
SUMMARY:Special Election
DESCRIPTION:May 23rd\, 2023 Ballot Warning\nPolling locations will be open for this special election. \nBallots will be mailed to each registered Town voter. \nPublic Safety Building Cost Information \nFAQs for Rutland Town Public Safety Building at McKinley Avenue
URL:https://www.rutlandtown.com/event/special-election/
LOCATION:VT\, United States
CATEGORIES:Community,Municipal Date,Select Board
END:VEVENT
BEGIN:VEVENT
DTSTART;TZID=UTC:20230522T190000
DTEND;TZID=UTC:20230522T193000
DTSTAMP:20260421T154836
CREATED:20230420T182600Z
LAST-MODIFIED:20230522T225922Z
UID:10000593-1684782000-1684783800@www.rutlandtown.com
SUMMARY:Special Pre-Vote Meeting
DESCRIPTION:This meeting is to discuss the items included in the Special Election on May 23rd.
URL:https://www.rutlandtown.com/event/special-pre-vote-meeting/
LOCATION:Rutland Town School\, 1612 Post Road\, Rutland\, VT\, 05701\, United States
CATEGORIES:Community,Municipal Date,Select Board
END:VEVENT
BEGIN:VEVENT
DTSTART;TZID=UTC:20230511T183000
DTEND;TZID=UTC:20230511T193000
DTSTAMP:20260421T154836
CREATED:20230315T180347Z
LAST-MODIFIED:20230505T165046Z
UID:10000679-1683829800-1683833400@www.rutlandtown.com
SUMMARY:Public Meeting for the Proposed Short-Term Rental Ordinance
DESCRIPTION:DRAFT Short Term Rental Ordinance \nDRAFT Short Term Rental Permit \nShort-Term Rental Frequently Asked Questions – Updated 5/1/2023 \nThe Planning Commission is holding this public meeting to get feedback on the proposed ordinance. \nThis meeting will be part of the regular Planning Commission meeting. \nClick HERE to join the meeting remotely.
URL:https://www.rutlandtown.com/event/public-meeting-for-the-proposed-short-term-rental-ordinance/
LOCATION:Town of Rutland Municipal Building\, 181Business Route 4\, Center Rutland\, VT\, 05736\, United States
CATEGORIES:Community,Municipal Date,Planning Commission
END:VEVENT
BEGIN:VEVENT
DTSTART;VALUE=DATE:20230510
DTEND;VALUE=DATE:20230511
DTSTAMP:20260421T154836
CREATED:20210716T172210Z
LAST-MODIFIED:20220729T150816Z
UID:10000595-1683676800-1683763199@www.rutlandtown.com
SUMMARY:3rd Tax Installment Due
DESCRIPTION:The third installment of taxes are due by close of business on May 10th. \nPayments may be mailed\, delivered to our office\, placed in the drop box next to our front door or made online by going HERE. \nThe drop box is checked at the end of the business day. \nWe do accept postmarks with official USPS postmarks only. We are not responsible for late\, misdirected or incorrectly addressed mail. \nIf you have a question on any previous balance due please contact the office. Notices of prior balances due ARE NOT sent out. \nIf the due date falls on a weekend taxes shall be due by close of business on the next business day.
URL:https://www.rutlandtown.com/event/3rd-tax-installment-due-date/2023-05-10/
LOCATION:Town of Rutland Municipal Building\, 181Business Route 4\, Center Rutland\, VT\, 05736\, United States
CATEGORIES:Municipal Date
END:VEVENT
BEGIN:VEVENT
DTSTART;TZID=UTC:20230429T083000
DTEND;TZID=UTC:20230429T123000
DTSTAMP:20260421T154836
CREATED:20230425T194905Z
LAST-MODIFIED:20230425T195037Z
UID:10000680-1682757000-1682771400@www.rutlandtown.com
SUMMARY:2023 Household Hazardous Waste Disposal Day
DESCRIPTION:Come to our transfer station at Northwood Park and bring old paint\, aerosol cans\, household cleaners and chemicals for FREE and SAFE disposal. We are unable to accept fluorescent bulbs or electronics. Many retailers in the area accept them on a daily basis free of charge.
URL:https://www.rutlandtown.com/event/2023-household-hazardous-waste-disposal-day/
LOCATION:Northwood Park\, 185 Northwood Park Road\, Rutland\, 05701
CATEGORIES:Community,Municipal Date
END:VEVENT
BEGIN:VEVENT
DTSTART;TZID=UTC:20230307T070000
DTEND;TZID=UTC:20230307T190000
DTSTAMP:20260421T154836
CREATED:20230221T190027Z
LAST-MODIFIED:20230221T190027Z
UID:10000689-1678172400-1678215600@www.rutlandtown.com
SUMMARY:Election Day
DESCRIPTION:Polls are open 7AM to 7PM. \nLocations Information: \nTown School on Post Road: For voters on the East side of Grove Street \nTown Hall in Center Rutland: For voters on the West side of Grove Street
URL:https://www.rutlandtown.com/event/election-day/
LOCATION:VT\, United States
CATEGORIES:Community,Municipal Date
END:VEVENT
BEGIN:VEVENT
DTSTART;VALUE=DATE:20230307
DTEND;VALUE=DATE:20230308
DTSTAMP:20260421T154836
CREATED:20230303T144153Z
LAST-MODIFIED:20230303T171034Z
UID:10000687-1678147200-1678233599@www.rutlandtown.com
SUMMARY:Town Hall Closed
DESCRIPTION:Municipal Office are closed for election day. \nDownstairs at Town Hall and the Town School are open from 7AM to 7PM for voting.
URL:https://www.rutlandtown.com/event/town-hall-closed-11/
LOCATION:Town of Rutland Municipal Building\, 181Business Route 4\, Center Rutland\, VT\, 05736\, United States
CATEGORIES:Community,Municipal Date
END:VEVENT
BEGIN:VEVENT
DTSTART;TZID=UTC:20230306T190000
DTEND;TZID=UTC:20230306T210000
DTSTAMP:20260421T154836
CREATED:20230221T185834Z
LAST-MODIFIED:20230221T185839Z
UID:10000697-1678129200-1678136400@www.rutlandtown.com
SUMMARY:Town Meeting
DESCRIPTION:Please join us in the cafeteria at the Town School to discuss the items on the ballot. \nCopies of the new Town Report will be available at this meeting.
URL:https://www.rutlandtown.com/event/town-meeting-2/
LOCATION:Rutland Town School\, 1612 Post Road\, Rutland\, VT\, 05701\, United States
CATEGORIES:Community,Municipal Date,Select Board
END:VEVENT
BEGIN:VEVENT
DTSTART;VALUE=DATE:20230220
DTEND;VALUE=DATE:20230221
DTSTAMP:20260421T154836
CREATED:20230208T180427Z
LAST-MODIFIED:20230208T180427Z
UID:10000695-1676851200-1676937599@www.rutlandtown.com
SUMMARY:Town Hall Closed
DESCRIPTION:Town Hall will be closed in observance of Presidents Day.
URL:https://www.rutlandtown.com/event/town-hall-closed-10/
LOCATION:VT\, United States
CATEGORIES:Community,Municipal Date
END:VEVENT
BEGIN:VEVENT
DTSTART;TZID=UTC:20230123T180000
DTEND;TZID=UTC:20230123T210000
DTSTAMP:20260421T154836
CREATED:20221221T133756Z
LAST-MODIFIED:20230118T135841Z
UID:10000690-1674496800-1674507600@www.rutlandtown.com
SUMMARY:Pre-Town Meeting Information
DESCRIPTION:Pre Town Meeting Agenda 1-23-2023 \nTown budgets 2023-2024 DRAFT \nPresentations will be in the cafeteria. \nThe School Board will present the school budget first at 6PM. \nThe Selectboard will present the Municipal budget following their presentation. \n  \nTOWN OF RUTLAND SELECTBOARD \nPUBLIC MEETING AGENDA FOR MONDAY JANUARY 23rd\, 2023 \n Location: Rutland Town School\, 1612 Post Road\, Rutland VT 05701 \nOpen Meeting – Immediately following budget / ballot questions item presentations. \nNew Business \n\nBoard to vote on any budget item changes proposed during presentations.\nBoard to vote on ballot item questions discussed during presentations.\nAny other business.
URL:https://www.rutlandtown.com/event/pre-town-meeting-2/
LOCATION:Rutland Town School\, 1612 Post Road\, Rutland\, VT\, 05701\, United States
CATEGORIES:Community,Municipal Date,Select Board
END:VEVENT
BEGIN:VEVENT
DTSTART;VALUE=DATE:20230110
DTEND;VALUE=DATE:20230111
DTSTAMP:20260421T154836
CREATED:20220729T145844Z
LAST-MODIFIED:20220729T150747Z
UID:10000657-1673308800-1673395199@www.rutlandtown.com
SUMMARY:2nd Tax Installment Due
DESCRIPTION:The second installment of taxes are due by close of business on January 10th. \nPayments may be mailed\, delivered to our office\, placed in the drop box next to our front door or made online by going HERE. \nThe drop box is checked at the end of the business day. \nWe do accept postmarks with official USPS postmarks only. We are not responsible for late\, misdirected or incorrectly addressed mail. \nIf you have a question on any previous balance due please contact the office. Notices of prior balances due ARE NOT sent out. \nIf the due date falls on a weekend taxes shall be due by close of business on the next business day.
URL:https://www.rutlandtown.com/event/2nd-installment-of-taxes-due-date/2023-01-10/
LOCATION:VT\, United States
CATEGORIES:Municipal Date
END:VEVENT
END:VCALENDAR