BEGIN:VCALENDAR
VERSION:2.0
PRODID:-//The Town of Rutland, Vermont - ECPv6.15.20//NONSGML v1.0//EN
CALSCALE:GREGORIAN
METHOD:PUBLISH
X-ORIGINAL-URL:https://www.rutlandtown.com
X-WR-CALDESC:Events for The Town of Rutland, Vermont
REFRESH-INTERVAL;VALUE=DURATION:PT1H
X-Robots-Tag:noindex
X-PUBLISHED-TTL:PT1H
BEGIN:VTIMEZONE
TZID:UTC
BEGIN:STANDARD
TZOFFSETFROM:+0000
TZOFFSETTO:+0000
TZNAME:UTC
DTSTART:20200101T000000
END:STANDARD
END:VTIMEZONE
BEGIN:VTIMEZONE
TZID:America/New_York
BEGIN:DAYLIGHT
TZOFFSETFROM:-0500
TZOFFSETTO:-0400
TZNAME:EDT
DTSTART:20200308T070000
END:DAYLIGHT
BEGIN:STANDARD
TZOFFSETFROM:-0400
TZOFFSETTO:-0500
TZNAME:EST
DTSTART:20201101T060000
END:STANDARD
BEGIN:DAYLIGHT
TZOFFSETFROM:-0500
TZOFFSETTO:-0400
TZNAME:EDT
DTSTART:20210314T070000
END:DAYLIGHT
BEGIN:STANDARD
TZOFFSETFROM:-0400
TZOFFSETTO:-0500
TZNAME:EST
DTSTART:20211107T060000
END:STANDARD
BEGIN:DAYLIGHT
TZOFFSETFROM:-0500
TZOFFSETTO:-0400
TZNAME:EDT
DTSTART:20220313T070000
END:DAYLIGHT
BEGIN:STANDARD
TZOFFSETFROM:-0400
TZOFFSETTO:-0500
TZNAME:EST
DTSTART:20221106T060000
END:STANDARD
BEGIN:DAYLIGHT
TZOFFSETFROM:-0500
TZOFFSETTO:-0400
TZNAME:EDT
DTSTART:20230312T070000
END:DAYLIGHT
BEGIN:STANDARD
TZOFFSETFROM:-0400
TZOFFSETTO:-0500
TZNAME:EST
DTSTART:20231105T060000
END:STANDARD
END:VTIMEZONE
BEGIN:VEVENT
DTSTART;VALUE=DATE:20221010
DTEND;VALUE=DATE:20221011
DTSTAMP:20260424T031642
CREATED:20220421T133006Z
LAST-MODIFIED:20220421T133006Z
UID:10000638-1665360000-1665446399@www.rutlandtown.com
SUMMARY:Indigenous People’s Day - Town Hall Closed
DESCRIPTION:
URL:https://www.rutlandtown.com/event/indigenous-peoples-day-town-hall-closed/
LOCATION:VT\, United States
CATEGORIES:Municipal Date
END:VEVENT
BEGIN:VEVENT
DTSTART;VALUE=DATE:20220910
DTEND;VALUE=DATE:20220911
DTSTAMP:20260424T031642
CREATED:20210716T171525Z
LAST-MODIFIED:20220729T150140Z
UID:10000567-1662768000-1662854399@www.rutlandtown.com
SUMMARY:1st Tax Installment Due
DESCRIPTION:The first installment of taxes are due by close of business on September 10th. \nPayments may be mailed\, delivered to our office\, placed in the drop box next to our front door or made online by going HERE. \nThe drop box is checked at the end of the business day. \nWe do accept postmarks with official USPS postmarks only. We are not responsible for late\, misdirected or incorrectly addressed mail. \nIf you have a question on any previous balance due please contact the office. Notices of prior balances due ARE NOT sent out. \nIf the due date falls on a weekend taxes shall be due by close of business on the next business day. \n 
URL:https://www.rutlandtown.com/event/1st-tax-installment-due-2022-09-10/2022-09-10/
LOCATION:Town of Rutland Municipal Building\, 181Business Route 4\, Center Rutland\, VT\, 05736\, United States
CATEGORIES:Municipal Date
END:VEVENT
BEGIN:VEVENT
DTSTART;VALUE=DATE:20220905
DTEND;VALUE=DATE:20220906
DTSTAMP:20260424T031642
CREATED:20220421T132843Z
LAST-MODIFIED:20220421T132843Z
UID:10000637-1662336000-1662422399@www.rutlandtown.com
SUMMARY:Labor Day - Town Hall Closed
DESCRIPTION:
URL:https://www.rutlandtown.com/event/labor-day-town-hall-closed/
LOCATION:VT\, United States
CATEGORIES:Municipal Date
END:VEVENT
BEGIN:VEVENT
DTSTART;TZID=UTC:20220827T100000
DTEND;TZID=UTC:20220827T140000
DTSTAMP:20260424T031642
CREATED:20220502T165919Z
LAST-MODIFIED:20220819T163344Z
UID:10000644-1661594400-1661608800@www.rutlandtown.com
SUMMARY:Town Wide Celebration Event!
DESCRIPTION:End summer with some fun at our Town Wide Celebration on Saturday\, August 27th at Northwood.\nAll day free swimming with a dive-in movie at dusk. \nFree hotdogs\, sausages and hamburgers for lunch. \nRaffle with prizes. \nRides\, contests\, displays\, sports\, helicopter visit\, bouncy house\, speed cart challenge\, pickle ball and much more. \nFollow our event on Facebook here.
URL:https://www.rutlandtown.com/event/town-wide-celebration-event/
LOCATION:Northwood Park\, 185 Northwood Park Road\, Rutland\, 05701
CATEGORIES:Community,Municipal Date
END:VEVENT
BEGIN:VEVENT
DTSTART;TZID=UTC:20220809T070000
DTEND;TZID=UTC:20220809T190000
DTSTAMP:20260424T031642
CREATED:20220722T160556Z
LAST-MODIFIED:20220722T160634Z
UID:10000653-1660028400-1660071600@www.rutlandtown.com
SUMMARY:Primary Election Day
DESCRIPTION:Polls open 7AM to 7PM at the Rutland Town School and Municipal Town Hall
URL:https://www.rutlandtown.com/event/primary-election/
LOCATION:VT\, United States
CATEGORIES:Community,Municipal Date
END:VEVENT
BEGIN:VEVENT
DTSTART;TZID=UTC:20220726T110000
DTEND;TZID=UTC:20220726T130000
DTSTAMP:20260424T031642
CREATED:20220526T181255Z
LAST-MODIFIED:20220526T181255Z
UID:10000541-1658833200-1658840400@www.rutlandtown.com
SUMMARY:Rutland Town Seniors Luncheon
DESCRIPTION:All Rutland Town Seniors are welcome to join us at Northwood Pool for lunch on the grill!
URL:https://www.rutlandtown.com/event/rutland-town-seniors-luncheon-3/
LOCATION:Northwood Park\, 185 Northwood Park Road\, Rutland\, 05701
CATEGORIES:Community,Municipal Date
END:VEVENT
BEGIN:VEVENT
DTSTART;VALUE=DATE:20220713
DTEND;VALUE=DATE:20220714
DTSTAMP:20260424T031642
CREATED:20220627T153007Z
LAST-MODIFIED:20220628T122312Z
UID:10000648-1657670400-1657756799@www.rutlandtown.com
SUMMARY:Grievance Hearings with Town Listers
DESCRIPTION:Listers 2022 Grievance notice
URL:https://www.rutlandtown.com/event/grievance-hearings-with-town-listers/
LOCATION:Town of Rutland Municipal Building\, 181Business Route 4\, Center Rutland\, VT\, 05736\, United States
CATEGORIES:Municipal Date
END:VEVENT
BEGIN:VEVENT
DTSTART;VALUE=DATE:20220704
DTEND;VALUE=DATE:20220705
DTSTAMP:20260424T031642
CREATED:20220421T132759Z
LAST-MODIFIED:20220421T132759Z
UID:10000636-1656892800-1656979199@www.rutlandtown.com
SUMMARY:Independence Day - Town Hall Closed
DESCRIPTION:
URL:https://www.rutlandtown.com/event/independence-day-town-hall-closed/
LOCATION:VT\, United States
CATEGORIES:Municipal Date
END:VEVENT
BEGIN:VEVENT
DTSTART;TZID=UTC:20220703T203000
DTEND;TZID=UTC:20220703T213000
DTSTAMP:20260424T031642
CREATED:20220216T152544Z
LAST-MODIFIED:20220216T152544Z
UID:10000609-1656880200-1656883800@www.rutlandtown.com
SUMMARY:Independence Day Fireworks!
DESCRIPTION:Please join us for fireworks! \nThis is a free event for everyone to enjoy! \nFireworks are planned to start at dusk. \n  \n  \n 
URL:https://www.rutlandtown.com/event/independence-day-fireworks/
LOCATION:Northwood Park\, 185 Northwood Park Road\, Rutland\, 05701
CATEGORIES:Community,Municipal Date
END:VEVENT
BEGIN:VEVENT
DTSTART;VALUE=DATE:20220618
DTEND;VALUE=DATE:20220619
DTSTAMP:20260424T031642
CREATED:20220602T134211Z
LAST-MODIFIED:20220602T134211Z
UID:10000645-1655510400-1655596799@www.rutlandtown.com
SUMMARY:Northwood Pool Open - Full Week
DESCRIPTION:
URL:https://www.rutlandtown.com/event/northwood-pool-open-full-week/
LOCATION:Northwood Park\, 185 Northwood Park Road\, Rutland\, 05701
CATEGORIES:Community,Municipal Date
END:VEVENT
BEGIN:VEVENT
DTSTART;VALUE=DATE:20220604
DTEND;VALUE=DATE:20220605
DTSTAMP:20260424T031642
CREATED:20220602T134136Z
LAST-MODIFIED:20220602T134235Z
UID:10000545-1654300800-1654387199@www.rutlandtown.com
SUMMARY:Northwood Pool OPEN - weekends only
DESCRIPTION:
URL:https://www.rutlandtown.com/event/northwood-pool-open-weekends-only/
LOCATION:Northwood Park\, 185 Northwood Park Road\, Rutland\, 05701
CATEGORIES:Community,Municipal Date
END:VEVENT
BEGIN:VEVENT
DTSTART;VALUE=DATE:20220531
DTEND;VALUE=DATE:20220601
DTSTAMP:20260424T031642
CREATED:20220421T132357Z
LAST-MODIFIED:20220421T132357Z
UID:10000635-1653955200-1654041599@www.rutlandtown.com
SUMMARY:Memorial Day - Town Hall Closed
DESCRIPTION:
URL:https://www.rutlandtown.com/event/memorial-day-town-hall-closed/
LOCATION:VT\, United States
CATEGORIES:Municipal Date
END:VEVENT
BEGIN:VEVENT
DTSTART;VALUE=DATE:20220510
DTEND;VALUE=DATE:20220511
DTSTAMP:20260424T031642
CREATED:20210716T172210Z
LAST-MODIFIED:20220729T150816Z
UID:10000594-1652140800-1652227199@www.rutlandtown.com
SUMMARY:3rd Tax Installment Due
DESCRIPTION:The third installment of taxes are due by close of business on May 10th. \nPayments may be mailed\, delivered to our office\, placed in the drop box next to our front door or made online by going HERE. \nThe drop box is checked at the end of the business day. \nWe do accept postmarks with official USPS postmarks only. We are not responsible for late\, misdirected or incorrectly addressed mail. \nIf you have a question on any previous balance due please contact the office. Notices of prior balances due ARE NOT sent out. \nIf the due date falls on a weekend taxes shall be due by close of business on the next business day.
URL:https://www.rutlandtown.com/event/3rd-tax-installment-due-date/2022-05-10/
LOCATION:Town of Rutland Municipal Building\, 181Business Route 4\, Center Rutland\, VT\, 05736\, United States
CATEGORIES:Municipal Date
END:VEVENT
BEGIN:VEVENT
DTSTART;VALUE=DATE:20220510
DTEND;VALUE=DATE:20220511
DTSTAMP:20260424T031642
CREATED:20210716T172210Z
LAST-MODIFIED:20220216T151900Z
UID:10000598-1652140800-1652227199@www.rutlandtown.com
SUMMARY:3rd Tax Installment Due Date
DESCRIPTION:The third installment of taxes are due by close of business on May 10th\, 2022. \nPayments may be mailed\, delivered to our office\, placed in the drop box next to our front door or made online by going HERE. \nThe drop box is checked at the end of the business day. \nWe do accept postmarks with official USPS postmarks only. We are not responsible for late\, misdirected or incorrectly addressed mail. \nIf you have a question on any previous balance due please contact the office. Notices of prior balances due ARE NOT sent out.
URL:https://www.rutlandtown.com/event/3rd-tax-installment-due-date-2022-07-10/
LOCATION:Town of Rutland Municipal Building\, 181Business Route 4\, Center Rutland\, VT\, 05736\, United States
CATEGORIES:Municipal Date
END:VEVENT
BEGIN:VEVENT
DTSTART;TZID=UTC:20220430T083000
DTEND;TZID=UTC:20220430T123000
DTSTAMP:20260424T031642
CREATED:20211018T124152Z
LAST-MODIFIED:20211018T124152Z
UID:10000441-1651307400-1651321800@www.rutlandtown.com
SUMMARY:Spring Household Hazardous Waste Event
DESCRIPTION:See our event on Facebook HERE. \nApril 2022 Household Hazardous Waste event information
URL:https://www.rutlandtown.com/event/spring-household-hazardous-waste-event/
LOCATION:Northwood Park\, 185 Northwood Park Road\, Rutland\, 05701
CATEGORIES:Municipal Date
END:VEVENT
BEGIN:VEVENT
DTSTART;TZID=UTC:20220429T120000
DTEND;TZID=UTC:20220429T120000
DTSTAMP:20260424T031642
CREATED:20220420T202254Z
LAST-MODIFIED:20220420T202328Z
UID:10000633-1651233600-1651233600@www.rutlandtown.com
SUMMARY:High School Seniors Scholarships Due Date
DESCRIPTION:All scholarship applications are due to the town office on or before 12 noon!
URL:https://www.rutlandtown.com/event/high-school-seniors-scholarships-due-date/
LOCATION:Town of Rutland Municipal Building\, 181Business Route 4\, Center Rutland\, VT\, 05736\, United States
CATEGORIES:Community,Municipal Date
END:VEVENT
BEGIN:VEVENT
DTSTART;VALUE=DATE:20220301
DTEND;VALUE=DATE:20220302
DTSTAMP:20260424T031642
CREATED:20220225T162628Z
LAST-MODIFIED:20220225T164547Z
UID:10000611-1646092800-1646179199@www.rutlandtown.com
SUMMARY:Town Hall Closed
DESCRIPTION:The Town Clerks office will be closed on Town Meeting Day.
URL:https://www.rutlandtown.com/event/town-hall-closed-9/
LOCATION:VT\, United States
CATEGORIES:Municipal Date
END:VEVENT
BEGIN:VEVENT
DTSTART;VALUE=DATE:20220301
DTEND;VALUE=DATE:20220302
DTSTAMP:20260424T031642
CREATED:20211222T174203Z
LAST-MODIFIED:20220225T164515Z
UID:10000627-1646092800-1646179199@www.rutlandtown.com
SUMMARY:Town Meeting Day
DESCRIPTION:2022 Town Meeting Warning\nProposed Town Budgets 2022 -2023\n2022 March Sample Ballot
URL:https://www.rutlandtown.com/event/town-meeting-day/
LOCATION:VT\, United States
CATEGORIES:Community,Municipal Date
END:VEVENT
BEGIN:VEVENT
DTSTART;TZID=UTC:20220228T190000
DTEND;TZID=UTC:20220228T210000
DTSTAMP:20260424T031642
CREATED:20220128T185815Z
LAST-MODIFIED:20220217T162731Z
UID:10000621-1646074800-1646082000@www.rutlandtown.com
SUMMARY:Town Meeting
DESCRIPTION:Town Meeting Warning 2-28-2022 \nRutland Town School District Slide Presentation:  https://youtu.be/9rZW4Rhd_54 \nRUTLAND TOWN VOTERS ANNUAL TOWN MEETING\nMonday\, February 28\, 2022 \nPlace: Via Zoom Conferencing\nto join the meeting go to zoom.us/join\nor call (646) 558-8656 and enter meeting ID 939 1518 8696\n7:00 PM\nTo discuss the Municipal Town & School Budgets for 2022-2023\nThank You!\n– Members of the Rutland Town School & Select Board
URL:https://www.rutlandtown.com/event/town-meeting/
LOCATION:VT\, United States
CATEGORIES:Municipal Date,Select Board
END:VEVENT
BEGIN:VEVENT
DTSTART;TZID=UTC:20220111T183000
DTEND;TZID=UTC:20220111T210000
DTSTAMP:20260424T031642
CREATED:20211222T174125Z
LAST-MODIFIED:20220111T215036Z
UID:10000626-1641925800-1641934800@www.rutlandtown.com
SUMMARY:Pre-Town Meeting
DESCRIPTION:Pre-Town Meeting will be held virtually for anyone to join and discuss the topics with the Selectboard and the School Board.\n2022 – 2023 Rutland Town Draft Budgets \nMarch 2022 Pre-Town Meeting Ballot Warning \nTo participate via zoom \nBy Phone \nplease call (646) 558-8656 and enter meeting ID 939 1518 8696 \nComputer / Tablet / Smartphone \nClick HERE \n  \nPre-Town Meeting Schedule \n6:30 Meeting begins \n\nRutland Town Selectboard budget presentation\nImmediately following the presentation\, the Selectboard will meet to approve the budgets and warning articles with any changes.\nRutland Town School Board budget presentation will immediately follow\n\nTown Budget Presentations \n\nGeneral Budget – Mary Ashcroft\nPolice Budget – Sharon Russell\nFire Budget – John Paul Faignant\nHighway Budget – Joe Denardo\nRecreation Budget – Don Chioffi\n\nProposed Ballot Item Questions \n\nFire Station Bond – John Paul Faignant and Don Chioffi\nAllowing the sale of cannabis in Town – John Paul Faignant\nShifting funds from cash to open amount – Mary Ashcroft\nIncreasing the Recreation Department depreciation contribution amount – Sharon Russell\nChanging the Road Commissioner position from elected to appointed – Joe Denardo
URL:https://www.rutlandtown.com/event/pre-town-meeting/
LOCATION:VT\, United States
CATEGORIES:Committee Meeting,Municipal Date,Select Board
END:VEVENT
BEGIN:VEVENT
DTSTART;VALUE=DATE:20220110
DTEND;VALUE=DATE:20220111
DTSTAMP:20260424T031642
CREATED:20210716T171737Z
LAST-MODIFIED:20220216T151800Z
UID:10000592-1641772800-1641859199@www.rutlandtown.com
SUMMARY:2nd Tax Installment Due Date
DESCRIPTION:The second installment of taxes are due by close of business on January 10th\, 2022. \nPayments may be mailed\, delivered to our office\, placed in the drop box next to our front door or made online by going HERE. \nThe drop box is checked at the end of the business day. \nWe do accept postmarks with official USPS postmarks only. We are not responsible for late\, misdirected or incorrectly addressed mail. \nIf you have a question on any previous balance due please contact the office. Notices of prior balances due ARE NOT sent out.
URL:https://www.rutlandtown.com/event/2nd-tax-installment-due-date-2022-07-10/
LOCATION:Town of Rutland Municipal Building\, 181Business Route 4\, Center Rutland\, VT\, 05736\, United States
CATEGORIES:Municipal Date
END:VEVENT
BEGIN:VEVENT
DTSTART;VALUE=DATE:20211231
DTEND;VALUE=DATE:20220101
DTSTAMP:20260424T031642
CREATED:20211221T213153Z
LAST-MODIFIED:20211221T213153Z
UID:10000625-1640908800-1640995199@www.rutlandtown.com
SUMMARY:Town Hall Closed
DESCRIPTION:
URL:https://www.rutlandtown.com/event/town-hall-closed-8/
LOCATION:VT\, United States
CATEGORIES:Municipal Date
END:VEVENT
BEGIN:VEVENT
DTSTART;TZID=UTC:20211220T080000
DTEND;TZID=UTC:20211220T170000
DTSTAMP:20260424T031642
CREATED:20211220T132534Z
LAST-MODIFIED:20211220T132534Z
UID:10000624-1639987200-1640019600@www.rutlandtown.com
SUMMARY:Town Hall Closed
DESCRIPTION:Town Hall will be closed for the New Years Holiday.
URL:https://www.rutlandtown.com/event/town-hall-closed-7/
LOCATION:VT\, United States
CATEGORIES:Municipal Date
END:VEVENT
BEGIN:VEVENT
DTSTART;VALUE=DATE:20210910
DTEND;VALUE=DATE:20210911
DTSTAMP:20260424T031642
CREATED:20210716T171525Z
LAST-MODIFIED:20220729T144822Z
UID:10000551-1631232000-1631318399@www.rutlandtown.com
SUMMARY:1st Tax Installment Due
DESCRIPTION:The first installment of taxes are due by close of business on September 10th. \nPayments may be mailed\, delivered to our office\, placed in the drop box next to our front door or made online by going HERE. \nThe drop box is checked at the end of the business day. \nWe do accept postmarks with official USPS postmarks only. We are not responsible for late\, misdirected or incorrectly addressed mail. \nIf you have a question on any previous balance due please contact the office. Notices of prior balances due ARE NOT sent out.
URL:https://www.rutlandtown.com/event/1st-tax-installment-due/
LOCATION:Town of Rutland Municipal Building\, 181Business Route 4\, Center Rutland\, VT\, 05736\, United States
CATEGORIES:Municipal Date
END:VEVENT
BEGIN:VEVENT
DTSTART;VALUE=DATE:20210910
DTEND;VALUE=DATE:20210911
DTSTAMP:20260424T031642
CREATED:20210716T171525Z
LAST-MODIFIED:20220216T151830Z
UID:10000566-1631232000-1631318399@www.rutlandtown.com
SUMMARY:1st Tax Installment Due
DESCRIPTION:The first installment of taxes are due by close of business on September 10th\, 2021. \nPayments may be mailed\, delivered to our office\, placed in the drop box next to our front door or made online by going HERE. \nThe drop box is checked at the end of the business day. \nWe do accept postmarks with official USPS postmarks only. We are not responsible for late\, misdirected or incorrectly addressed mail. \nIf you have a question on any previous balance due please contact the office. Notices of prior balances due ARE NOT sent out.
URL:https://www.rutlandtown.com/event/1st-tax-installment-due-2022-07-10/
LOCATION:Town of Rutland Municipal Building\, 181Business Route 4\, Center Rutland\, VT\, 05736\, United States
CATEGORIES:Municipal Date
END:VEVENT
BEGIN:VEVENT
DTSTART;VALUE=DATE:20210829
DTEND;VALUE=DATE:20210830
DTSTAMP:20260424T031642
CREATED:20210804T130408Z
LAST-MODIFIED:20210804T130428Z
UID:10000590-1630195200-1630281599@www.rutlandtown.com
SUMMARY:Last day open for the pool!
DESCRIPTION:This is the last day the pool will be open for the 2021 season.
URL:https://www.rutlandtown.com/event/last-day-open-for-the-pool/
LOCATION:Northwood Park\, 185 Northwood Park Road\, Rutland\, 05701
CATEGORIES:Municipal Date
END:VEVENT
END:VCALENDAR