BEGIN:VCALENDAR
VERSION:2.0
PRODID:-//The Town of Rutland, Vermont - ECPv6.15.20//NONSGML v1.0//EN
CALSCALE:GREGORIAN
METHOD:PUBLISH
X-WR-CALNAME:The Town of Rutland, Vermont
X-ORIGINAL-URL:https://www.rutlandtown.com
X-WR-CALDESC:Events for The Town of Rutland, Vermont
REFRESH-INTERVAL;VALUE=DURATION:PT1H
X-Robots-Tag:noindex
X-PUBLISHED-TTL:PT1H
BEGIN:VTIMEZONE
TZID:UTC
BEGIN:STANDARD
TZOFFSETFROM:+0000
TZOFFSETTO:+0000
TZNAME:UTC
DTSTART:20250101T000000
END:STANDARD
END:VTIMEZONE
BEGIN:VEVENT
DTSTART;TZID=UTC:20260312T183000
DTEND;TZID=UTC:20260312T200000
DTSTAMP:20260421T103024
CREATED:20260306T145019Z
LAST-MODIFIED:20260306T145020Z
UID:10001597-1773340200-1773345600@www.rutlandtown.com
SUMMARY:Planning Commission Meeting
DESCRIPTION:Click HERE to join the meeting remotely. \nPlanning Commission Agenda 3-12-2026 \nTOWN OF RUTLAND PLANNING COMMISSION AGENDA \nThursday\, March 12\, 2026  \nLocation: Rutland Town Municipal Town Hall and Zoom Conferencing  \nOpen Meeting – 6:30 PM   \nTo participate via Zoom\, please call (646) 558-8656 or visit zoom.us/join and enter meeting ID 985 4127 6671.  \nCall to Order/ Pledge of Allegiance \nApproval of Agenda \nPublic Comment \nNew Business \n\nDavid Grayck’s presentation on Super Walmart fiscal impact study\nDevelop best practices for pocket park historical signs\nDesign kiosk for pocket park\nUpcoming historical stakeholder meetings schedule\n\nOld Business \nAnnouncements \n\nSelectboard meeting(s) report\n\nMinutes \n\nFebruary 19\, 2026\n\nAdjournment
URL:https://www.rutlandtown.com/event/town-of-rutland-planning-commission-meeting-2-2021-12-09-2022-01-27-2023-01-19-2023-04-20-9-39/
LOCATION:Town of Rutland Municipal Building\, 181Business Route 4\, Center Rutland\, VT\, 05736\, United States
CATEGORIES:Planning Commission
END:VEVENT
END:VCALENDAR