BEGIN:VCALENDAR
VERSION:2.0
PRODID:-//The Town of Rutland, Vermont - ECPv6.15.20//NONSGML v1.0//EN
CALSCALE:GREGORIAN
METHOD:PUBLISH
X-WR-CALNAME:The Town of Rutland, Vermont
X-ORIGINAL-URL:https://www.rutlandtown.com
X-WR-CALDESC:Events for The Town of Rutland, Vermont
REFRESH-INTERVAL;VALUE=DURATION:PT1H
X-Robots-Tag:noindex
X-PUBLISHED-TTL:PT1H
BEGIN:VTIMEZONE
TZID:UTC
BEGIN:STANDARD
TZOFFSETFROM:+0000
TZOFFSETTO:+0000
TZNAME:UTC
DTSTART:20260101T000000
END:STANDARD
END:VTIMEZONE
BEGIN:VEVENT
DTSTART;TZID=UTC:20270909T183000
DTEND;TZID=UTC:20270909T200000
DTSTAMP:20260421T151126
CREATED:20231221T182044Z
LAST-MODIFIED:20251209T145128Z
UID:10001623-1820514600-1820520000@www.rutlandtown.com
SUMMARY:Planning Commission Meeting
DESCRIPTION:The agenda will be published once it is finalized. \nClick HERE to join the meeting remotely.
URL:https://www.rutlandtown.com/event/town-of-rutland-planning-commission-meeting-2-2021-12-09-2022-01-27-2023-01-19-2023-04-20-9/2027-09-09/
LOCATION:Town of Rutland Municipal Building\, 181Business Route 4\, Center Rutland\, VT\, 05736\, United States
CATEGORIES:Planning Commission
END:VEVENT
BEGIN:VEVENT
DTSTART;TZID=UTC:20270930T183000
DTEND;TZID=UTC:20270930T200000
DTSTAMP:20260421T151126
CREATED:20231221T182044Z
LAST-MODIFIED:20251209T145128Z
UID:10001624-1822329000-1822334400@www.rutlandtown.com
SUMMARY:Planning Commission Meeting
DESCRIPTION:The agenda will be published once it is finalized. \nClick HERE to join the meeting remotely.
URL:https://www.rutlandtown.com/event/town-of-rutland-planning-commission-meeting-2-2021-12-09-2022-01-27-2023-01-19-2023-04-20-9/2027-09-30/
LOCATION:Town of Rutland Municipal Building\, 181Business Route 4\, Center Rutland\, VT\, 05736\, United States
CATEGORIES:Planning Commission
END:VEVENT
BEGIN:VEVENT
DTSTART;TZID=UTC:20271021T183000
DTEND;TZID=UTC:20271021T200000
DTSTAMP:20260421T151126
CREATED:20231221T182044Z
LAST-MODIFIED:20251209T145128Z
UID:10001625-1824143400-1824148800@www.rutlandtown.com
SUMMARY:Planning Commission Meeting
DESCRIPTION:The agenda will be published once it is finalized. \nClick HERE to join the meeting remotely.
URL:https://www.rutlandtown.com/event/town-of-rutland-planning-commission-meeting-2-2021-12-09-2022-01-27-2023-01-19-2023-04-20-9/2027-10-21/
LOCATION:Town of Rutland Municipal Building\, 181Business Route 4\, Center Rutland\, VT\, 05736\, United States
CATEGORIES:Planning Commission
END:VEVENT
BEGIN:VEVENT
DTSTART;TZID=UTC:20271111T183000
DTEND;TZID=UTC:20271111T200000
DTSTAMP:20260421T151126
CREATED:20231221T182044Z
LAST-MODIFIED:20251209T145128Z
UID:10001626-1825957800-1825963200@www.rutlandtown.com
SUMMARY:Planning Commission Meeting
DESCRIPTION:The agenda will be published once it is finalized. \nClick HERE to join the meeting remotely.
URL:https://www.rutlandtown.com/event/town-of-rutland-planning-commission-meeting-2-2021-12-09-2022-01-27-2023-01-19-2023-04-20-9/2027-11-11/
LOCATION:Town of Rutland Municipal Building\, 181Business Route 4\, Center Rutland\, VT\, 05736\, United States
CATEGORIES:Planning Commission
END:VEVENT
BEGIN:VEVENT
DTSTART;TZID=UTC:20271202T183000
DTEND;TZID=UTC:20271202T200000
DTSTAMP:20260421T151126
CREATED:20231221T182044Z
LAST-MODIFIED:20251209T145128Z
UID:10001627-1827772200-1827777600@www.rutlandtown.com
SUMMARY:Planning Commission Meeting
DESCRIPTION:The agenda will be published once it is finalized. \nClick HERE to join the meeting remotely.
URL:https://www.rutlandtown.com/event/town-of-rutland-planning-commission-meeting-2-2021-12-09-2022-01-27-2023-01-19-2023-04-20-9/2027-12-02/
LOCATION:Town of Rutland Municipal Building\, 181Business Route 4\, Center Rutland\, VT\, 05736\, United States
CATEGORIES:Planning Commission
END:VEVENT
BEGIN:VEVENT
DTSTART;TZID=UTC:20271223T183000
DTEND;TZID=UTC:20271223T200000
DTSTAMP:20260421T151126
CREATED:20231221T182044Z
LAST-MODIFIED:20251209T145128Z
UID:10001628-1829586600-1829592000@www.rutlandtown.com
SUMMARY:Planning Commission Meeting
DESCRIPTION:The agenda will be published once it is finalized. \nClick HERE to join the meeting remotely.
URL:https://www.rutlandtown.com/event/town-of-rutland-planning-commission-meeting-2-2021-12-09-2022-01-27-2023-01-19-2023-04-20-9/2027-12-23/
LOCATION:Town of Rutland Municipal Building\, 181Business Route 4\, Center Rutland\, VT\, 05736\, United States
CATEGORIES:Planning Commission
END:VEVENT
BEGIN:VEVENT
DTSTART;TZID=UTC:20280113T183000
DTEND;TZID=UTC:20280113T200000
DTSTAMP:20260421T151126
CREATED:20231221T182044Z
LAST-MODIFIED:20251209T145128Z
UID:10001629-1831401000-1831406400@www.rutlandtown.com
SUMMARY:Planning Commission Meeting
DESCRIPTION:The agenda will be published once it is finalized. \nClick HERE to join the meeting remotely.
URL:https://www.rutlandtown.com/event/town-of-rutland-planning-commission-meeting-2-2021-12-09-2022-01-27-2023-01-19-2023-04-20-9/2028-01-13/
LOCATION:Town of Rutland Municipal Building\, 181Business Route 4\, Center Rutland\, VT\, 05736\, United States
CATEGORIES:Planning Commission
END:VEVENT
BEGIN:VEVENT
DTSTART;TZID=UTC:20280203T183000
DTEND;TZID=UTC:20280203T200000
DTSTAMP:20260421T151126
CREATED:20231221T182044Z
LAST-MODIFIED:20251209T145128Z
UID:10001630-1833215400-1833220800@www.rutlandtown.com
SUMMARY:Planning Commission Meeting
DESCRIPTION:The agenda will be published once it is finalized. \nClick HERE to join the meeting remotely.
URL:https://www.rutlandtown.com/event/town-of-rutland-planning-commission-meeting-2-2021-12-09-2022-01-27-2023-01-19-2023-04-20-9/2028-02-03/
LOCATION:Town of Rutland Municipal Building\, 181Business Route 4\, Center Rutland\, VT\, 05736\, United States
CATEGORIES:Planning Commission
END:VEVENT
BEGIN:VEVENT
DTSTART;TZID=UTC:20280224T183000
DTEND;TZID=UTC:20280224T200000
DTSTAMP:20260421T151126
CREATED:20231221T182044Z
LAST-MODIFIED:20251209T145128Z
UID:10001631-1835029800-1835035200@www.rutlandtown.com
SUMMARY:Planning Commission Meeting
DESCRIPTION:The agenda will be published once it is finalized. \nClick HERE to join the meeting remotely.
URL:https://www.rutlandtown.com/event/town-of-rutland-planning-commission-meeting-2-2021-12-09-2022-01-27-2023-01-19-2023-04-20-9/2028-02-24/
LOCATION:Town of Rutland Municipal Building\, 181Business Route 4\, Center Rutland\, VT\, 05736\, United States
CATEGORIES:Planning Commission
END:VEVENT
BEGIN:VEVENT
DTSTART;TZID=UTC:20280316T183000
DTEND;TZID=UTC:20280316T200000
DTSTAMP:20260421T151126
CREATED:20231221T182044Z
LAST-MODIFIED:20251209T145128Z
UID:10001632-1836844200-1836849600@www.rutlandtown.com
SUMMARY:Planning Commission Meeting
DESCRIPTION:The agenda will be published once it is finalized. \nClick HERE to join the meeting remotely.
URL:https://www.rutlandtown.com/event/town-of-rutland-planning-commission-meeting-2-2021-12-09-2022-01-27-2023-01-19-2023-04-20-9/2028-03-16/
LOCATION:Town of Rutland Municipal Building\, 181Business Route 4\, Center Rutland\, VT\, 05736\, United States
CATEGORIES:Planning Commission
END:VEVENT
BEGIN:VEVENT
DTSTART;TZID=UTC:20280406T183000
DTEND;TZID=UTC:20280406T200000
DTSTAMP:20260421T151126
CREATED:20231221T182044Z
LAST-MODIFIED:20251209T145128Z
UID:10001633-1838658600-1838664000@www.rutlandtown.com
SUMMARY:Planning Commission Meeting
DESCRIPTION:The agenda will be published once it is finalized. \nClick HERE to join the meeting remotely.
URL:https://www.rutlandtown.com/event/town-of-rutland-planning-commission-meeting-2-2021-12-09-2022-01-27-2023-01-19-2023-04-20-9/2028-04-06/
LOCATION:Town of Rutland Municipal Building\, 181Business Route 4\, Center Rutland\, VT\, 05736\, United States
CATEGORIES:Planning Commission
END:VEVENT
BEGIN:VEVENT
DTSTART;TZID=UTC:20280427T183000
DTEND;TZID=UTC:20280427T200000
DTSTAMP:20260421T151126
CREATED:20231221T182044Z
LAST-MODIFIED:20251209T145128Z
UID:10001634-1840473000-1840478400@www.rutlandtown.com
SUMMARY:Planning Commission Meeting
DESCRIPTION:The agenda will be published once it is finalized. \nClick HERE to join the meeting remotely.
URL:https://www.rutlandtown.com/event/town-of-rutland-planning-commission-meeting-2-2021-12-09-2022-01-27-2023-01-19-2023-04-20-9/2028-04-27/
LOCATION:Town of Rutland Municipal Building\, 181Business Route 4\, Center Rutland\, VT\, 05736\, United States
CATEGORIES:Planning Commission
END:VEVENT
BEGIN:VEVENT
DTSTART;TZID=UTC:20280518T183000
DTEND;TZID=UTC:20280518T200000
DTSTAMP:20260421T151126
CREATED:20231221T182044Z
LAST-MODIFIED:20251209T145128Z
UID:10001635-1842287400-1842292800@www.rutlandtown.com
SUMMARY:Planning Commission Meeting
DESCRIPTION:The agenda will be published once it is finalized. \nClick HERE to join the meeting remotely.
URL:https://www.rutlandtown.com/event/town-of-rutland-planning-commission-meeting-2-2021-12-09-2022-01-27-2023-01-19-2023-04-20-9/2028-05-18/
LOCATION:Town of Rutland Municipal Building\, 181Business Route 4\, Center Rutland\, VT\, 05736\, United States
CATEGORIES:Planning Commission
END:VEVENT
BEGIN:VEVENT
DTSTART;TZID=UTC:20280608T183000
DTEND;TZID=UTC:20280608T200000
DTSTAMP:20260421T151126
CREATED:20231221T182044Z
LAST-MODIFIED:20251209T145128Z
UID:10001636-1844101800-1844107200@www.rutlandtown.com
SUMMARY:Planning Commission Meeting
DESCRIPTION:The agenda will be published once it is finalized. \nClick HERE to join the meeting remotely.
URL:https://www.rutlandtown.com/event/town-of-rutland-planning-commission-meeting-2-2021-12-09-2022-01-27-2023-01-19-2023-04-20-9/2028-06-08/
LOCATION:Town of Rutland Municipal Building\, 181Business Route 4\, Center Rutland\, VT\, 05736\, United States
CATEGORIES:Planning Commission
END:VEVENT
BEGIN:VEVENT
DTSTART;TZID=UTC:20280629T183000
DTEND;TZID=UTC:20280629T200000
DTSTAMP:20260421T151126
CREATED:20231221T182044Z
LAST-MODIFIED:20251209T145128Z
UID:10001637-1845916200-1845921600@www.rutlandtown.com
SUMMARY:Planning Commission Meeting
DESCRIPTION:The agenda will be published once it is finalized. \nClick HERE to join the meeting remotely.
URL:https://www.rutlandtown.com/event/town-of-rutland-planning-commission-meeting-2-2021-12-09-2022-01-27-2023-01-19-2023-04-20-9/2028-06-29/
LOCATION:Town of Rutland Municipal Building\, 181Business Route 4\, Center Rutland\, VT\, 05736\, United States
CATEGORIES:Planning Commission
END:VEVENT
BEGIN:VEVENT
DTSTART;TZID=UTC:20280720T183000
DTEND;TZID=UTC:20280720T200000
DTSTAMP:20260421T151126
CREATED:20231221T182044Z
LAST-MODIFIED:20251209T145128Z
UID:10001638-1847730600-1847736000@www.rutlandtown.com
SUMMARY:Planning Commission Meeting
DESCRIPTION:The agenda will be published once it is finalized. \nClick HERE to join the meeting remotely.
URL:https://www.rutlandtown.com/event/town-of-rutland-planning-commission-meeting-2-2021-12-09-2022-01-27-2023-01-19-2023-04-20-9/2028-07-20/
LOCATION:Town of Rutland Municipal Building\, 181Business Route 4\, Center Rutland\, VT\, 05736\, United States
CATEGORIES:Planning Commission
END:VEVENT
BEGIN:VEVENT
DTSTART;TZID=UTC:20280810T183000
DTEND;TZID=UTC:20280810T200000
DTSTAMP:20260421T151126
CREATED:20231221T182044Z
LAST-MODIFIED:20251209T145128Z
UID:10001639-1849545000-1849550400@www.rutlandtown.com
SUMMARY:Planning Commission Meeting
DESCRIPTION:The agenda will be published once it is finalized. \nClick HERE to join the meeting remotely.
URL:https://www.rutlandtown.com/event/town-of-rutland-planning-commission-meeting-2-2021-12-09-2022-01-27-2023-01-19-2023-04-20-9/2028-08-10/
LOCATION:Town of Rutland Municipal Building\, 181Business Route 4\, Center Rutland\, VT\, 05736\, United States
CATEGORIES:Planning Commission
END:VEVENT
BEGIN:VEVENT
DTSTART;TZID=UTC:20280831T183000
DTEND;TZID=UTC:20280831T200000
DTSTAMP:20260421T151126
CREATED:20231221T182044Z
LAST-MODIFIED:20251209T145128Z
UID:10001640-1851359400-1851364800@www.rutlandtown.com
SUMMARY:Planning Commission Meeting
DESCRIPTION:The agenda will be published once it is finalized. \nClick HERE to join the meeting remotely.
URL:https://www.rutlandtown.com/event/town-of-rutland-planning-commission-meeting-2-2021-12-09-2022-01-27-2023-01-19-2023-04-20-9/2028-08-31/
LOCATION:Town of Rutland Municipal Building\, 181Business Route 4\, Center Rutland\, VT\, 05736\, United States
CATEGORIES:Planning Commission
END:VEVENT
BEGIN:VEVENT
DTSTART;TZID=UTC:20280921T183000
DTEND;TZID=UTC:20280921T200000
DTSTAMP:20260421T151126
CREATED:20231221T182044Z
LAST-MODIFIED:20251209T145128Z
UID:10001641-1853173800-1853179200@www.rutlandtown.com
SUMMARY:Planning Commission Meeting
DESCRIPTION:The agenda will be published once it is finalized. \nClick HERE to join the meeting remotely.
URL:https://www.rutlandtown.com/event/town-of-rutland-planning-commission-meeting-2-2021-12-09-2022-01-27-2023-01-19-2023-04-20-9/2028-09-21/
LOCATION:Town of Rutland Municipal Building\, 181Business Route 4\, Center Rutland\, VT\, 05736\, United States
CATEGORIES:Planning Commission
END:VEVENT
BEGIN:VEVENT
DTSTART;TZID=UTC:20281012T183000
DTEND;TZID=UTC:20281012T200000
DTSTAMP:20260421T151126
CREATED:20231221T182044Z
LAST-MODIFIED:20251209T145128Z
UID:10001642-1854988200-1854993600@www.rutlandtown.com
SUMMARY:Planning Commission Meeting
DESCRIPTION:The agenda will be published once it is finalized. \nClick HERE to join the meeting remotely.
URL:https://www.rutlandtown.com/event/town-of-rutland-planning-commission-meeting-2-2021-12-09-2022-01-27-2023-01-19-2023-04-20-9/2028-10-12/
LOCATION:Town of Rutland Municipal Building\, 181Business Route 4\, Center Rutland\, VT\, 05736\, United States
CATEGORIES:Planning Commission
END:VEVENT
BEGIN:VEVENT
DTSTART;TZID=UTC:20281102T183000
DTEND;TZID=UTC:20281102T200000
DTSTAMP:20260421T151126
CREATED:20231221T182044Z
LAST-MODIFIED:20251209T145128Z
UID:10001643-1856802600-1856808000@www.rutlandtown.com
SUMMARY:Planning Commission Meeting
DESCRIPTION:The agenda will be published once it is finalized. \nClick HERE to join the meeting remotely.
URL:https://www.rutlandtown.com/event/town-of-rutland-planning-commission-meeting-2-2021-12-09-2022-01-27-2023-01-19-2023-04-20-9/2028-11-02/
LOCATION:Town of Rutland Municipal Building\, 181Business Route 4\, Center Rutland\, VT\, 05736\, United States
CATEGORIES:Planning Commission
END:VEVENT
BEGIN:VEVENT
DTSTART;TZID=UTC:20281123T183000
DTEND;TZID=UTC:20281123T200000
DTSTAMP:20260421T151126
CREATED:20231221T182044Z
LAST-MODIFIED:20251209T145128Z
UID:10001644-1858617000-1858622400@www.rutlandtown.com
SUMMARY:Planning Commission Meeting
DESCRIPTION:The agenda will be published once it is finalized. \nClick HERE to join the meeting remotely.
URL:https://www.rutlandtown.com/event/town-of-rutland-planning-commission-meeting-2-2021-12-09-2022-01-27-2023-01-19-2023-04-20-9/2028-11-23/
LOCATION:Town of Rutland Municipal Building\, 181Business Route 4\, Center Rutland\, VT\, 05736\, United States
CATEGORIES:Planning Commission
END:VEVENT
BEGIN:VEVENT
DTSTART;TZID=UTC:20281214T183000
DTEND;TZID=UTC:20281214T200000
DTSTAMP:20260421T151126
CREATED:20231221T182044Z
LAST-MODIFIED:20251209T145128Z
UID:10001645-1860431400-1860436800@www.rutlandtown.com
SUMMARY:Planning Commission Meeting
DESCRIPTION:The agenda will be published once it is finalized. \nClick HERE to join the meeting remotely.
URL:https://www.rutlandtown.com/event/town-of-rutland-planning-commission-meeting-2-2021-12-09-2022-01-27-2023-01-19-2023-04-20-9/2028-12-14/
LOCATION:Town of Rutland Municipal Building\, 181Business Route 4\, Center Rutland\, VT\, 05736\, United States
CATEGORIES:Planning Commission
END:VEVENT
BEGIN:VEVENT
DTSTART;TZID=UTC:20290104T183000
DTEND;TZID=UTC:20290104T200000
DTSTAMP:20260421T151126
CREATED:20231221T182044Z
LAST-MODIFIED:20251209T145128Z
UID:10001646-1862245800-1862251200@www.rutlandtown.com
SUMMARY:Planning Commission Meeting
DESCRIPTION:The agenda will be published once it is finalized. \nClick HERE to join the meeting remotely.
URL:https://www.rutlandtown.com/event/town-of-rutland-planning-commission-meeting-2-2021-12-09-2022-01-27-2023-01-19-2023-04-20-9/2029-01-04/
LOCATION:Town of Rutland Municipal Building\, 181Business Route 4\, Center Rutland\, VT\, 05736\, United States
CATEGORIES:Planning Commission
END:VEVENT
BEGIN:VEVENT
DTSTART;TZID=UTC:20290125T183000
DTEND;TZID=UTC:20290125T200000
DTSTAMP:20260421T151126
CREATED:20231221T182044Z
LAST-MODIFIED:20251209T145128Z
UID:10001647-1864060200-1864065600@www.rutlandtown.com
SUMMARY:Planning Commission Meeting
DESCRIPTION:The agenda will be published once it is finalized. \nClick HERE to join the meeting remotely.
URL:https://www.rutlandtown.com/event/town-of-rutland-planning-commission-meeting-2-2021-12-09-2022-01-27-2023-01-19-2023-04-20-9/2029-01-25/
LOCATION:Town of Rutland Municipal Building\, 181Business Route 4\, Center Rutland\, VT\, 05736\, United States
CATEGORIES:Planning Commission
END:VEVENT
BEGIN:VEVENT
DTSTART;TZID=UTC:20290215T183000
DTEND;TZID=UTC:20290215T200000
DTSTAMP:20260421T151126
CREATED:20231221T182044Z
LAST-MODIFIED:20251209T145128Z
UID:10001648-1865874600-1865880000@www.rutlandtown.com
SUMMARY:Planning Commission Meeting
DESCRIPTION:The agenda will be published once it is finalized. \nClick HERE to join the meeting remotely.
URL:https://www.rutlandtown.com/event/town-of-rutland-planning-commission-meeting-2-2021-12-09-2022-01-27-2023-01-19-2023-04-20-9/2029-02-15/
LOCATION:Town of Rutland Municipal Building\, 181Business Route 4\, Center Rutland\, VT\, 05736\, United States
CATEGORIES:Planning Commission
END:VEVENT
BEGIN:VEVENT
DTSTART;TZID=UTC:20290308T183000
DTEND;TZID=UTC:20290308T200000
DTSTAMP:20260421T151126
CREATED:20231221T182044Z
LAST-MODIFIED:20251209T145128Z
UID:10001649-1867689000-1867694400@www.rutlandtown.com
SUMMARY:Planning Commission Meeting
DESCRIPTION:The agenda will be published once it is finalized. \nClick HERE to join the meeting remotely.
URL:https://www.rutlandtown.com/event/town-of-rutland-planning-commission-meeting-2-2021-12-09-2022-01-27-2023-01-19-2023-04-20-9/2029-03-08/
LOCATION:Town of Rutland Municipal Building\, 181Business Route 4\, Center Rutland\, VT\, 05736\, United States
CATEGORIES:Planning Commission
END:VEVENT
BEGIN:VEVENT
DTSTART;TZID=UTC:20290329T183000
DTEND;TZID=UTC:20290329T200000
DTSTAMP:20260421T151126
CREATED:20231221T182044Z
LAST-MODIFIED:20251209T145128Z
UID:10001650-1869503400-1869508800@www.rutlandtown.com
SUMMARY:Planning Commission Meeting
DESCRIPTION:The agenda will be published once it is finalized. \nClick HERE to join the meeting remotely.
URL:https://www.rutlandtown.com/event/town-of-rutland-planning-commission-meeting-2-2021-12-09-2022-01-27-2023-01-19-2023-04-20-9/2029-03-29/
LOCATION:Town of Rutland Municipal Building\, 181Business Route 4\, Center Rutland\, VT\, 05736\, United States
CATEGORIES:Planning Commission
END:VEVENT
BEGIN:VEVENT
DTSTART;TZID=UTC:20290419T183000
DTEND;TZID=UTC:20290419T200000
DTSTAMP:20260421T151126
CREATED:20231221T182044Z
LAST-MODIFIED:20251209T145128Z
UID:10001651-1871317800-1871323200@www.rutlandtown.com
SUMMARY:Planning Commission Meeting
DESCRIPTION:The agenda will be published once it is finalized. \nClick HERE to join the meeting remotely.
URL:https://www.rutlandtown.com/event/town-of-rutland-planning-commission-meeting-2-2021-12-09-2022-01-27-2023-01-19-2023-04-20-9/2029-04-19/
LOCATION:Town of Rutland Municipal Building\, 181Business Route 4\, Center Rutland\, VT\, 05736\, United States
CATEGORIES:Planning Commission
END:VEVENT
BEGIN:VEVENT
DTSTART;TZID=UTC:20290510T183000
DTEND;TZID=UTC:20290510T200000
DTSTAMP:20260421T151126
CREATED:20231221T182044Z
LAST-MODIFIED:20251209T145128Z
UID:10001652-1873132200-1873137600@www.rutlandtown.com
SUMMARY:Planning Commission Meeting
DESCRIPTION:The agenda will be published once it is finalized. \nClick HERE to join the meeting remotely.
URL:https://www.rutlandtown.com/event/town-of-rutland-planning-commission-meeting-2-2021-12-09-2022-01-27-2023-01-19-2023-04-20-9/2029-05-10/
LOCATION:Town of Rutland Municipal Building\, 181Business Route 4\, Center Rutland\, VT\, 05736\, United States
CATEGORIES:Planning Commission
END:VEVENT
END:VCALENDAR