BEGIN:VCALENDAR
VERSION:2.0
PRODID:-//The Town of Rutland, Vermont - ECPv6.15.20//NONSGML v1.0//EN
CALSCALE:GREGORIAN
METHOD:PUBLISH
X-ORIGINAL-URL:https://www.rutlandtown.com
X-WR-CALDESC:Events for The Town of Rutland, Vermont
REFRESH-INTERVAL;VALUE=DURATION:PT1H
X-Robots-Tag:noindex
X-PUBLISHED-TTL:PT1H
BEGIN:VTIMEZONE
TZID:UTC
BEGIN:STANDARD
TZOFFSETFROM:+0000
TZOFFSETTO:+0000
TZNAME:UTC
DTSTART:20280101T000000
END:STANDARD
END:VTIMEZONE
BEGIN:VEVENT
DTSTART;TZID=UTC:20290125T183000
DTEND;TZID=UTC:20290125T200000
DTSTAMP:20260421T164931
CREATED:20231221T182044Z
LAST-MODIFIED:20251209T145128Z
UID:10001647-1864060200-1864065600@www.rutlandtown.com
SUMMARY:Planning Commission Meeting
DESCRIPTION:The agenda will be published once it is finalized. \nClick HERE to join the meeting remotely.
URL:https://www.rutlandtown.com/event/town-of-rutland-planning-commission-meeting-2-2021-12-09-2022-01-27-2023-01-19-2023-04-20-9/2029-01-25/
LOCATION:Town of Rutland Municipal Building\, 181Business Route 4\, Center Rutland\, VT\, 05736\, United States
CATEGORIES:Planning Commission
END:VEVENT
BEGIN:VEVENT
DTSTART;TZID=UTC:20290215T183000
DTEND;TZID=UTC:20290215T200000
DTSTAMP:20260421T164931
CREATED:20231221T182044Z
LAST-MODIFIED:20251209T145128Z
UID:10001648-1865874600-1865880000@www.rutlandtown.com
SUMMARY:Planning Commission Meeting
DESCRIPTION:The agenda will be published once it is finalized. \nClick HERE to join the meeting remotely.
URL:https://www.rutlandtown.com/event/town-of-rutland-planning-commission-meeting-2-2021-12-09-2022-01-27-2023-01-19-2023-04-20-9/2029-02-15/
LOCATION:Town of Rutland Municipal Building\, 181Business Route 4\, Center Rutland\, VT\, 05736\, United States
CATEGORIES:Planning Commission
END:VEVENT
BEGIN:VEVENT
DTSTART;TZID=UTC:20290308T183000
DTEND;TZID=UTC:20290308T200000
DTSTAMP:20260421T164931
CREATED:20231221T182044Z
LAST-MODIFIED:20251209T145128Z
UID:10001649-1867689000-1867694400@www.rutlandtown.com
SUMMARY:Planning Commission Meeting
DESCRIPTION:The agenda will be published once it is finalized. \nClick HERE to join the meeting remotely.
URL:https://www.rutlandtown.com/event/town-of-rutland-planning-commission-meeting-2-2021-12-09-2022-01-27-2023-01-19-2023-04-20-9/2029-03-08/
LOCATION:Town of Rutland Municipal Building\, 181Business Route 4\, Center Rutland\, VT\, 05736\, United States
CATEGORIES:Planning Commission
END:VEVENT
BEGIN:VEVENT
DTSTART;TZID=UTC:20290329T183000
DTEND;TZID=UTC:20290329T200000
DTSTAMP:20260421T164931
CREATED:20231221T182044Z
LAST-MODIFIED:20251209T145128Z
UID:10001650-1869503400-1869508800@www.rutlandtown.com
SUMMARY:Planning Commission Meeting
DESCRIPTION:The agenda will be published once it is finalized. \nClick HERE to join the meeting remotely.
URL:https://www.rutlandtown.com/event/town-of-rutland-planning-commission-meeting-2-2021-12-09-2022-01-27-2023-01-19-2023-04-20-9/2029-03-29/
LOCATION:Town of Rutland Municipal Building\, 181Business Route 4\, Center Rutland\, VT\, 05736\, United States
CATEGORIES:Planning Commission
END:VEVENT
BEGIN:VEVENT
DTSTART;TZID=UTC:20290419T183000
DTEND;TZID=UTC:20290419T200000
DTSTAMP:20260421T164931
CREATED:20231221T182044Z
LAST-MODIFIED:20251209T145128Z
UID:10001651-1871317800-1871323200@www.rutlandtown.com
SUMMARY:Planning Commission Meeting
DESCRIPTION:The agenda will be published once it is finalized. \nClick HERE to join the meeting remotely.
URL:https://www.rutlandtown.com/event/town-of-rutland-planning-commission-meeting-2-2021-12-09-2022-01-27-2023-01-19-2023-04-20-9/2029-04-19/
LOCATION:Town of Rutland Municipal Building\, 181Business Route 4\, Center Rutland\, VT\, 05736\, United States
CATEGORIES:Planning Commission
END:VEVENT
BEGIN:VEVENT
DTSTART;TZID=UTC:20290510T183000
DTEND;TZID=UTC:20290510T200000
DTSTAMP:20260421T164931
CREATED:20231221T182044Z
LAST-MODIFIED:20251209T145128Z
UID:10001652-1873132200-1873137600@www.rutlandtown.com
SUMMARY:Planning Commission Meeting
DESCRIPTION:The agenda will be published once it is finalized. \nClick HERE to join the meeting remotely.
URL:https://www.rutlandtown.com/event/town-of-rutland-planning-commission-meeting-2-2021-12-09-2022-01-27-2023-01-19-2023-04-20-9/2029-05-10/
LOCATION:Town of Rutland Municipal Building\, 181Business Route 4\, Center Rutland\, VT\, 05736\, United States
CATEGORIES:Planning Commission
END:VEVENT
BEGIN:VEVENT
DTSTART;TZID=UTC:20290531T183000
DTEND;TZID=UTC:20290531T200000
DTSTAMP:20260421T164931
CREATED:20231221T182044Z
LAST-MODIFIED:20251209T145128Z
UID:10001653-1874946600-1874952000@www.rutlandtown.com
SUMMARY:Planning Commission Meeting
DESCRIPTION:The agenda will be published once it is finalized. \nClick HERE to join the meeting remotely.
URL:https://www.rutlandtown.com/event/town-of-rutland-planning-commission-meeting-2-2021-12-09-2022-01-27-2023-01-19-2023-04-20-9/2029-05-31/
LOCATION:Town of Rutland Municipal Building\, 181Business Route 4\, Center Rutland\, VT\, 05736\, United States
CATEGORIES:Planning Commission
END:VEVENT
BEGIN:VEVENT
DTSTART;TZID=UTC:20290621T183000
DTEND;TZID=UTC:20290621T200000
DTSTAMP:20260421T164931
CREATED:20231221T182044Z
LAST-MODIFIED:20251209T145128Z
UID:10001654-1876761000-1876766400@www.rutlandtown.com
SUMMARY:Planning Commission Meeting
DESCRIPTION:The agenda will be published once it is finalized. \nClick HERE to join the meeting remotely.
URL:https://www.rutlandtown.com/event/town-of-rutland-planning-commission-meeting-2-2021-12-09-2022-01-27-2023-01-19-2023-04-20-9/2029-06-21/
LOCATION:Town of Rutland Municipal Building\, 181Business Route 4\, Center Rutland\, VT\, 05736\, United States
CATEGORIES:Planning Commission
END:VEVENT
BEGIN:VEVENT
DTSTART;TZID=UTC:20290712T183000
DTEND;TZID=UTC:20290712T200000
DTSTAMP:20260421T164931
CREATED:20231221T182044Z
LAST-MODIFIED:20251209T145128Z
UID:10001655-1878575400-1878580800@www.rutlandtown.com
SUMMARY:Planning Commission Meeting
DESCRIPTION:The agenda will be published once it is finalized. \nClick HERE to join the meeting remotely.
URL:https://www.rutlandtown.com/event/town-of-rutland-planning-commission-meeting-2-2021-12-09-2022-01-27-2023-01-19-2023-04-20-9/2029-07-12/
LOCATION:Town of Rutland Municipal Building\, 181Business Route 4\, Center Rutland\, VT\, 05736\, United States
CATEGORIES:Planning Commission
END:VEVENT
BEGIN:VEVENT
DTSTART;TZID=UTC:20290802T183000
DTEND;TZID=UTC:20290802T200000
DTSTAMP:20260421T164931
CREATED:20231221T182044Z
LAST-MODIFIED:20251209T145128Z
UID:10001656-1880389800-1880395200@www.rutlandtown.com
SUMMARY:Planning Commission Meeting
DESCRIPTION:The agenda will be published once it is finalized. \nClick HERE to join the meeting remotely.
URL:https://www.rutlandtown.com/event/town-of-rutland-planning-commission-meeting-2-2021-12-09-2022-01-27-2023-01-19-2023-04-20-9/2029-08-02/
LOCATION:Town of Rutland Municipal Building\, 181Business Route 4\, Center Rutland\, VT\, 05736\, United States
CATEGORIES:Planning Commission
END:VEVENT
BEGIN:VEVENT
DTSTART;TZID=UTC:20290823T183000
DTEND;TZID=UTC:20290823T200000
DTSTAMP:20260421T164931
CREATED:20231221T182044Z
LAST-MODIFIED:20251209T145128Z
UID:10001657-1882204200-1882209600@www.rutlandtown.com
SUMMARY:Planning Commission Meeting
DESCRIPTION:The agenda will be published once it is finalized. \nClick HERE to join the meeting remotely.
URL:https://www.rutlandtown.com/event/town-of-rutland-planning-commission-meeting-2-2021-12-09-2022-01-27-2023-01-19-2023-04-20-9/2029-08-23/
LOCATION:Town of Rutland Municipal Building\, 181Business Route 4\, Center Rutland\, VT\, 05736\, United States
CATEGORIES:Planning Commission
END:VEVENT
BEGIN:VEVENT
DTSTART;TZID=UTC:20290913T183000
DTEND;TZID=UTC:20290913T200000
DTSTAMP:20260421T164931
CREATED:20231221T182044Z
LAST-MODIFIED:20251209T145128Z
UID:10001658-1884018600-1884024000@www.rutlandtown.com
SUMMARY:Planning Commission Meeting
DESCRIPTION:The agenda will be published once it is finalized. \nClick HERE to join the meeting remotely.
URL:https://www.rutlandtown.com/event/town-of-rutland-planning-commission-meeting-2-2021-12-09-2022-01-27-2023-01-19-2023-04-20-9/2029-09-13/
LOCATION:Town of Rutland Municipal Building\, 181Business Route 4\, Center Rutland\, VT\, 05736\, United States
CATEGORIES:Planning Commission
END:VEVENT
BEGIN:VEVENT
DTSTART;TZID=UTC:20291004T183000
DTEND;TZID=UTC:20291004T200000
DTSTAMP:20260421T164931
CREATED:20231221T182044Z
LAST-MODIFIED:20251209T145128Z
UID:10001659-1885833000-1885838400@www.rutlandtown.com
SUMMARY:Planning Commission Meeting
DESCRIPTION:The agenda will be published once it is finalized. \nClick HERE to join the meeting remotely.
URL:https://www.rutlandtown.com/event/town-of-rutland-planning-commission-meeting-2-2021-12-09-2022-01-27-2023-01-19-2023-04-20-9/2029-10-04/
LOCATION:Town of Rutland Municipal Building\, 181Business Route 4\, Center Rutland\, VT\, 05736\, United States
CATEGORIES:Planning Commission
END:VEVENT
BEGIN:VEVENT
DTSTART;TZID=UTC:20291025T183000
DTEND;TZID=UTC:20291025T200000
DTSTAMP:20260421T164931
CREATED:20231221T182044Z
LAST-MODIFIED:20251209T145128Z
UID:10001660-1887647400-1887652800@www.rutlandtown.com
SUMMARY:Planning Commission Meeting
DESCRIPTION:The agenda will be published once it is finalized. \nClick HERE to join the meeting remotely.
URL:https://www.rutlandtown.com/event/town-of-rutland-planning-commission-meeting-2-2021-12-09-2022-01-27-2023-01-19-2023-04-20-9/2029-10-25/
LOCATION:Town of Rutland Municipal Building\, 181Business Route 4\, Center Rutland\, VT\, 05736\, United States
CATEGORIES:Planning Commission
END:VEVENT
BEGIN:VEVENT
DTSTART;TZID=UTC:20291115T183000
DTEND;TZID=UTC:20291115T200000
DTSTAMP:20260421T164931
CREATED:20231221T182044Z
LAST-MODIFIED:20251209T145128Z
UID:10001661-1889461800-1889467200@www.rutlandtown.com
SUMMARY:Planning Commission Meeting
DESCRIPTION:The agenda will be published once it is finalized. \nClick HERE to join the meeting remotely.
URL:https://www.rutlandtown.com/event/town-of-rutland-planning-commission-meeting-2-2021-12-09-2022-01-27-2023-01-19-2023-04-20-9/2029-11-15/
LOCATION:Town of Rutland Municipal Building\, 181Business Route 4\, Center Rutland\, VT\, 05736\, United States
CATEGORIES:Planning Commission
END:VEVENT
BEGIN:VEVENT
DTSTART;TZID=UTC:20291206T183000
DTEND;TZID=UTC:20291206T200000
DTSTAMP:20260421T164931
CREATED:20231221T182044Z
LAST-MODIFIED:20251209T145128Z
UID:10001662-1891276200-1891281600@www.rutlandtown.com
SUMMARY:Planning Commission Meeting
DESCRIPTION:The agenda will be published once it is finalized. \nClick HERE to join the meeting remotely.
URL:https://www.rutlandtown.com/event/town-of-rutland-planning-commission-meeting-2-2021-12-09-2022-01-27-2023-01-19-2023-04-20-9/2029-12-06/
LOCATION:Town of Rutland Municipal Building\, 181Business Route 4\, Center Rutland\, VT\, 05736\, United States
CATEGORIES:Planning Commission
END:VEVENT
BEGIN:VEVENT
DTSTART;TZID=UTC:20291227T183000
DTEND;TZID=UTC:20291227T200000
DTSTAMP:20260421T164931
CREATED:20231221T182044Z
LAST-MODIFIED:20251209T145128Z
UID:10001663-1893090600-1893096000@www.rutlandtown.com
SUMMARY:Planning Commission Meeting
DESCRIPTION:The agenda will be published once it is finalized. \nClick HERE to join the meeting remotely.
URL:https://www.rutlandtown.com/event/town-of-rutland-planning-commission-meeting-2-2021-12-09-2022-01-27-2023-01-19-2023-04-20-9/2029-12-27/
LOCATION:Town of Rutland Municipal Building\, 181Business Route 4\, Center Rutland\, VT\, 05736\, United States
CATEGORIES:Planning Commission
END:VEVENT
BEGIN:VEVENT
DTSTART;TZID=UTC:20300117T183000
DTEND;TZID=UTC:20300117T200000
DTSTAMP:20260421T164931
CREATED:20231221T182044Z
LAST-MODIFIED:20251209T145128Z
UID:10001664-1894905000-1894910400@www.rutlandtown.com
SUMMARY:Planning Commission Meeting
DESCRIPTION:The agenda will be published once it is finalized. \nClick HERE to join the meeting remotely.
URL:https://www.rutlandtown.com/event/town-of-rutland-planning-commission-meeting-2-2021-12-09-2022-01-27-2023-01-19-2023-04-20-9/2030-01-17/
LOCATION:Town of Rutland Municipal Building\, 181Business Route 4\, Center Rutland\, VT\, 05736\, United States
CATEGORIES:Planning Commission
END:VEVENT
BEGIN:VEVENT
DTSTART;TZID=UTC:20300207T183000
DTEND;TZID=UTC:20300207T200000
DTSTAMP:20260421T164931
CREATED:20231221T182044Z
LAST-MODIFIED:20251209T145128Z
UID:10001665-1896719400-1896724800@www.rutlandtown.com
SUMMARY:Planning Commission Meeting
DESCRIPTION:The agenda will be published once it is finalized. \nClick HERE to join the meeting remotely.
URL:https://www.rutlandtown.com/event/town-of-rutland-planning-commission-meeting-2-2021-12-09-2022-01-27-2023-01-19-2023-04-20-9/2030-02-07/
LOCATION:Town of Rutland Municipal Building\, 181Business Route 4\, Center Rutland\, VT\, 05736\, United States
CATEGORIES:Planning Commission
END:VEVENT
BEGIN:VEVENT
DTSTART;TZID=UTC:20300228T183000
DTEND;TZID=UTC:20300228T200000
DTSTAMP:20260421T164931
CREATED:20231221T182044Z
LAST-MODIFIED:20251209T145128Z
UID:10001666-1898533800-1898539200@www.rutlandtown.com
SUMMARY:Planning Commission Meeting
DESCRIPTION:The agenda will be published once it is finalized. \nClick HERE to join the meeting remotely.
URL:https://www.rutlandtown.com/event/town-of-rutland-planning-commission-meeting-2-2021-12-09-2022-01-27-2023-01-19-2023-04-20-9/2030-02-28/
LOCATION:Town of Rutland Municipal Building\, 181Business Route 4\, Center Rutland\, VT\, 05736\, United States
CATEGORIES:Planning Commission
END:VEVENT
BEGIN:VEVENT
DTSTART;TZID=UTC:20300321T183000
DTEND;TZID=UTC:20300321T200000
DTSTAMP:20260421T164931
CREATED:20231221T182044Z
LAST-MODIFIED:20251209T145128Z
UID:10001667-1900348200-1900353600@www.rutlandtown.com
SUMMARY:Planning Commission Meeting
DESCRIPTION:The agenda will be published once it is finalized. \nClick HERE to join the meeting remotely.
URL:https://www.rutlandtown.com/event/town-of-rutland-planning-commission-meeting-2-2021-12-09-2022-01-27-2023-01-19-2023-04-20-9/2030-03-21/
LOCATION:Town of Rutland Municipal Building\, 181Business Route 4\, Center Rutland\, VT\, 05736\, United States
CATEGORIES:Planning Commission
END:VEVENT
BEGIN:VEVENT
DTSTART;TZID=UTC:20300411T183000
DTEND;TZID=UTC:20300411T200000
DTSTAMP:20260421T164931
CREATED:20231221T182044Z
LAST-MODIFIED:20251209T145128Z
UID:10001668-1902162600-1902168000@www.rutlandtown.com
SUMMARY:Planning Commission Meeting
DESCRIPTION:The agenda will be published once it is finalized. \nClick HERE to join the meeting remotely.
URL:https://www.rutlandtown.com/event/town-of-rutland-planning-commission-meeting-2-2021-12-09-2022-01-27-2023-01-19-2023-04-20-9/2030-04-11/
LOCATION:Town of Rutland Municipal Building\, 181Business Route 4\, Center Rutland\, VT\, 05736\, United States
CATEGORIES:Planning Commission
END:VEVENT
BEGIN:VEVENT
DTSTART;TZID=UTC:20300502T183000
DTEND;TZID=UTC:20300502T200000
DTSTAMP:20260421T164931
CREATED:20231221T182044Z
LAST-MODIFIED:20251209T145128Z
UID:10001669-1903977000-1903982400@www.rutlandtown.com
SUMMARY:Planning Commission Meeting
DESCRIPTION:The agenda will be published once it is finalized. \nClick HERE to join the meeting remotely.
URL:https://www.rutlandtown.com/event/town-of-rutland-planning-commission-meeting-2-2021-12-09-2022-01-27-2023-01-19-2023-04-20-9/2030-05-02/
LOCATION:Town of Rutland Municipal Building\, 181Business Route 4\, Center Rutland\, VT\, 05736\, United States
CATEGORIES:Planning Commission
END:VEVENT
BEGIN:VEVENT
DTSTART;TZID=UTC:20300523T183000
DTEND;TZID=UTC:20300523T200000
DTSTAMP:20260421T164931
CREATED:20231221T182044Z
LAST-MODIFIED:20251209T145128Z
UID:10001670-1905791400-1905796800@www.rutlandtown.com
SUMMARY:Planning Commission Meeting
DESCRIPTION:The agenda will be published once it is finalized. \nClick HERE to join the meeting remotely.
URL:https://www.rutlandtown.com/event/town-of-rutland-planning-commission-meeting-2-2021-12-09-2022-01-27-2023-01-19-2023-04-20-9/2030-05-23/
LOCATION:Town of Rutland Municipal Building\, 181Business Route 4\, Center Rutland\, VT\, 05736\, United States
CATEGORIES:Planning Commission
END:VEVENT
BEGIN:VEVENT
DTSTART;TZID=UTC:20300613T183000
DTEND;TZID=UTC:20300613T200000
DTSTAMP:20260421T164931
CREATED:20231221T182044Z
LAST-MODIFIED:20251209T145128Z
UID:10001671-1907605800-1907611200@www.rutlandtown.com
SUMMARY:Planning Commission Meeting
DESCRIPTION:The agenda will be published once it is finalized. \nClick HERE to join the meeting remotely.
URL:https://www.rutlandtown.com/event/town-of-rutland-planning-commission-meeting-2-2021-12-09-2022-01-27-2023-01-19-2023-04-20-9/2030-06-13/
LOCATION:Town of Rutland Municipal Building\, 181Business Route 4\, Center Rutland\, VT\, 05736\, United States
CATEGORIES:Planning Commission
END:VEVENT
BEGIN:VEVENT
DTSTART;TZID=UTC:20300704T183000
DTEND;TZID=UTC:20300704T200000
DTSTAMP:20260421T164931
CREATED:20231221T182044Z
LAST-MODIFIED:20251209T145128Z
UID:10001672-1909420200-1909425600@www.rutlandtown.com
SUMMARY:Planning Commission Meeting
DESCRIPTION:The agenda will be published once it is finalized. \nClick HERE to join the meeting remotely.
URL:https://www.rutlandtown.com/event/town-of-rutland-planning-commission-meeting-2-2021-12-09-2022-01-27-2023-01-19-2023-04-20-9/2030-07-04/
LOCATION:Town of Rutland Municipal Building\, 181Business Route 4\, Center Rutland\, VT\, 05736\, United States
CATEGORIES:Planning Commission
END:VEVENT
BEGIN:VEVENT
DTSTART;TZID=UTC:20300725T183000
DTEND;TZID=UTC:20300725T200000
DTSTAMP:20260421T164931
CREATED:20231221T182044Z
LAST-MODIFIED:20251209T145128Z
UID:10001673-1911234600-1911240000@www.rutlandtown.com
SUMMARY:Planning Commission Meeting
DESCRIPTION:The agenda will be published once it is finalized. \nClick HERE to join the meeting remotely.
URL:https://www.rutlandtown.com/event/town-of-rutland-planning-commission-meeting-2-2021-12-09-2022-01-27-2023-01-19-2023-04-20-9/2030-07-25/
LOCATION:Town of Rutland Municipal Building\, 181Business Route 4\, Center Rutland\, VT\, 05736\, United States
CATEGORIES:Planning Commission
END:VEVENT
BEGIN:VEVENT
DTSTART;TZID=UTC:20300815T183000
DTEND;TZID=UTC:20300815T200000
DTSTAMP:20260421T164931
CREATED:20231221T182044Z
LAST-MODIFIED:20251209T145128Z
UID:10001674-1913049000-1913054400@www.rutlandtown.com
SUMMARY:Planning Commission Meeting
DESCRIPTION:The agenda will be published once it is finalized. \nClick HERE to join the meeting remotely.
URL:https://www.rutlandtown.com/event/town-of-rutland-planning-commission-meeting-2-2021-12-09-2022-01-27-2023-01-19-2023-04-20-9/2030-08-15/
LOCATION:Town of Rutland Municipal Building\, 181Business Route 4\, Center Rutland\, VT\, 05736\, United States
CATEGORIES:Planning Commission
END:VEVENT
BEGIN:VEVENT
DTSTART;TZID=UTC:20300905T183000
DTEND;TZID=UTC:20300905T200000
DTSTAMP:20260421T164931
CREATED:20231221T182044Z
LAST-MODIFIED:20251209T145128Z
UID:10001675-1914863400-1914868800@www.rutlandtown.com
SUMMARY:Planning Commission Meeting
DESCRIPTION:The agenda will be published once it is finalized. \nClick HERE to join the meeting remotely.
URL:https://www.rutlandtown.com/event/town-of-rutland-planning-commission-meeting-2-2021-12-09-2022-01-27-2023-01-19-2023-04-20-9/2030-09-05/
LOCATION:Town of Rutland Municipal Building\, 181Business Route 4\, Center Rutland\, VT\, 05736\, United States
CATEGORIES:Planning Commission
END:VEVENT
BEGIN:VEVENT
DTSTART;TZID=UTC:20300926T183000
DTEND;TZID=UTC:20300926T200000
DTSTAMP:20260421T164931
CREATED:20231221T182044Z
LAST-MODIFIED:20251209T145128Z
UID:10001676-1916677800-1916683200@www.rutlandtown.com
SUMMARY:Planning Commission Meeting
DESCRIPTION:The agenda will be published once it is finalized. \nClick HERE to join the meeting remotely.
URL:https://www.rutlandtown.com/event/town-of-rutland-planning-commission-meeting-2-2021-12-09-2022-01-27-2023-01-19-2023-04-20-9/2030-09-26/
LOCATION:Town of Rutland Municipal Building\, 181Business Route 4\, Center Rutland\, VT\, 05736\, United States
CATEGORIES:Planning Commission
END:VEVENT
END:VCALENDAR