BEGIN:VCALENDAR
VERSION:2.0
PRODID:-//The Town of Rutland, Vermont - ECPv6.15.20//NONSGML v1.0//EN
CALSCALE:GREGORIAN
METHOD:PUBLISH
X-ORIGINAL-URL:https://www.rutlandtown.com
X-WR-CALDESC:Events for The Town of Rutland, Vermont
REFRESH-INTERVAL;VALUE=DURATION:PT1H
X-Robots-Tag:noindex
X-PUBLISHED-TTL:PT1H
BEGIN:VTIMEZONE
TZID:UTC
BEGIN:STANDARD
TZOFFSETFROM:+0000
TZOFFSETTO:+0000
TZNAME:UTC
DTSTART:20290101T000000
END:STANDARD
END:VTIMEZONE
BEGIN:VEVENT
DTSTART;TZID=UTC:20300704T183000
DTEND;TZID=UTC:20300704T200000
DTSTAMP:20260422T215150
CREATED:20231221T182044Z
LAST-MODIFIED:20251209T145128Z
UID:10001672-1909420200-1909425600@www.rutlandtown.com
SUMMARY:Planning Commission Meeting
DESCRIPTION:The agenda will be published once it is finalized. \nClick HERE to join the meeting remotely.
URL:https://www.rutlandtown.com/event/town-of-rutland-planning-commission-meeting-2-2021-12-09-2022-01-27-2023-01-19-2023-04-20-9/2030-07-04/
LOCATION:Town of Rutland Municipal Building\, 181Business Route 4\, Center Rutland\, VT\, 05736\, United States
CATEGORIES:Planning Commission
END:VEVENT
BEGIN:VEVENT
DTSTART;TZID=UTC:20300725T183000
DTEND;TZID=UTC:20300725T200000
DTSTAMP:20260422T215150
CREATED:20231221T182044Z
LAST-MODIFIED:20251209T145128Z
UID:10001673-1911234600-1911240000@www.rutlandtown.com
SUMMARY:Planning Commission Meeting
DESCRIPTION:The agenda will be published once it is finalized. \nClick HERE to join the meeting remotely.
URL:https://www.rutlandtown.com/event/town-of-rutland-planning-commission-meeting-2-2021-12-09-2022-01-27-2023-01-19-2023-04-20-9/2030-07-25/
LOCATION:Town of Rutland Municipal Building\, 181Business Route 4\, Center Rutland\, VT\, 05736\, United States
CATEGORIES:Planning Commission
END:VEVENT
BEGIN:VEVENT
DTSTART;TZID=UTC:20300815T183000
DTEND;TZID=UTC:20300815T200000
DTSTAMP:20260422T215150
CREATED:20231221T182044Z
LAST-MODIFIED:20251209T145128Z
UID:10001674-1913049000-1913054400@www.rutlandtown.com
SUMMARY:Planning Commission Meeting
DESCRIPTION:The agenda will be published once it is finalized. \nClick HERE to join the meeting remotely.
URL:https://www.rutlandtown.com/event/town-of-rutland-planning-commission-meeting-2-2021-12-09-2022-01-27-2023-01-19-2023-04-20-9/2030-08-15/
LOCATION:Town of Rutland Municipal Building\, 181Business Route 4\, Center Rutland\, VT\, 05736\, United States
CATEGORIES:Planning Commission
END:VEVENT
BEGIN:VEVENT
DTSTART;TZID=UTC:20300905T183000
DTEND;TZID=UTC:20300905T200000
DTSTAMP:20260422T215150
CREATED:20231221T182044Z
LAST-MODIFIED:20251209T145128Z
UID:10001675-1914863400-1914868800@www.rutlandtown.com
SUMMARY:Planning Commission Meeting
DESCRIPTION:The agenda will be published once it is finalized. \nClick HERE to join the meeting remotely.
URL:https://www.rutlandtown.com/event/town-of-rutland-planning-commission-meeting-2-2021-12-09-2022-01-27-2023-01-19-2023-04-20-9/2030-09-05/
LOCATION:Town of Rutland Municipal Building\, 181Business Route 4\, Center Rutland\, VT\, 05736\, United States
CATEGORIES:Planning Commission
END:VEVENT
BEGIN:VEVENT
DTSTART;TZID=UTC:20300926T183000
DTEND;TZID=UTC:20300926T200000
DTSTAMP:20260422T215150
CREATED:20231221T182044Z
LAST-MODIFIED:20251209T145128Z
UID:10001676-1916677800-1916683200@www.rutlandtown.com
SUMMARY:Planning Commission Meeting
DESCRIPTION:The agenda will be published once it is finalized. \nClick HERE to join the meeting remotely.
URL:https://www.rutlandtown.com/event/town-of-rutland-planning-commission-meeting-2-2021-12-09-2022-01-27-2023-01-19-2023-04-20-9/2030-09-26/
LOCATION:Town of Rutland Municipal Building\, 181Business Route 4\, Center Rutland\, VT\, 05736\, United States
CATEGORIES:Planning Commission
END:VEVENT
BEGIN:VEVENT
DTSTART;TZID=UTC:20301017T183000
DTEND;TZID=UTC:20301017T200000
DTSTAMP:20260422T215150
CREATED:20231221T182044Z
LAST-MODIFIED:20251209T145128Z
UID:10001677-1918492200-1918497600@www.rutlandtown.com
SUMMARY:Planning Commission Meeting
DESCRIPTION:The agenda will be published once it is finalized. \nClick HERE to join the meeting remotely.
URL:https://www.rutlandtown.com/event/town-of-rutland-planning-commission-meeting-2-2021-12-09-2022-01-27-2023-01-19-2023-04-20-9/2030-10-17/
LOCATION:Town of Rutland Municipal Building\, 181Business Route 4\, Center Rutland\, VT\, 05736\, United States
CATEGORIES:Planning Commission
END:VEVENT
BEGIN:VEVENT
DTSTART;TZID=UTC:20301107T183000
DTEND;TZID=UTC:20301107T200000
DTSTAMP:20260422T215150
CREATED:20231221T182044Z
LAST-MODIFIED:20251209T145128Z
UID:10001678-1920306600-1920312000@www.rutlandtown.com
SUMMARY:Planning Commission Meeting
DESCRIPTION:The agenda will be published once it is finalized. \nClick HERE to join the meeting remotely.
URL:https://www.rutlandtown.com/event/town-of-rutland-planning-commission-meeting-2-2021-12-09-2022-01-27-2023-01-19-2023-04-20-9/2030-11-07/
LOCATION:Town of Rutland Municipal Building\, 181Business Route 4\, Center Rutland\, VT\, 05736\, United States
CATEGORIES:Planning Commission
END:VEVENT
BEGIN:VEVENT
DTSTART;TZID=UTC:20301128T183000
DTEND;TZID=UTC:20301128T200000
DTSTAMP:20260422T215150
CREATED:20231221T182044Z
LAST-MODIFIED:20251209T145128Z
UID:10001679-1922121000-1922126400@www.rutlandtown.com
SUMMARY:Planning Commission Meeting
DESCRIPTION:The agenda will be published once it is finalized. \nClick HERE to join the meeting remotely.
URL:https://www.rutlandtown.com/event/town-of-rutland-planning-commission-meeting-2-2021-12-09-2022-01-27-2023-01-19-2023-04-20-9/2030-11-28/
LOCATION:Town of Rutland Municipal Building\, 181Business Route 4\, Center Rutland\, VT\, 05736\, United States
CATEGORIES:Planning Commission
END:VEVENT
BEGIN:VEVENT
DTSTART;TZID=UTC:20301219T183000
DTEND;TZID=UTC:20301219T200000
DTSTAMP:20260422T215150
CREATED:20231221T182044Z
LAST-MODIFIED:20251209T145128Z
UID:10001685-1923935400-1923940800@www.rutlandtown.com
SUMMARY:Planning Commission Meeting
DESCRIPTION:The agenda will be published once it is finalized. \nClick HERE to join the meeting remotely.
URL:https://www.rutlandtown.com/event/town-of-rutland-planning-commission-meeting-2-2021-12-09-2022-01-27-2023-01-19-2023-04-20-9/2030-12-19/
LOCATION:Town of Rutland Municipal Building\, 181Business Route 4\, Center Rutland\, VT\, 05736\, United States
CATEGORIES:Planning Commission
END:VEVENT
BEGIN:VEVENT
DTSTART;TZID=UTC:20310109T183000
DTEND;TZID=UTC:20310109T200000
DTSTAMP:20260422T215150
CREATED:20231221T182044Z
LAST-MODIFIED:20251209T145128Z
UID:10001694-1925749800-1925755200@www.rutlandtown.com
SUMMARY:Planning Commission Meeting
DESCRIPTION:The agenda will be published once it is finalized. \nClick HERE to join the meeting remotely.
URL:https://www.rutlandtown.com/event/town-of-rutland-planning-commission-meeting-2-2021-12-09-2022-01-27-2023-01-19-2023-04-20-9/2031-01-09/
LOCATION:Town of Rutland Municipal Building\, 181Business Route 4\, Center Rutland\, VT\, 05736\, United States
CATEGORIES:Planning Commission
END:VEVENT
BEGIN:VEVENT
DTSTART;TZID=UTC:20310130T183000
DTEND;TZID=UTC:20310130T200000
DTSTAMP:20260422T215150
CREATED:20231221T182044Z
LAST-MODIFIED:20251209T145128Z
UID:10001703-1927564200-1927569600@www.rutlandtown.com
SUMMARY:Planning Commission Meeting
DESCRIPTION:The agenda will be published once it is finalized. \nClick HERE to join the meeting remotely.
URL:https://www.rutlandtown.com/event/town-of-rutland-planning-commission-meeting-2-2021-12-09-2022-01-27-2023-01-19-2023-04-20-9/2031-01-30/
LOCATION:Town of Rutland Municipal Building\, 181Business Route 4\, Center Rutland\, VT\, 05736\, United States
CATEGORIES:Planning Commission
END:VEVENT
BEGIN:VEVENT
DTSTART;TZID=UTC:20310220T183000
DTEND;TZID=UTC:20310220T200000
DTSTAMP:20260422T215150
CREATED:20231221T182044Z
LAST-MODIFIED:20251209T145128Z
UID:10001710-1929378600-1929384000@www.rutlandtown.com
SUMMARY:Planning Commission Meeting
DESCRIPTION:The agenda will be published once it is finalized. \nClick HERE to join the meeting remotely.
URL:https://www.rutlandtown.com/event/town-of-rutland-planning-commission-meeting-2-2021-12-09-2022-01-27-2023-01-19-2023-04-20-9/2031-02-20/
LOCATION:Town of Rutland Municipal Building\, 181Business Route 4\, Center Rutland\, VT\, 05736\, United States
CATEGORIES:Planning Commission
END:VEVENT
BEGIN:VEVENT
DTSTART;TZID=UTC:20310313T183000
DTEND;TZID=UTC:20310313T200000
DTSTAMP:20260422T215150
CREATED:20231221T182044Z
LAST-MODIFIED:20251209T145128Z
UID:10001713-1931193000-1931198400@www.rutlandtown.com
SUMMARY:Planning Commission Meeting
DESCRIPTION:The agenda will be published once it is finalized. \nClick HERE to join the meeting remotely.
URL:https://www.rutlandtown.com/event/town-of-rutland-planning-commission-meeting-2-2021-12-09-2022-01-27-2023-01-19-2023-04-20-9/2031-03-13/
LOCATION:Town of Rutland Municipal Building\, 181Business Route 4\, Center Rutland\, VT\, 05736\, United States
CATEGORIES:Planning Commission
END:VEVENT
END:VCALENDAR