BEGIN:VCALENDAR
VERSION:2.0
PRODID:-//The Town of Rutland, Vermont - ECPv6.15.20//NONSGML v1.0//EN
CALSCALE:GREGORIAN
METHOD:PUBLISH
X-WR-CALNAME:The Town of Rutland, Vermont
X-ORIGINAL-URL:https://www.rutlandtown.com
X-WR-CALDESC:Events for The Town of Rutland, Vermont
REFRESH-INTERVAL;VALUE=DURATION:PT1H
X-Robots-Tag:noindex
X-PUBLISHED-TTL:PT1H
BEGIN:VTIMEZONE
TZID:UTC
BEGIN:STANDARD
TZOFFSETFROM:+0000
TZOFFSETTO:+0000
TZNAME:UTC
DTSTART:20250101T000000
END:STANDARD
END:VTIMEZONE
BEGIN:VEVENT
DTSTART;TZID=UTC:20260423T183000
DTEND;TZID=UTC:20260423T200000
DTSTAMP:20260421T120140
CREATED:20260402T182244Z
LAST-MODIFIED:20260420T185511Z
UID:10001599-1776969000-1776974400@www.rutlandtown.com
SUMMARY:Planning Commission Meeting & Subdivision Bylaw Hearing
DESCRIPTION:Click HERE to join the meeting remotely. \nDRAFT Sub Division Bylaws \n2026 Amendment Notice \nRutland Town Subdivision Bylaws Report \nPlanning Commission Agenda 4-23-2026 \nTOWN OF RUTLAND PLANNING COMMISSION AGENDA \nThursday\, April 23\, 2026  \nLocation: Rutland Town Municipal Town Hall and Zoom Conferencing  \nOpen Meeting – 6:30 PM   \nTo participate via Zoom\, please call (646) 558-8656 or visit zoom.us/join and enter meeting ID 985 4127 6671.  \nCall to Order/ Pledge of Allegiance \nApproval of Agenda \nPublic Hearing on Repeal of Subdivision Ordinance / Replace with Subdivision Bylaw \nPublic Comment \nNew Business \n\nAction on Repeal of Subdivision Ordinance / Replace with Subdivision Bylaw\nOrin Thomas subdivision application\, Rt. 7\nSameSun solar project notice\, Rt. 4/Bellevue Lane\n\nOld Business \n\nAssignments for upcoming pocket park work\n\nAnnouncements \n\nSelectboard meeting(s) report Rutland City Radio Tower license • West Rutland notice\n\nMinutes \n• April 2\, 2026 \nAdjournment
URL:https://www.rutlandtown.com/event/town-of-rutland-planning-commission-meeting-2-2021-12-09-2022-01-27-2023-01-19-2023-04-20-9-41/
LOCATION:Town of Rutland Municipal Building\, 181Business Route 4\, Center Rutland\, VT\, 05736\, United States
CATEGORIES:Planning Commission
END:VEVENT
END:VCALENDAR